BEGIN:VCALENDAR
VERSION:2.0
PRODID:-//Glenelg St Paul Congregation SA - ECPv6.15.14//NONSGML v1.0//EN
CALSCALE:GREGORIAN
METHOD:PUBLISH
X-WR-CALNAME:Glenelg St Paul Congregation SA
X-ORIGINAL-URL:https://glenelg.lutheran.org.au
X-WR-CALDESC:Events for Glenelg St Paul Congregation SA
REFRESH-INTERVAL;VALUE=DURATION:PT1H
X-Robots-Tag:noindex
X-PUBLISHED-TTL:PT1H
BEGIN:VTIMEZONE
TZID:Australia/Adelaide
BEGIN:STANDARD
TZOFFSETFROM:+1030
TZOFFSETTO:+0930
TZNAME:ACST
DTSTART:20250405T163000
END:STANDARD
BEGIN:DAYLIGHT
TZOFFSETFROM:+0930
TZOFFSETTO:+1030
TZNAME:ACDT
DTSTART:20251004T163000
END:DAYLIGHT
BEGIN:STANDARD
TZOFFSETFROM:+1030
TZOFFSETTO:+0930
TZNAME:ACST
DTSTART:20260404T163000
END:STANDARD
BEGIN:DAYLIGHT
TZOFFSETFROM:+0930
TZOFFSETTO:+1030
TZNAME:ACDT
DTSTART:20261003T163000
END:DAYLIGHT
BEGIN:STANDARD
TZOFFSETFROM:+1030
TZOFFSETTO:+0930
TZNAME:ACST
DTSTART:20270403T163000
END:STANDARD
BEGIN:DAYLIGHT
TZOFFSETFROM:+0930
TZOFFSETTO:+1030
TZNAME:ACDT
DTSTART:20271002T163000
END:DAYLIGHT
END:VTIMEZONE
BEGIN:VEVENT
DTSTART;TZID=Australia/Adelaide:20260405T093000
DTEND;TZID=Australia/Adelaide:20260405T103000
DTSTAMP:20260424T043403
CREATED:20250122T022903Z
LAST-MODIFIED:20250701T023926Z
UID:10012735-1775381400-1775385000@glenelg.lutheran.org.au
SUMMARY:Faith Kids
DESCRIPTION:Faith Kids occurs each Sunday during school terms for children 0–12 years old.
URL:https://glenelg.lutheran.org.au/event/faith-kids-3/2026-04-05/
LOCATION:St Paul’s Church\, 50 Brighton Road\, Glenelg\, 5045
CATEGORIES:Activities,Events,Worship
ATTACH;FMTTYPE=image/jpeg:https://glenelg.lutheran.org.au/wp-content/uploads/2021/10/kids-st-pauls.jpg
GEO:-34.9807774;138.5207807
X-APPLE-STRUCTURED-LOCATION;VALUE=URI;X-ADDRESS=St Paul’s Church 50 Brighton Road Glenelg 5045;X-APPLE-RADIUS=500;X-TITLE=50 Brighton Road\, Glenelg:geo:138.5207807,-34.9807774
END:VEVENT
BEGIN:VEVENT
DTSTART;TZID=Australia/Adelaide:20260405T093000
DTEND;TZID=Australia/Adelaide:20260405T113000
DTSTAMP:20260424T043403
CREATED:20211015T041553Z
LAST-MODIFIED:20240226T063907Z
UID:10002672-1775381400-1775388600@glenelg.lutheran.org.au
SUMMARY:Worship Service
DESCRIPTION:Worship is at the heart of our life at St Paul’s. Every Sunday at 9.30am\, we meet with God\, who comes to us through his word to bless us. \nSt Paul’s worships as a family\, so we have one Sunday service each Sunday. We use a variety of musicians\, from organists to a band. We sing a range of traditional hymns and modern songs. \n\n\n\n\n\n\n\n\n\n\n\n\n\n\n\n\n\n\n\n\n\n\n\n\n\n\n\n\n\n\nIntergenerational ministry is important to us. This means we strive to involve all generations in worship\, including children so that we can learn from each other and grow together in faith. \nWe have activity packs for children during the service and resources to help families engage in worship together. \nAfter communion\, we encourage those under 12 to join us in ‘Faith Kids’ – a more intentional time of growing in the faith for children. \nWe welcome you to worship with us.
URL:https://glenelg.lutheran.org.au/event/worship-service-2021-10-24/2026-04-05/
LOCATION:St Paul’s Church\, 50 Brighton Road\, Glenelg\, 5045
CATEGORIES:Activities,Events,Worship
ATTACH;FMTTYPE=image/jpeg:https://glenelg.lutheran.org.au/wp-content/uploads/2021/10/worship-glenelg.jpg
GEO:-34.9807774;138.5207807
X-APPLE-STRUCTURED-LOCATION;VALUE=URI;X-ADDRESS=St Paul’s Church 50 Brighton Road Glenelg 5045;X-APPLE-RADIUS=500;X-TITLE=50 Brighton Road\, Glenelg:geo:138.5207807,-34.9807774
END:VEVENT
END:VCALENDAR