BEGIN:VCALENDAR
VERSION:2.0
PRODID:-//Glenelg St Paul Congregation SA - ECPv6.15.14//NONSGML v1.0//EN
CALSCALE:GREGORIAN
METHOD:PUBLISH
X-WR-CALNAME:Glenelg St Paul Congregation SA
X-ORIGINAL-URL:https://glenelg.lutheran.org.au
X-WR-CALDESC:Events for Glenelg St Paul Congregation SA
REFRESH-INTERVAL;VALUE=DURATION:PT1H
X-Robots-Tag:noindex
X-PUBLISHED-TTL:PT1H
BEGIN:VTIMEZONE
TZID:Australia/Adelaide
BEGIN:STANDARD
TZOFFSETFROM:+1030
TZOFFSETTO:+0930
TZNAME:ACST
DTSTART:20250405T163000
END:STANDARD
BEGIN:DAYLIGHT
TZOFFSETFROM:+0930
TZOFFSETTO:+1030
TZNAME:ACDT
DTSTART:20251004T163000
END:DAYLIGHT
BEGIN:STANDARD
TZOFFSETFROM:+1030
TZOFFSETTO:+0930
TZNAME:ACST
DTSTART:20260404T163000
END:STANDARD
BEGIN:DAYLIGHT
TZOFFSETFROM:+0930
TZOFFSETTO:+1030
TZNAME:ACDT
DTSTART:20261003T163000
END:DAYLIGHT
BEGIN:STANDARD
TZOFFSETFROM:+1030
TZOFFSETTO:+0930
TZNAME:ACST
DTSTART:20270403T163000
END:STANDARD
BEGIN:DAYLIGHT
TZOFFSETFROM:+0930
TZOFFSETTO:+1030
TZNAME:ACDT
DTSTART:20271002T163000
END:DAYLIGHT
END:VTIMEZONE
BEGIN:VEVENT
DTSTART;TZID=Australia/Adelaide:20260416T093000
DTEND;TZID=Australia/Adelaide:20260416T103000
DTSTAMP:20260424T043404
CREATED:20240225T204606Z
LAST-MODIFIED:20250701T022616Z
UID:10008007-1776331800-1776335400@glenelg.lutheran.org.au
SUMMARY:Prayer Group
DESCRIPTION:A faithful group of people who gather together Thursdays at 9.30am in the church to care for\, support and pray for the needs of one another\, the church and the world.
URL:https://glenelg.lutheran.org.au/event/prayer-group-2/2026-04-16/
LOCATION:St Paul’s Church\, 50 Brighton Road\, Glenelg\, 5045
CATEGORIES:Activities,Events
ATTACH;FMTTYPE=image/jpeg:https://glenelg.lutheran.org.au/wp-content/uploads/2024/02/My-Post-4.jpeg
GEO:-34.9807774;138.5207807
X-APPLE-STRUCTURED-LOCATION;VALUE=URI;X-ADDRESS=St Paul’s Church 50 Brighton Road Glenelg 5045;X-APPLE-RADIUS=500;X-TITLE=50 Brighton Road\, Glenelg:geo:138.5207807,-34.9807774
END:VEVENT
END:VCALENDAR