BEGIN:VCALENDAR
VERSION:2.0
PRODID:-//Glenelg St Paul Congregation SA - ECPv6.15.14//NONSGML v1.0//EN
CALSCALE:GREGORIAN
METHOD:PUBLISH
X-WR-CALNAME:Glenelg St Paul Congregation SA
X-ORIGINAL-URL:https://glenelg.lutheran.org.au
X-WR-CALDESC:Events for Glenelg St Paul Congregation SA
REFRESH-INTERVAL;VALUE=DURATION:PT1H
X-Robots-Tag:noindex
X-PUBLISHED-TTL:PT1H
BEGIN:VTIMEZONE
TZID:Australia/Adelaide
BEGIN:STANDARD
TZOFFSETFROM:+1030
TZOFFSETTO:+0930
TZNAME:ACST
DTSTART:20250405T163000
END:STANDARD
BEGIN:DAYLIGHT
TZOFFSETFROM:+0930
TZOFFSETTO:+1030
TZNAME:ACDT
DTSTART:20251004T163000
END:DAYLIGHT
BEGIN:STANDARD
TZOFFSETFROM:+1030
TZOFFSETTO:+0930
TZNAME:ACST
DTSTART:20260404T163000
END:STANDARD
BEGIN:DAYLIGHT
TZOFFSETFROM:+0930
TZOFFSETTO:+1030
TZNAME:ACDT
DTSTART:20261003T163000
END:DAYLIGHT
BEGIN:STANDARD
TZOFFSETFROM:+1030
TZOFFSETTO:+0930
TZNAME:ACST
DTSTART:20270403T163000
END:STANDARD
BEGIN:DAYLIGHT
TZOFFSETFROM:+0930
TZOFFSETTO:+1030
TZNAME:ACDT
DTSTART:20271002T163000
END:DAYLIGHT
END:VTIMEZONE
BEGIN:VEVENT
DTSTART;TZID=Australia/Adelaide:20260429T110000
DTEND;TZID=Australia/Adelaide:20260429T140000
DTSTAMP:20260424T043404
CREATED:20211015T051830Z
LAST-MODIFIED:20260204T225045Z
UID:10001883-1777460400-1777471200@glenelg.lutheran.org.au
SUMMARY:Community Care
DESCRIPTION:St Paul’s Community Care ministry is a not-for-profit arm of the congregation that has been reaching out to the local community for decades. \n\n\n\n\n\n\nLocated in our church hall\, our Emergency Food Relief provides emergency food relief and basic toiletries. Hours of operation are Wednesday from 11.00pm to 2.00pm.
URL:https://glenelg.lutheran.org.au/event/community-care-op-shop-and-food-care/2026-04-29/
LOCATION:St Paul’s Hall
CATEGORIES:Activities,Events,Op shop and food relief
ATTACH;FMTTYPE=:
END:VEVENT
BEGIN:VEVENT
DTSTART;TZID=Australia/Adelaide:20260429T110000
DTEND;TZID=Australia/Adelaide:20260429T140000
DTSTAMP:20260424T043404
CREATED:20250122T001505Z
LAST-MODIFIED:20250701T024026Z
UID:10011208-1777460400-1777471200@glenelg.lutheran.org.au
SUMMARY:Community Care-Emergency Food Relief
DESCRIPTION:St Paul’s Community Care ministry is a not-for-profit arm of the congregation that has been reaching out to the local community for decades. \n\n\n\n\n\n\nLocated in Martin Luther House next to the church\, our Emergency Food Relief provides emergency food relief and basic toiletries. Hours of operation are Wednesday from 11.00pm to 2.00pm. \nOur op shop supplies clothing and household items at minimal costs. All money received funds food care supplies. Donations for the shop are welcome during opening hours. Regrettably\, we cannot receive electrical goods or large furniture. \n\n\n\nHours of operation are Wednesday from 11.00pm to 2.00pm.
URL:https://glenelg.lutheran.org.au/event/community-care-emergency-food-relief/2026-04-29/
CATEGORIES:Activities,Events,Op shop and food relief
ATTACH;FMTTYPE=image/jpeg:https://glenelg.lutheran.org.au/wp-content/uploads/2022/03/J3A1530.jpg
END:VEVENT
BEGIN:VEVENT
DTSTART;TZID=Australia/Adelaide:20260429T113000
DTEND;TZID=Australia/Adelaide:20260429T130000
DTSTAMP:20260424T043404
CREATED:20250729T013112Z
LAST-MODIFIED:20250729T013112Z
UID:10014787-1777462200-1777467600@glenelg.lutheran.org.au
SUMMARY:Community Coffee and Cake
DESCRIPTION:Our Congregation along with the support of Immanuel College Year 9 students would love to invite you to join us for our free coffee and cake.  These are held on the 1st\, 3rd and 5th Wednesdays of each month\, 11:30am-1:00pm. (Except school holidays) Immanuel Year 9 students help to prepare and serve the food.  Tea and coffee are also available.  Our doors are open for all people to come and join us.
URL:https://glenelg.lutheran.org.au/event/community-coffee-and-cake-3-2/2026-04-29/
CATEGORIES:Activities,Events,Op shop and food relief
ATTACH;FMTTYPE=image/jpeg:https://glenelg.lutheran.org.au/wp-content/uploads/2025/03/20250319_112715.jpg
END:VEVENT
BEGIN:VEVENT
DTSTART;TZID=Australia/Adelaide:20260429T113000
DTEND;TZID=Australia/Adelaide:20260429T130000
DTSTAMP:20260424T043404
CREATED:20251028T003018Z
LAST-MODIFIED:20251028T003018Z
UID:10015633-1777462200-1777467600@glenelg.lutheran.org.au
SUMMARY:Community Coffee and Cake
DESCRIPTION:Our Congregation along with the support of Immanuel College Year 9 students would love to invite you to join us for our free coffee and cake.  These are held on the 1st\, 3rd and 5th Wednesdays of each month\, 11:30am-1:00pm. (Except school holidays) Immanuel Year 9 students help to prepare and serve the food.  Tea and coffee are also available.  Our doors are open for all people to come and join us.
URL:https://glenelg.lutheran.org.au/event/community-coffee-and-cake/2026-04-29/
CATEGORIES:Activities,Events,Op shop and food relief
ATTACH;FMTTYPE=image/jpeg:https://glenelg.lutheran.org.au/wp-content/uploads/2025/03/20250319_112715.jpg
END:VEVENT
END:VCALENDAR