BEGIN:VCALENDAR
VERSION:2.0
PRODID:-//Glenelg St Paul Congregation SA - ECPv6.15.14//NONSGML v1.0//EN
CALSCALE:GREGORIAN
METHOD:PUBLISH
X-WR-CALNAME:Glenelg St Paul Congregation SA
X-ORIGINAL-URL:https://glenelg.lutheran.org.au
X-WR-CALDESC:Events for Glenelg St Paul Congregation SA
REFRESH-INTERVAL;VALUE=DURATION:PT1H
X-Robots-Tag:noindex
X-PUBLISHED-TTL:PT1H
BEGIN:VTIMEZONE
TZID:Australia/Adelaide
BEGIN:STANDARD
TZOFFSETFROM:+1030
TZOFFSETTO:+0930
TZNAME:ACST
DTSTART:20250405T163000
END:STANDARD
BEGIN:DAYLIGHT
TZOFFSETFROM:+0930
TZOFFSETTO:+1030
TZNAME:ACDT
DTSTART:20251004T163000
END:DAYLIGHT
BEGIN:STANDARD
TZOFFSETFROM:+1030
TZOFFSETTO:+0930
TZNAME:ACST
DTSTART:20260404T163000
END:STANDARD
BEGIN:DAYLIGHT
TZOFFSETFROM:+0930
TZOFFSETTO:+1030
TZNAME:ACDT
DTSTART:20261003T163000
END:DAYLIGHT
BEGIN:STANDARD
TZOFFSETFROM:+1030
TZOFFSETTO:+0930
TZNAME:ACST
DTSTART:20270403T163000
END:STANDARD
BEGIN:DAYLIGHT
TZOFFSETFROM:+0930
TZOFFSETTO:+1030
TZNAME:ACDT
DTSTART:20271002T163000
END:DAYLIGHT
END:VTIMEZONE
BEGIN:VEVENT
DTSTART;TZID=Australia/Adelaide:20260424T183000
DTEND;TZID=Australia/Adelaide:20260424T203000
DTSTAMP:20260424T045359
CREATED:20211015T051136Z
LAST-MODIFIED:20250122T055945Z
UID:10011046-1777055400-1777062600@glenelg.lutheran.org.au
SUMMARY:Men's Fellowship
DESCRIPTION:St Paul’s Men’s Fellowship is a safe and welcoming place men can support one another and grow together. We are always looking to build relationships with other men from beyond the congregation\, so everyone is welcome! We meet on the fourth Friday of the month over various activities and always manage to have a great time.
URL:https://glenelg.lutheran.org.au/event/mens-fellowship/2026-04-24/
LOCATION:St Paul’s Church\, 50 Brighton Road\, Glenelg\, 5045
CATEGORIES:Activities
ATTACH;FMTTYPE=image/jpeg:https://glenelg.lutheran.org.au/wp-content/uploads/2021/10/mens-fellowship-st-pauls-2.jpg
GEO:-34.9807774;138.5207807
X-APPLE-STRUCTURED-LOCATION;VALUE=URI;X-ADDRESS=St Paul’s Church 50 Brighton Road Glenelg 5045;X-APPLE-RADIUS=500;X-TITLE=50 Brighton Road\, Glenelg:geo:138.5207807,-34.9807774
END:VEVENT
END:VCALENDAR