BEGIN:VCALENDAR
VERSION:2.0
PRODID:-//Glenelg St Paul Congregation SA - ECPv6.15.14//NONSGML v1.0//EN
CALSCALE:GREGORIAN
METHOD:PUBLISH
X-ORIGINAL-URL:https://glenelg.lutheran.org.au
X-WR-CALDESC:Events for Glenelg St Paul Congregation SA
REFRESH-INTERVAL;VALUE=DURATION:PT1H
X-Robots-Tag:noindex
X-PUBLISHED-TTL:PT1H
BEGIN:VTIMEZONE
TZID:Australia/Adelaide
BEGIN:STANDARD
TZOFFSETFROM:+1030
TZOFFSETTO:+0930
TZNAME:ACST
DTSTART:20250405T163000
END:STANDARD
BEGIN:DAYLIGHT
TZOFFSETFROM:+0930
TZOFFSETTO:+1030
TZNAME:ACDT
DTSTART:20251004T163000
END:DAYLIGHT
BEGIN:STANDARD
TZOFFSETFROM:+1030
TZOFFSETTO:+0930
TZNAME:ACST
DTSTART:20260404T163000
END:STANDARD
BEGIN:DAYLIGHT
TZOFFSETFROM:+0930
TZOFFSETTO:+1030
TZNAME:ACDT
DTSTART:20261003T163000
END:DAYLIGHT
BEGIN:STANDARD
TZOFFSETFROM:+1030
TZOFFSETTO:+0930
TZNAME:ACST
DTSTART:20270403T163000
END:STANDARD
BEGIN:DAYLIGHT
TZOFFSETFROM:+0930
TZOFFSETTO:+1030
TZNAME:ACDT
DTSTART:20271002T163000
END:DAYLIGHT
END:VTIMEZONE
BEGIN:VEVENT
DTSTART;TZID=Australia/Adelaide:20260426T093000
DTEND;TZID=Australia/Adelaide:20260426T103000
DTSTAMP:20260424T064928
CREATED:20250122T022903Z
LAST-MODIFIED:20250701T023926Z
UID:10012738-1777195800-1777199400@glenelg.lutheran.org.au
SUMMARY:Faith Kids
DESCRIPTION:Faith Kids occurs each Sunday during school terms for children 0–12 years old.
URL:https://glenelg.lutheran.org.au/event/faith-kids-3/2026-04-26/
LOCATION:St Paul’s Church\, 50 Brighton Road\, Glenelg\, 5045
CATEGORIES:Activities,Events,Worship
ATTACH;FMTTYPE=image/jpeg:https://glenelg.lutheran.org.au/wp-content/uploads/2021/10/kids-st-pauls.jpg
GEO:-34.9807774;138.5207807
X-APPLE-STRUCTURED-LOCATION;VALUE=URI;X-ADDRESS=St Paul’s Church 50 Brighton Road Glenelg 5045;X-APPLE-RADIUS=500;X-TITLE=50 Brighton Road\, Glenelg:geo:138.5207807,-34.9807774
END:VEVENT
BEGIN:VEVENT
DTSTART;TZID=Australia/Adelaide:20260503T093000
DTEND;TZID=Australia/Adelaide:20260503T103000
DTSTAMP:20260424T064928
CREATED:20250122T022903Z
LAST-MODIFIED:20250701T023926Z
UID:10012739-1777800600-1777804200@glenelg.lutheran.org.au
SUMMARY:Faith Kids
DESCRIPTION:Faith Kids occurs each Sunday during school terms for children 0–12 years old.
URL:https://glenelg.lutheran.org.au/event/faith-kids-3/2026-05-03/
LOCATION:St Paul’s Church\, 50 Brighton Road\, Glenelg\, 5045
CATEGORIES:Activities,Events,Worship
ATTACH;FMTTYPE=image/jpeg:https://glenelg.lutheran.org.au/wp-content/uploads/2021/10/kids-st-pauls.jpg
GEO:-34.9807774;138.5207807
X-APPLE-STRUCTURED-LOCATION;VALUE=URI;X-ADDRESS=St Paul’s Church 50 Brighton Road Glenelg 5045;X-APPLE-RADIUS=500;X-TITLE=50 Brighton Road\, Glenelg:geo:138.5207807,-34.9807774
END:VEVENT
BEGIN:VEVENT
DTSTART;TZID=Australia/Adelaide:20260510T093000
DTEND;TZID=Australia/Adelaide:20260510T103000
DTSTAMP:20260424T064928
CREATED:20250122T022903Z
LAST-MODIFIED:20250701T023926Z
UID:10012740-1778405400-1778409000@glenelg.lutheran.org.au
SUMMARY:Faith Kids
DESCRIPTION:Faith Kids occurs each Sunday during school terms for children 0–12 years old.
URL:https://glenelg.lutheran.org.au/event/faith-kids-3/2026-05-10/
LOCATION:St Paul’s Church\, 50 Brighton Road\, Glenelg\, 5045
CATEGORIES:Activities,Events,Worship
ATTACH;FMTTYPE=image/jpeg:https://glenelg.lutheran.org.au/wp-content/uploads/2021/10/kids-st-pauls.jpg
GEO:-34.9807774;138.5207807
X-APPLE-STRUCTURED-LOCATION;VALUE=URI;X-ADDRESS=St Paul’s Church 50 Brighton Road Glenelg 5045;X-APPLE-RADIUS=500;X-TITLE=50 Brighton Road\, Glenelg:geo:138.5207807,-34.9807774
END:VEVENT
BEGIN:VEVENT
DTSTART;TZID=Australia/Adelaide:20260517T093000
DTEND;TZID=Australia/Adelaide:20260517T103000
DTSTAMP:20260424T064928
CREATED:20250122T022903Z
LAST-MODIFIED:20250701T023926Z
UID:10012741-1779010200-1779013800@glenelg.lutheran.org.au
SUMMARY:Faith Kids
DESCRIPTION:Faith Kids occurs each Sunday during school terms for children 0–12 years old.
URL:https://glenelg.lutheran.org.au/event/faith-kids-3/2026-05-17/
LOCATION:St Paul’s Church\, 50 Brighton Road\, Glenelg\, 5045
CATEGORIES:Activities,Events,Worship
ATTACH;FMTTYPE=image/jpeg:https://glenelg.lutheran.org.au/wp-content/uploads/2021/10/kids-st-pauls.jpg
GEO:-34.9807774;138.5207807
X-APPLE-STRUCTURED-LOCATION;VALUE=URI;X-ADDRESS=St Paul’s Church 50 Brighton Road Glenelg 5045;X-APPLE-RADIUS=500;X-TITLE=50 Brighton Road\, Glenelg:geo:138.5207807,-34.9807774
END:VEVENT
BEGIN:VEVENT
DTSTART;TZID=Australia/Adelaide:20260524T093000
DTEND;TZID=Australia/Adelaide:20260524T103000
DTSTAMP:20260424T064928
CREATED:20250122T022903Z
LAST-MODIFIED:20250701T023926Z
UID:10012742-1779615000-1779618600@glenelg.lutheran.org.au
SUMMARY:Faith Kids
DESCRIPTION:Faith Kids occurs each Sunday during school terms for children 0–12 years old.
URL:https://glenelg.lutheran.org.au/event/faith-kids-3/2026-05-24/
LOCATION:St Paul’s Church\, 50 Brighton Road\, Glenelg\, 5045
CATEGORIES:Activities,Events,Worship
ATTACH;FMTTYPE=image/jpeg:https://glenelg.lutheran.org.au/wp-content/uploads/2021/10/kids-st-pauls.jpg
GEO:-34.9807774;138.5207807
X-APPLE-STRUCTURED-LOCATION;VALUE=URI;X-ADDRESS=St Paul’s Church 50 Brighton Road Glenelg 5045;X-APPLE-RADIUS=500;X-TITLE=50 Brighton Road\, Glenelg:geo:138.5207807,-34.9807774
END:VEVENT
BEGIN:VEVENT
DTSTART;TZID=Australia/Adelaide:20260531T093000
DTEND;TZID=Australia/Adelaide:20260531T103000
DTSTAMP:20260424T064928
CREATED:20250122T022903Z
LAST-MODIFIED:20250701T023926Z
UID:10012743-1780219800-1780223400@glenelg.lutheran.org.au
SUMMARY:Faith Kids
DESCRIPTION:Faith Kids occurs each Sunday during school terms for children 0–12 years old.
URL:https://glenelg.lutheran.org.au/event/faith-kids-3/2026-05-31/
LOCATION:St Paul’s Church\, 50 Brighton Road\, Glenelg\, 5045
CATEGORIES:Activities,Events,Worship
ATTACH;FMTTYPE=image/jpeg:https://glenelg.lutheran.org.au/wp-content/uploads/2021/10/kids-st-pauls.jpg
GEO:-34.9807774;138.5207807
X-APPLE-STRUCTURED-LOCATION;VALUE=URI;X-ADDRESS=St Paul’s Church 50 Brighton Road Glenelg 5045;X-APPLE-RADIUS=500;X-TITLE=50 Brighton Road\, Glenelg:geo:138.5207807,-34.9807774
END:VEVENT
BEGIN:VEVENT
DTSTART;TZID=Australia/Adelaide:20260607T093000
DTEND;TZID=Australia/Adelaide:20260607T103000
DTSTAMP:20260424T064928
CREATED:20250122T022903Z
LAST-MODIFIED:20250701T023926Z
UID:10012744-1780824600-1780828200@glenelg.lutheran.org.au
SUMMARY:Faith Kids
DESCRIPTION:Faith Kids occurs each Sunday during school terms for children 0–12 years old.
URL:https://glenelg.lutheran.org.au/event/faith-kids-3/2026-06-07/
LOCATION:St Paul’s Church\, 50 Brighton Road\, Glenelg\, 5045
CATEGORIES:Activities,Events,Worship
ATTACH;FMTTYPE=image/jpeg:https://glenelg.lutheran.org.au/wp-content/uploads/2021/10/kids-st-pauls.jpg
GEO:-34.9807774;138.5207807
X-APPLE-STRUCTURED-LOCATION;VALUE=URI;X-ADDRESS=St Paul’s Church 50 Brighton Road Glenelg 5045;X-APPLE-RADIUS=500;X-TITLE=50 Brighton Road\, Glenelg:geo:138.5207807,-34.9807774
END:VEVENT
BEGIN:VEVENT
DTSTART;TZID=Australia/Adelaide:20260614T093000
DTEND;TZID=Australia/Adelaide:20260614T103000
DTSTAMP:20260424T064928
CREATED:20250122T022903Z
LAST-MODIFIED:20250701T023926Z
UID:10012745-1781429400-1781433000@glenelg.lutheran.org.au
SUMMARY:Faith Kids
DESCRIPTION:Faith Kids occurs each Sunday during school terms for children 0–12 years old.
URL:https://glenelg.lutheran.org.au/event/faith-kids-3/2026-06-14/
LOCATION:St Paul’s Church\, 50 Brighton Road\, Glenelg\, 5045
CATEGORIES:Activities,Events,Worship
ATTACH;FMTTYPE=image/jpeg:https://glenelg.lutheran.org.au/wp-content/uploads/2021/10/kids-st-pauls.jpg
GEO:-34.9807774;138.5207807
X-APPLE-STRUCTURED-LOCATION;VALUE=URI;X-ADDRESS=St Paul’s Church 50 Brighton Road Glenelg 5045;X-APPLE-RADIUS=500;X-TITLE=50 Brighton Road\, Glenelg:geo:138.5207807,-34.9807774
END:VEVENT
BEGIN:VEVENT
DTSTART;TZID=Australia/Adelaide:20260621T093000
DTEND;TZID=Australia/Adelaide:20260621T103000
DTSTAMP:20260424T064928
CREATED:20250122T022903Z
LAST-MODIFIED:20250701T023926Z
UID:10012746-1782034200-1782037800@glenelg.lutheran.org.au
SUMMARY:Faith Kids
DESCRIPTION:Faith Kids occurs each Sunday during school terms for children 0–12 years old.
URL:https://glenelg.lutheran.org.au/event/faith-kids-3/2026-06-21/
LOCATION:St Paul’s Church\, 50 Brighton Road\, Glenelg\, 5045
CATEGORIES:Activities,Events,Worship
ATTACH;FMTTYPE=image/jpeg:https://glenelg.lutheran.org.au/wp-content/uploads/2021/10/kids-st-pauls.jpg
GEO:-34.9807774;138.5207807
X-APPLE-STRUCTURED-LOCATION;VALUE=URI;X-ADDRESS=St Paul’s Church 50 Brighton Road Glenelg 5045;X-APPLE-RADIUS=500;X-TITLE=50 Brighton Road\, Glenelg:geo:138.5207807,-34.9807774
END:VEVENT
BEGIN:VEVENT
DTSTART;TZID=Australia/Adelaide:20260628T093000
DTEND;TZID=Australia/Adelaide:20260628T103000
DTSTAMP:20260424T064928
CREATED:20250122T022903Z
LAST-MODIFIED:20250701T023926Z
UID:10012747-1782639000-1782642600@glenelg.lutheran.org.au
SUMMARY:Faith Kids
DESCRIPTION:Faith Kids occurs each Sunday during school terms for children 0–12 years old.
URL:https://glenelg.lutheran.org.au/event/faith-kids-3/2026-06-28/
LOCATION:St Paul’s Church\, 50 Brighton Road\, Glenelg\, 5045
CATEGORIES:Activities,Events,Worship
ATTACH;FMTTYPE=image/jpeg:https://glenelg.lutheran.org.au/wp-content/uploads/2021/10/kids-st-pauls.jpg
GEO:-34.9807774;138.5207807
X-APPLE-STRUCTURED-LOCATION;VALUE=URI;X-ADDRESS=St Paul’s Church 50 Brighton Road Glenelg 5045;X-APPLE-RADIUS=500;X-TITLE=50 Brighton Road\, Glenelg:geo:138.5207807,-34.9807774
END:VEVENT
BEGIN:VEVENT
DTSTART;TZID=Australia/Adelaide:20260705T093000
DTEND;TZID=Australia/Adelaide:20260705T103000
DTSTAMP:20260424T064928
CREATED:20250122T022903Z
LAST-MODIFIED:20250701T023926Z
UID:10012748-1783243800-1783247400@glenelg.lutheran.org.au
SUMMARY:Faith Kids
DESCRIPTION:Faith Kids occurs each Sunday during school terms for children 0–12 years old.
URL:https://glenelg.lutheran.org.au/event/faith-kids-3/2026-07-05/
LOCATION:St Paul’s Church\, 50 Brighton Road\, Glenelg\, 5045
CATEGORIES:Activities,Events,Worship
ATTACH;FMTTYPE=image/jpeg:https://glenelg.lutheran.org.au/wp-content/uploads/2021/10/kids-st-pauls.jpg
GEO:-34.9807774;138.5207807
X-APPLE-STRUCTURED-LOCATION;VALUE=URI;X-ADDRESS=St Paul’s Church 50 Brighton Road Glenelg 5045;X-APPLE-RADIUS=500;X-TITLE=50 Brighton Road\, Glenelg:geo:138.5207807,-34.9807774
END:VEVENT
BEGIN:VEVENT
DTSTART;TZID=Australia/Adelaide:20260712T093000
DTEND;TZID=Australia/Adelaide:20260712T103000
DTSTAMP:20260424T064928
CREATED:20250122T022903Z
LAST-MODIFIED:20250701T023926Z
UID:10012749-1783848600-1783852200@glenelg.lutheran.org.au
SUMMARY:Faith Kids
DESCRIPTION:Faith Kids occurs each Sunday during school terms for children 0–12 years old.
URL:https://glenelg.lutheran.org.au/event/faith-kids-3/2026-07-12/
LOCATION:St Paul’s Church\, 50 Brighton Road\, Glenelg\, 5045
CATEGORIES:Activities,Events,Worship
ATTACH;FMTTYPE=image/jpeg:https://glenelg.lutheran.org.au/wp-content/uploads/2021/10/kids-st-pauls.jpg
GEO:-34.9807774;138.5207807
X-APPLE-STRUCTURED-LOCATION;VALUE=URI;X-ADDRESS=St Paul’s Church 50 Brighton Road Glenelg 5045;X-APPLE-RADIUS=500;X-TITLE=50 Brighton Road\, Glenelg:geo:138.5207807,-34.9807774
END:VEVENT
BEGIN:VEVENT
DTSTART;TZID=Australia/Adelaide:20260719T093000
DTEND;TZID=Australia/Adelaide:20260719T103000
DTSTAMP:20260424T064928
CREATED:20250122T022903Z
LAST-MODIFIED:20250701T023926Z
UID:10012750-1784453400-1784457000@glenelg.lutheran.org.au
SUMMARY:Faith Kids
DESCRIPTION:Faith Kids occurs each Sunday during school terms for children 0–12 years old.
URL:https://glenelg.lutheran.org.au/event/faith-kids-3/2026-07-19/
LOCATION:St Paul’s Church\, 50 Brighton Road\, Glenelg\, 5045
CATEGORIES:Activities,Events,Worship
ATTACH;FMTTYPE=image/jpeg:https://glenelg.lutheran.org.au/wp-content/uploads/2021/10/kids-st-pauls.jpg
GEO:-34.9807774;138.5207807
X-APPLE-STRUCTURED-LOCATION;VALUE=URI;X-ADDRESS=St Paul’s Church 50 Brighton Road Glenelg 5045;X-APPLE-RADIUS=500;X-TITLE=50 Brighton Road\, Glenelg:geo:138.5207807,-34.9807774
END:VEVENT
BEGIN:VEVENT
DTSTART;TZID=Australia/Adelaide:20260726T093000
DTEND;TZID=Australia/Adelaide:20260726T103000
DTSTAMP:20260424T064928
CREATED:20250122T022903Z
LAST-MODIFIED:20250701T023926Z
UID:10012751-1785058200-1785061800@glenelg.lutheran.org.au
SUMMARY:Faith Kids
DESCRIPTION:Faith Kids occurs each Sunday during school terms for children 0–12 years old.
URL:https://glenelg.lutheran.org.au/event/faith-kids-3/2026-07-26/
LOCATION:St Paul’s Church\, 50 Brighton Road\, Glenelg\, 5045
CATEGORIES:Activities,Events,Worship
ATTACH;FMTTYPE=image/jpeg:https://glenelg.lutheran.org.au/wp-content/uploads/2021/10/kids-st-pauls.jpg
GEO:-34.9807774;138.5207807
X-APPLE-STRUCTURED-LOCATION;VALUE=URI;X-ADDRESS=St Paul’s Church 50 Brighton Road Glenelg 5045;X-APPLE-RADIUS=500;X-TITLE=50 Brighton Road\, Glenelg:geo:138.5207807,-34.9807774
END:VEVENT
BEGIN:VEVENT
DTSTART;TZID=Australia/Adelaide:20260802T093000
DTEND;TZID=Australia/Adelaide:20260802T103000
DTSTAMP:20260424T064928
CREATED:20250122T022903Z
LAST-MODIFIED:20250701T023926Z
UID:10012752-1785663000-1785666600@glenelg.lutheran.org.au
SUMMARY:Faith Kids
DESCRIPTION:Faith Kids occurs each Sunday during school terms for children 0–12 years old.
URL:https://glenelg.lutheran.org.au/event/faith-kids-3/2026-08-02/
LOCATION:St Paul’s Church\, 50 Brighton Road\, Glenelg\, 5045
CATEGORIES:Activities,Events,Worship
ATTACH;FMTTYPE=image/jpeg:https://glenelg.lutheran.org.au/wp-content/uploads/2021/10/kids-st-pauls.jpg
GEO:-34.9807774;138.5207807
X-APPLE-STRUCTURED-LOCATION;VALUE=URI;X-ADDRESS=St Paul’s Church 50 Brighton Road Glenelg 5045;X-APPLE-RADIUS=500;X-TITLE=50 Brighton Road\, Glenelg:geo:138.5207807,-34.9807774
END:VEVENT
BEGIN:VEVENT
DTSTART;TZID=Australia/Adelaide:20260809T093000
DTEND;TZID=Australia/Adelaide:20260809T103000
DTSTAMP:20260424T064928
CREATED:20250122T022903Z
LAST-MODIFIED:20250701T023926Z
UID:10012753-1786267800-1786271400@glenelg.lutheran.org.au
SUMMARY:Faith Kids
DESCRIPTION:Faith Kids occurs each Sunday during school terms for children 0–12 years old.
URL:https://glenelg.lutheran.org.au/event/faith-kids-3/2026-08-09/
LOCATION:St Paul’s Church\, 50 Brighton Road\, Glenelg\, 5045
CATEGORIES:Activities,Events,Worship
ATTACH;FMTTYPE=image/jpeg:https://glenelg.lutheran.org.au/wp-content/uploads/2021/10/kids-st-pauls.jpg
GEO:-34.9807774;138.5207807
X-APPLE-STRUCTURED-LOCATION;VALUE=URI;X-ADDRESS=St Paul’s Church 50 Brighton Road Glenelg 5045;X-APPLE-RADIUS=500;X-TITLE=50 Brighton Road\, Glenelg:geo:138.5207807,-34.9807774
END:VEVENT
BEGIN:VEVENT
DTSTART;TZID=Australia/Adelaide:20260816T093000
DTEND;TZID=Australia/Adelaide:20260816T103000
DTSTAMP:20260424T064928
CREATED:20250122T022903Z
LAST-MODIFIED:20250701T023926Z
UID:10012754-1786872600-1786876200@glenelg.lutheran.org.au
SUMMARY:Faith Kids
DESCRIPTION:Faith Kids occurs each Sunday during school terms for children 0–12 years old.
URL:https://glenelg.lutheran.org.au/event/faith-kids-3/2026-08-16/
LOCATION:St Paul’s Church\, 50 Brighton Road\, Glenelg\, 5045
CATEGORIES:Activities,Events,Worship
ATTACH;FMTTYPE=image/jpeg:https://glenelg.lutheran.org.au/wp-content/uploads/2021/10/kids-st-pauls.jpg
GEO:-34.9807774;138.5207807
X-APPLE-STRUCTURED-LOCATION;VALUE=URI;X-ADDRESS=St Paul’s Church 50 Brighton Road Glenelg 5045;X-APPLE-RADIUS=500;X-TITLE=50 Brighton Road\, Glenelg:geo:138.5207807,-34.9807774
END:VEVENT
BEGIN:VEVENT
DTSTART;TZID=Australia/Adelaide:20260823T093000
DTEND;TZID=Australia/Adelaide:20260823T103000
DTSTAMP:20260424T064928
CREATED:20250122T022903Z
LAST-MODIFIED:20250701T023926Z
UID:10012755-1787477400-1787481000@glenelg.lutheran.org.au
SUMMARY:Faith Kids
DESCRIPTION:Faith Kids occurs each Sunday during school terms for children 0–12 years old.
URL:https://glenelg.lutheran.org.au/event/faith-kids-3/2026-08-23/
LOCATION:St Paul’s Church\, 50 Brighton Road\, Glenelg\, 5045
CATEGORIES:Activities,Events,Worship
ATTACH;FMTTYPE=image/jpeg:https://glenelg.lutheran.org.au/wp-content/uploads/2021/10/kids-st-pauls.jpg
GEO:-34.9807774;138.5207807
X-APPLE-STRUCTURED-LOCATION;VALUE=URI;X-ADDRESS=St Paul’s Church 50 Brighton Road Glenelg 5045;X-APPLE-RADIUS=500;X-TITLE=50 Brighton Road\, Glenelg:geo:138.5207807,-34.9807774
END:VEVENT
BEGIN:VEVENT
DTSTART;TZID=Australia/Adelaide:20260830T093000
DTEND;TZID=Australia/Adelaide:20260830T103000
DTSTAMP:20260424T064928
CREATED:20250122T022903Z
LAST-MODIFIED:20250701T023926Z
UID:10012756-1788082200-1788085800@glenelg.lutheran.org.au
SUMMARY:Faith Kids
DESCRIPTION:Faith Kids occurs each Sunday during school terms for children 0–12 years old.
URL:https://glenelg.lutheran.org.au/event/faith-kids-3/2026-08-30/
LOCATION:St Paul’s Church\, 50 Brighton Road\, Glenelg\, 5045
CATEGORIES:Activities,Events,Worship
ATTACH;FMTTYPE=image/jpeg:https://glenelg.lutheran.org.au/wp-content/uploads/2021/10/kids-st-pauls.jpg
GEO:-34.9807774;138.5207807
X-APPLE-STRUCTURED-LOCATION;VALUE=URI;X-ADDRESS=St Paul’s Church 50 Brighton Road Glenelg 5045;X-APPLE-RADIUS=500;X-TITLE=50 Brighton Road\, Glenelg:geo:138.5207807,-34.9807774
END:VEVENT
BEGIN:VEVENT
DTSTART;TZID=Australia/Adelaide:20260906T093000
DTEND;TZID=Australia/Adelaide:20260906T103000
DTSTAMP:20260424T064928
CREATED:20250122T022903Z
LAST-MODIFIED:20250701T023926Z
UID:10012757-1788687000-1788690600@glenelg.lutheran.org.au
SUMMARY:Faith Kids
DESCRIPTION:Faith Kids occurs each Sunday during school terms for children 0–12 years old.
URL:https://glenelg.lutheran.org.au/event/faith-kids-3/2026-09-06/
LOCATION:St Paul’s Church\, 50 Brighton Road\, Glenelg\, 5045
CATEGORIES:Activities,Events,Worship
ATTACH;FMTTYPE=image/jpeg:https://glenelg.lutheran.org.au/wp-content/uploads/2021/10/kids-st-pauls.jpg
GEO:-34.9807774;138.5207807
X-APPLE-STRUCTURED-LOCATION;VALUE=URI;X-ADDRESS=St Paul’s Church 50 Brighton Road Glenelg 5045;X-APPLE-RADIUS=500;X-TITLE=50 Brighton Road\, Glenelg:geo:138.5207807,-34.9807774
END:VEVENT
BEGIN:VEVENT
DTSTART;TZID=Australia/Adelaide:20260913T093000
DTEND;TZID=Australia/Adelaide:20260913T103000
DTSTAMP:20260424T064928
CREATED:20250122T022903Z
LAST-MODIFIED:20250701T023926Z
UID:10012758-1789291800-1789295400@glenelg.lutheran.org.au
SUMMARY:Faith Kids
DESCRIPTION:Faith Kids occurs each Sunday during school terms for children 0–12 years old.
URL:https://glenelg.lutheran.org.au/event/faith-kids-3/2026-09-13/
LOCATION:St Paul’s Church\, 50 Brighton Road\, Glenelg\, 5045
CATEGORIES:Activities,Events,Worship
ATTACH;FMTTYPE=image/jpeg:https://glenelg.lutheran.org.au/wp-content/uploads/2021/10/kids-st-pauls.jpg
GEO:-34.9807774;138.5207807
X-APPLE-STRUCTURED-LOCATION;VALUE=URI;X-ADDRESS=St Paul’s Church 50 Brighton Road Glenelg 5045;X-APPLE-RADIUS=500;X-TITLE=50 Brighton Road\, Glenelg:geo:138.5207807,-34.9807774
END:VEVENT
BEGIN:VEVENT
DTSTART;TZID=Australia/Adelaide:20260920T093000
DTEND;TZID=Australia/Adelaide:20260920T103000
DTSTAMP:20260424T064928
CREATED:20250122T022903Z
LAST-MODIFIED:20250701T023926Z
UID:10012759-1789896600-1789900200@glenelg.lutheran.org.au
SUMMARY:Faith Kids
DESCRIPTION:Faith Kids occurs each Sunday during school terms for children 0–12 years old.
URL:https://glenelg.lutheran.org.au/event/faith-kids-3/2026-09-20/
LOCATION:St Paul’s Church\, 50 Brighton Road\, Glenelg\, 5045
CATEGORIES:Activities,Events,Worship
ATTACH;FMTTYPE=image/jpeg:https://glenelg.lutheran.org.au/wp-content/uploads/2021/10/kids-st-pauls.jpg
GEO:-34.9807774;138.5207807
X-APPLE-STRUCTURED-LOCATION;VALUE=URI;X-ADDRESS=St Paul’s Church 50 Brighton Road Glenelg 5045;X-APPLE-RADIUS=500;X-TITLE=50 Brighton Road\, Glenelg:geo:138.5207807,-34.9807774
END:VEVENT
BEGIN:VEVENT
DTSTART;TZID=Australia/Adelaide:20260927T093000
DTEND;TZID=Australia/Adelaide:20260927T103000
DTSTAMP:20260424T064928
CREATED:20250122T022903Z
LAST-MODIFIED:20250701T023926Z
UID:10012760-1790501400-1790505000@glenelg.lutheran.org.au
SUMMARY:Faith Kids
DESCRIPTION:Faith Kids occurs each Sunday during school terms for children 0–12 years old.
URL:https://glenelg.lutheran.org.au/event/faith-kids-3/2026-09-27/
LOCATION:St Paul’s Church\, 50 Brighton Road\, Glenelg\, 5045
CATEGORIES:Activities,Events,Worship
ATTACH;FMTTYPE=image/jpeg:https://glenelg.lutheran.org.au/wp-content/uploads/2021/10/kids-st-pauls.jpg
GEO:-34.9807774;138.5207807
X-APPLE-STRUCTURED-LOCATION;VALUE=URI;X-ADDRESS=St Paul’s Church 50 Brighton Road Glenelg 5045;X-APPLE-RADIUS=500;X-TITLE=50 Brighton Road\, Glenelg:geo:138.5207807,-34.9807774
END:VEVENT
BEGIN:VEVENT
DTSTART;TZID=Australia/Adelaide:20261004T093000
DTEND;TZID=Australia/Adelaide:20261004T103000
DTSTAMP:20260424T064928
CREATED:20250122T022903Z
LAST-MODIFIED:20250701T023926Z
UID:10012761-1791106200-1791109800@glenelg.lutheran.org.au
SUMMARY:Faith Kids
DESCRIPTION:Faith Kids occurs each Sunday during school terms for children 0–12 years old.
URL:https://glenelg.lutheran.org.au/event/faith-kids-3/2026-10-04/
LOCATION:St Paul’s Church\, 50 Brighton Road\, Glenelg\, 5045
CATEGORIES:Activities,Events,Worship
ATTACH;FMTTYPE=image/jpeg:https://glenelg.lutheran.org.au/wp-content/uploads/2021/10/kids-st-pauls.jpg
GEO:-34.9807774;138.5207807
X-APPLE-STRUCTURED-LOCATION;VALUE=URI;X-ADDRESS=St Paul’s Church 50 Brighton Road Glenelg 5045;X-APPLE-RADIUS=500;X-TITLE=50 Brighton Road\, Glenelg:geo:138.5207807,-34.9807774
END:VEVENT
BEGIN:VEVENT
DTSTART;TZID=Australia/Adelaide:20261011T093000
DTEND;TZID=Australia/Adelaide:20261011T103000
DTSTAMP:20260424T064928
CREATED:20250122T022903Z
LAST-MODIFIED:20250701T023926Z
UID:10012762-1791711000-1791714600@glenelg.lutheran.org.au
SUMMARY:Faith Kids
DESCRIPTION:Faith Kids occurs each Sunday during school terms for children 0–12 years old.
URL:https://glenelg.lutheran.org.au/event/faith-kids-3/2026-10-11/
LOCATION:St Paul’s Church\, 50 Brighton Road\, Glenelg\, 5045
CATEGORIES:Activities,Events,Worship
ATTACH;FMTTYPE=image/jpeg:https://glenelg.lutheran.org.au/wp-content/uploads/2021/10/kids-st-pauls.jpg
GEO:-34.9807774;138.5207807
X-APPLE-STRUCTURED-LOCATION;VALUE=URI;X-ADDRESS=St Paul’s Church 50 Brighton Road Glenelg 5045;X-APPLE-RADIUS=500;X-TITLE=50 Brighton Road\, Glenelg:geo:138.5207807,-34.9807774
END:VEVENT
BEGIN:VEVENT
DTSTART;TZID=Australia/Adelaide:20261018T093000
DTEND;TZID=Australia/Adelaide:20261018T103000
DTSTAMP:20260424T064928
CREATED:20250122T022903Z
LAST-MODIFIED:20250701T023926Z
UID:10012763-1792315800-1792319400@glenelg.lutheran.org.au
SUMMARY:Faith Kids
DESCRIPTION:Faith Kids occurs each Sunday during school terms for children 0–12 years old.
URL:https://glenelg.lutheran.org.au/event/faith-kids-3/2026-10-18/
LOCATION:St Paul’s Church\, 50 Brighton Road\, Glenelg\, 5045
CATEGORIES:Activities,Events,Worship
ATTACH;FMTTYPE=image/jpeg:https://glenelg.lutheran.org.au/wp-content/uploads/2021/10/kids-st-pauls.jpg
GEO:-34.9807774;138.5207807
X-APPLE-STRUCTURED-LOCATION;VALUE=URI;X-ADDRESS=St Paul’s Church 50 Brighton Road Glenelg 5045;X-APPLE-RADIUS=500;X-TITLE=50 Brighton Road\, Glenelg:geo:138.5207807,-34.9807774
END:VEVENT
BEGIN:VEVENT
DTSTART;TZID=Australia/Adelaide:20261025T093000
DTEND;TZID=Australia/Adelaide:20261025T103000
DTSTAMP:20260424T064928
CREATED:20250122T022903Z
LAST-MODIFIED:20250701T023926Z
UID:10012764-1792920600-1792924200@glenelg.lutheran.org.au
SUMMARY:Faith Kids
DESCRIPTION:Faith Kids occurs each Sunday during school terms for children 0–12 years old.
URL:https://glenelg.lutheran.org.au/event/faith-kids-3/2026-10-25/
LOCATION:St Paul’s Church\, 50 Brighton Road\, Glenelg\, 5045
CATEGORIES:Activities,Events,Worship
ATTACH;FMTTYPE=image/jpeg:https://glenelg.lutheran.org.au/wp-content/uploads/2021/10/kids-st-pauls.jpg
GEO:-34.9807774;138.5207807
X-APPLE-STRUCTURED-LOCATION;VALUE=URI;X-ADDRESS=St Paul’s Church 50 Brighton Road Glenelg 5045;X-APPLE-RADIUS=500;X-TITLE=50 Brighton Road\, Glenelg:geo:138.5207807,-34.9807774
END:VEVENT
BEGIN:VEVENT
DTSTART;TZID=Australia/Adelaide:20261101T093000
DTEND;TZID=Australia/Adelaide:20261101T103000
DTSTAMP:20260424T064928
CREATED:20250122T022903Z
LAST-MODIFIED:20250701T023926Z
UID:10012765-1793525400-1793529000@glenelg.lutheran.org.au
SUMMARY:Faith Kids
DESCRIPTION:Faith Kids occurs each Sunday during school terms for children 0–12 years old.
URL:https://glenelg.lutheran.org.au/event/faith-kids-3/2026-11-01/
LOCATION:St Paul’s Church\, 50 Brighton Road\, Glenelg\, 5045
CATEGORIES:Activities,Events,Worship
ATTACH;FMTTYPE=image/jpeg:https://glenelg.lutheran.org.au/wp-content/uploads/2021/10/kids-st-pauls.jpg
GEO:-34.9807774;138.5207807
X-APPLE-STRUCTURED-LOCATION;VALUE=URI;X-ADDRESS=St Paul’s Church 50 Brighton Road Glenelg 5045;X-APPLE-RADIUS=500;X-TITLE=50 Brighton Road\, Glenelg:geo:138.5207807,-34.9807774
END:VEVENT
BEGIN:VEVENT
DTSTART;TZID=Australia/Adelaide:20261108T093000
DTEND;TZID=Australia/Adelaide:20261108T103000
DTSTAMP:20260424T064928
CREATED:20250122T022903Z
LAST-MODIFIED:20250701T023926Z
UID:10012766-1794130200-1794133800@glenelg.lutheran.org.au
SUMMARY:Faith Kids
DESCRIPTION:Faith Kids occurs each Sunday during school terms for children 0–12 years old.
URL:https://glenelg.lutheran.org.au/event/faith-kids-3/2026-11-08/
LOCATION:St Paul’s Church\, 50 Brighton Road\, Glenelg\, 5045
CATEGORIES:Activities,Events,Worship
ATTACH;FMTTYPE=image/jpeg:https://glenelg.lutheran.org.au/wp-content/uploads/2021/10/kids-st-pauls.jpg
GEO:-34.9807774;138.5207807
X-APPLE-STRUCTURED-LOCATION;VALUE=URI;X-ADDRESS=St Paul’s Church 50 Brighton Road Glenelg 5045;X-APPLE-RADIUS=500;X-TITLE=50 Brighton Road\, Glenelg:geo:138.5207807,-34.9807774
END:VEVENT
BEGIN:VEVENT
DTSTART;TZID=Australia/Adelaide:20261115T093000
DTEND;TZID=Australia/Adelaide:20261115T103000
DTSTAMP:20260424T064928
CREATED:20250122T022903Z
LAST-MODIFIED:20250701T023926Z
UID:10012767-1794735000-1794738600@glenelg.lutheran.org.au
SUMMARY:Faith Kids
DESCRIPTION:Faith Kids occurs each Sunday during school terms for children 0–12 years old.
URL:https://glenelg.lutheran.org.au/event/faith-kids-3/2026-11-15/
LOCATION:St Paul’s Church\, 50 Brighton Road\, Glenelg\, 5045
CATEGORIES:Activities,Events,Worship
ATTACH;FMTTYPE=image/jpeg:https://glenelg.lutheran.org.au/wp-content/uploads/2021/10/kids-st-pauls.jpg
GEO:-34.9807774;138.5207807
X-APPLE-STRUCTURED-LOCATION;VALUE=URI;X-ADDRESS=St Paul’s Church 50 Brighton Road Glenelg 5045;X-APPLE-RADIUS=500;X-TITLE=50 Brighton Road\, Glenelg:geo:138.5207807,-34.9807774
END:VEVENT
END:VCALENDAR