BEGIN:VCALENDAR
VERSION:2.0
PRODID:-//Glenelg St Paul Congregation SA - ECPv6.15.14//NONSGML v1.0//EN
CALSCALE:GREGORIAN
METHOD:PUBLISH
X-WR-CALNAME:Glenelg St Paul Congregation SA
X-ORIGINAL-URL:https://glenelg.lutheran.org.au
X-WR-CALDESC:Events for Glenelg St Paul Congregation SA
REFRESH-INTERVAL;VALUE=DURATION:PT1H
X-Robots-Tag:noindex
X-PUBLISHED-TTL:PT1H
BEGIN:VTIMEZONE
TZID:Australia/Adelaide
BEGIN:STANDARD
TZOFFSETFROM:+1030
TZOFFSETTO:+0930
TZNAME:ACST
DTSTART:20250405T163000
END:STANDARD
BEGIN:DAYLIGHT
TZOFFSETFROM:+0930
TZOFFSETTO:+1030
TZNAME:ACDT
DTSTART:20251004T163000
END:DAYLIGHT
BEGIN:STANDARD
TZOFFSETFROM:+1030
TZOFFSETTO:+0930
TZNAME:ACST
DTSTART:20260404T163000
END:STANDARD
BEGIN:DAYLIGHT
TZOFFSETFROM:+0930
TZOFFSETTO:+1030
TZNAME:ACDT
DTSTART:20261003T163000
END:DAYLIGHT
BEGIN:STANDARD
TZOFFSETFROM:+1030
TZOFFSETTO:+0930
TZNAME:ACST
DTSTART:20270403T163000
END:STANDARD
BEGIN:DAYLIGHT
TZOFFSETFROM:+0930
TZOFFSETTO:+1030
TZNAME:ACDT
DTSTART:20271002T163000
END:DAYLIGHT
BEGIN:STANDARD
TZOFFSETFROM:+1030
TZOFFSETTO:+0930
TZNAME:ACST
DTSTART:20280401T163000
END:STANDARD
BEGIN:DAYLIGHT
TZOFFSETFROM:+0930
TZOFFSETTO:+1030
TZNAME:ACDT
DTSTART:20280930T163000
END:DAYLIGHT
END:VTIMEZONE
BEGIN:VEVENT
DTSTART;TZID=Australia/Adelaide:20260913T093000
DTEND;TZID=Australia/Adelaide:20260913T103000
DTSTAMP:20260424T100126
CREATED:20250122T022903Z
LAST-MODIFIED:20250701T023926Z
UID:10012758-1789291800-1789295400@glenelg.lutheran.org.au
SUMMARY:Faith Kids
DESCRIPTION:Faith Kids occurs each Sunday during school terms for children 0–12 years old.
URL:https://glenelg.lutheran.org.au/event/faith-kids-3/2026-09-13/
LOCATION:St Paul’s Church\, 50 Brighton Road\, Glenelg\, 5045
CATEGORIES:Activities,Events,Worship
ATTACH;FMTTYPE=image/jpeg:https://glenelg.lutheran.org.au/wp-content/uploads/2021/10/kids-st-pauls.jpg
GEO:-34.9807774;138.5207807
X-APPLE-STRUCTURED-LOCATION;VALUE=URI;X-ADDRESS=St Paul’s Church 50 Brighton Road Glenelg 5045;X-APPLE-RADIUS=500;X-TITLE=50 Brighton Road\, Glenelg:geo:138.5207807,-34.9807774
END:VEVENT
BEGIN:VEVENT
DTSTART;TZID=Australia/Adelaide:20260920T093000
DTEND;TZID=Australia/Adelaide:20260920T103000
DTSTAMP:20260424T100126
CREATED:20250122T022903Z
LAST-MODIFIED:20250701T023926Z
UID:10012759-1789896600-1789900200@glenelg.lutheran.org.au
SUMMARY:Faith Kids
DESCRIPTION:Faith Kids occurs each Sunday during school terms for children 0–12 years old.
URL:https://glenelg.lutheran.org.au/event/faith-kids-3/2026-09-20/
LOCATION:St Paul’s Church\, 50 Brighton Road\, Glenelg\, 5045
CATEGORIES:Activities,Events,Worship
ATTACH;FMTTYPE=image/jpeg:https://glenelg.lutheran.org.au/wp-content/uploads/2021/10/kids-st-pauls.jpg
GEO:-34.9807774;138.5207807
X-APPLE-STRUCTURED-LOCATION;VALUE=URI;X-ADDRESS=St Paul’s Church 50 Brighton Road Glenelg 5045;X-APPLE-RADIUS=500;X-TITLE=50 Brighton Road\, Glenelg:geo:138.5207807,-34.9807774
END:VEVENT
BEGIN:VEVENT
DTSTART;TZID=Australia/Adelaide:20260927T093000
DTEND;TZID=Australia/Adelaide:20260927T103000
DTSTAMP:20260424T100126
CREATED:20250122T022903Z
LAST-MODIFIED:20250701T023926Z
UID:10012760-1790501400-1790505000@glenelg.lutheran.org.au
SUMMARY:Faith Kids
DESCRIPTION:Faith Kids occurs each Sunday during school terms for children 0–12 years old.
URL:https://glenelg.lutheran.org.au/event/faith-kids-3/2026-09-27/
LOCATION:St Paul’s Church\, 50 Brighton Road\, Glenelg\, 5045
CATEGORIES:Activities,Events,Worship
ATTACH;FMTTYPE=image/jpeg:https://glenelg.lutheran.org.au/wp-content/uploads/2021/10/kids-st-pauls.jpg
GEO:-34.9807774;138.5207807
X-APPLE-STRUCTURED-LOCATION;VALUE=URI;X-ADDRESS=St Paul’s Church 50 Brighton Road Glenelg 5045;X-APPLE-RADIUS=500;X-TITLE=50 Brighton Road\, Glenelg:geo:138.5207807,-34.9807774
END:VEVENT
BEGIN:VEVENT
DTSTART;TZID=Australia/Adelaide:20261004T093000
DTEND;TZID=Australia/Adelaide:20261004T103000
DTSTAMP:20260424T100126
CREATED:20250122T022903Z
LAST-MODIFIED:20250701T023926Z
UID:10012761-1791106200-1791109800@glenelg.lutheran.org.au
SUMMARY:Faith Kids
DESCRIPTION:Faith Kids occurs each Sunday during school terms for children 0–12 years old.
URL:https://glenelg.lutheran.org.au/event/faith-kids-3/2026-10-04/
LOCATION:St Paul’s Church\, 50 Brighton Road\, Glenelg\, 5045
CATEGORIES:Activities,Events,Worship
ATTACH;FMTTYPE=image/jpeg:https://glenelg.lutheran.org.au/wp-content/uploads/2021/10/kids-st-pauls.jpg
GEO:-34.9807774;138.5207807
X-APPLE-STRUCTURED-LOCATION;VALUE=URI;X-ADDRESS=St Paul’s Church 50 Brighton Road Glenelg 5045;X-APPLE-RADIUS=500;X-TITLE=50 Brighton Road\, Glenelg:geo:138.5207807,-34.9807774
END:VEVENT
BEGIN:VEVENT
DTSTART;TZID=Australia/Adelaide:20261011T093000
DTEND;TZID=Australia/Adelaide:20261011T103000
DTSTAMP:20260424T100126
CREATED:20250122T022903Z
LAST-MODIFIED:20250701T023926Z
UID:10012762-1791711000-1791714600@glenelg.lutheran.org.au
SUMMARY:Faith Kids
DESCRIPTION:Faith Kids occurs each Sunday during school terms for children 0–12 years old.
URL:https://glenelg.lutheran.org.au/event/faith-kids-3/2026-10-11/
LOCATION:St Paul’s Church\, 50 Brighton Road\, Glenelg\, 5045
CATEGORIES:Activities,Events,Worship
ATTACH;FMTTYPE=image/jpeg:https://glenelg.lutheran.org.au/wp-content/uploads/2021/10/kids-st-pauls.jpg
GEO:-34.9807774;138.5207807
X-APPLE-STRUCTURED-LOCATION;VALUE=URI;X-ADDRESS=St Paul’s Church 50 Brighton Road Glenelg 5045;X-APPLE-RADIUS=500;X-TITLE=50 Brighton Road\, Glenelg:geo:138.5207807,-34.9807774
END:VEVENT
BEGIN:VEVENT
DTSTART;TZID=Australia/Adelaide:20261018T093000
DTEND;TZID=Australia/Adelaide:20261018T103000
DTSTAMP:20260424T100126
CREATED:20250122T022903Z
LAST-MODIFIED:20250701T023926Z
UID:10012763-1792315800-1792319400@glenelg.lutheran.org.au
SUMMARY:Faith Kids
DESCRIPTION:Faith Kids occurs each Sunday during school terms for children 0–12 years old.
URL:https://glenelg.lutheran.org.au/event/faith-kids-3/2026-10-18/
LOCATION:St Paul’s Church\, 50 Brighton Road\, Glenelg\, 5045
CATEGORIES:Activities,Events,Worship
ATTACH;FMTTYPE=image/jpeg:https://glenelg.lutheran.org.au/wp-content/uploads/2021/10/kids-st-pauls.jpg
GEO:-34.9807774;138.5207807
X-APPLE-STRUCTURED-LOCATION;VALUE=URI;X-ADDRESS=St Paul’s Church 50 Brighton Road Glenelg 5045;X-APPLE-RADIUS=500;X-TITLE=50 Brighton Road\, Glenelg:geo:138.5207807,-34.9807774
END:VEVENT
BEGIN:VEVENT
DTSTART;TZID=Australia/Adelaide:20261025T093000
DTEND;TZID=Australia/Adelaide:20261025T103000
DTSTAMP:20260424T100126
CREATED:20250122T022903Z
LAST-MODIFIED:20250701T023926Z
UID:10012764-1792920600-1792924200@glenelg.lutheran.org.au
SUMMARY:Faith Kids
DESCRIPTION:Faith Kids occurs each Sunday during school terms for children 0–12 years old.
URL:https://glenelg.lutheran.org.au/event/faith-kids-3/2026-10-25/
LOCATION:St Paul’s Church\, 50 Brighton Road\, Glenelg\, 5045
CATEGORIES:Activities,Events,Worship
ATTACH;FMTTYPE=image/jpeg:https://glenelg.lutheran.org.au/wp-content/uploads/2021/10/kids-st-pauls.jpg
GEO:-34.9807774;138.5207807
X-APPLE-STRUCTURED-LOCATION;VALUE=URI;X-ADDRESS=St Paul’s Church 50 Brighton Road Glenelg 5045;X-APPLE-RADIUS=500;X-TITLE=50 Brighton Road\, Glenelg:geo:138.5207807,-34.9807774
END:VEVENT
BEGIN:VEVENT
DTSTART;TZID=Australia/Adelaide:20261101T093000
DTEND;TZID=Australia/Adelaide:20261101T103000
DTSTAMP:20260424T100126
CREATED:20250122T022903Z
LAST-MODIFIED:20250701T023926Z
UID:10012765-1793525400-1793529000@glenelg.lutheran.org.au
SUMMARY:Faith Kids
DESCRIPTION:Faith Kids occurs each Sunday during school terms for children 0–12 years old.
URL:https://glenelg.lutheran.org.au/event/faith-kids-3/2026-11-01/
LOCATION:St Paul’s Church\, 50 Brighton Road\, Glenelg\, 5045
CATEGORIES:Activities,Events,Worship
ATTACH;FMTTYPE=image/jpeg:https://glenelg.lutheran.org.au/wp-content/uploads/2021/10/kids-st-pauls.jpg
GEO:-34.9807774;138.5207807
X-APPLE-STRUCTURED-LOCATION;VALUE=URI;X-ADDRESS=St Paul’s Church 50 Brighton Road Glenelg 5045;X-APPLE-RADIUS=500;X-TITLE=50 Brighton Road\, Glenelg:geo:138.5207807,-34.9807774
END:VEVENT
BEGIN:VEVENT
DTSTART;TZID=Australia/Adelaide:20261108T093000
DTEND;TZID=Australia/Adelaide:20261108T103000
DTSTAMP:20260424T100126
CREATED:20250122T022903Z
LAST-MODIFIED:20250701T023926Z
UID:10012766-1794130200-1794133800@glenelg.lutheran.org.au
SUMMARY:Faith Kids
DESCRIPTION:Faith Kids occurs each Sunday during school terms for children 0–12 years old.
URL:https://glenelg.lutheran.org.au/event/faith-kids-3/2026-11-08/
LOCATION:St Paul’s Church\, 50 Brighton Road\, Glenelg\, 5045
CATEGORIES:Activities,Events,Worship
ATTACH;FMTTYPE=image/jpeg:https://glenelg.lutheran.org.au/wp-content/uploads/2021/10/kids-st-pauls.jpg
GEO:-34.9807774;138.5207807
X-APPLE-STRUCTURED-LOCATION;VALUE=URI;X-ADDRESS=St Paul’s Church 50 Brighton Road Glenelg 5045;X-APPLE-RADIUS=500;X-TITLE=50 Brighton Road\, Glenelg:geo:138.5207807,-34.9807774
END:VEVENT
BEGIN:VEVENT
DTSTART;TZID=Australia/Adelaide:20261115T093000
DTEND;TZID=Australia/Adelaide:20261115T103000
DTSTAMP:20260424T100126
CREATED:20250122T022903Z
LAST-MODIFIED:20250701T023926Z
UID:10012767-1794735000-1794738600@glenelg.lutheran.org.au
SUMMARY:Faith Kids
DESCRIPTION:Faith Kids occurs each Sunday during school terms for children 0–12 years old.
URL:https://glenelg.lutheran.org.au/event/faith-kids-3/2026-11-15/
LOCATION:St Paul’s Church\, 50 Brighton Road\, Glenelg\, 5045
CATEGORIES:Activities,Events,Worship
ATTACH;FMTTYPE=image/jpeg:https://glenelg.lutheran.org.au/wp-content/uploads/2021/10/kids-st-pauls.jpg
GEO:-34.9807774;138.5207807
X-APPLE-STRUCTURED-LOCATION;VALUE=URI;X-ADDRESS=St Paul’s Church 50 Brighton Road Glenelg 5045;X-APPLE-RADIUS=500;X-TITLE=50 Brighton Road\, Glenelg:geo:138.5207807,-34.9807774
END:VEVENT
BEGIN:VEVENT
DTSTART;TZID=Australia/Adelaide:20261122T093000
DTEND;TZID=Australia/Adelaide:20261122T103000
DTSTAMP:20260424T100126
CREATED:20250122T022903Z
LAST-MODIFIED:20250701T023926Z
UID:10012768-1795339800-1795343400@glenelg.lutheran.org.au
SUMMARY:Faith Kids
DESCRIPTION:Faith Kids occurs each Sunday during school terms for children 0–12 years old.
URL:https://glenelg.lutheran.org.au/event/faith-kids-3/2026-11-22/
LOCATION:St Paul’s Church\, 50 Brighton Road\, Glenelg\, 5045
CATEGORIES:Activities,Events,Worship
ATTACH;FMTTYPE=image/jpeg:https://glenelg.lutheran.org.au/wp-content/uploads/2021/10/kids-st-pauls.jpg
GEO:-34.9807774;138.5207807
X-APPLE-STRUCTURED-LOCATION;VALUE=URI;X-ADDRESS=St Paul’s Church 50 Brighton Road Glenelg 5045;X-APPLE-RADIUS=500;X-TITLE=50 Brighton Road\, Glenelg:geo:138.5207807,-34.9807774
END:VEVENT
BEGIN:VEVENT
DTSTART;TZID=Australia/Adelaide:20261129T093000
DTEND;TZID=Australia/Adelaide:20261129T103000
DTSTAMP:20260424T100126
CREATED:20250122T022903Z
LAST-MODIFIED:20250701T023926Z
UID:10012769-1795944600-1795948200@glenelg.lutheran.org.au
SUMMARY:Faith Kids
DESCRIPTION:Faith Kids occurs each Sunday during school terms for children 0–12 years old.
URL:https://glenelg.lutheran.org.au/event/faith-kids-3/2026-11-29/
LOCATION:St Paul’s Church\, 50 Brighton Road\, Glenelg\, 5045
CATEGORIES:Activities,Events,Worship
ATTACH;FMTTYPE=image/jpeg:https://glenelg.lutheran.org.au/wp-content/uploads/2021/10/kids-st-pauls.jpg
GEO:-34.9807774;138.5207807
X-APPLE-STRUCTURED-LOCATION;VALUE=URI;X-ADDRESS=St Paul’s Church 50 Brighton Road Glenelg 5045;X-APPLE-RADIUS=500;X-TITLE=50 Brighton Road\, Glenelg:geo:138.5207807,-34.9807774
END:VEVENT
BEGIN:VEVENT
DTSTART;TZID=Australia/Adelaide:20261206T093000
DTEND;TZID=Australia/Adelaide:20261206T103000
DTSTAMP:20260424T100126
CREATED:20250122T022903Z
LAST-MODIFIED:20250701T023926Z
UID:10012770-1796549400-1796553000@glenelg.lutheran.org.au
SUMMARY:Faith Kids
DESCRIPTION:Faith Kids occurs each Sunday during school terms for children 0–12 years old.
URL:https://glenelg.lutheran.org.au/event/faith-kids-3/2026-12-06/
LOCATION:St Paul’s Church\, 50 Brighton Road\, Glenelg\, 5045
CATEGORIES:Activities,Events,Worship
ATTACH;FMTTYPE=image/jpeg:https://glenelg.lutheran.org.au/wp-content/uploads/2021/10/kids-st-pauls.jpg
GEO:-34.9807774;138.5207807
X-APPLE-STRUCTURED-LOCATION;VALUE=URI;X-ADDRESS=St Paul’s Church 50 Brighton Road Glenelg 5045;X-APPLE-RADIUS=500;X-TITLE=50 Brighton Road\, Glenelg:geo:138.5207807,-34.9807774
END:VEVENT
BEGIN:VEVENT
DTSTART;TZID=Australia/Adelaide:20261213T093000
DTEND;TZID=Australia/Adelaide:20261213T103000
DTSTAMP:20260424T100126
CREATED:20250122T022903Z
LAST-MODIFIED:20250701T023926Z
UID:10012771-1797154200-1797157800@glenelg.lutheran.org.au
SUMMARY:Faith Kids
DESCRIPTION:Faith Kids occurs each Sunday during school terms for children 0–12 years old.
URL:https://glenelg.lutheran.org.au/event/faith-kids-3/2026-12-13/
LOCATION:St Paul’s Church\, 50 Brighton Road\, Glenelg\, 5045
CATEGORIES:Activities,Events,Worship
ATTACH;FMTTYPE=image/jpeg:https://glenelg.lutheran.org.au/wp-content/uploads/2021/10/kids-st-pauls.jpg
GEO:-34.9807774;138.5207807
X-APPLE-STRUCTURED-LOCATION;VALUE=URI;X-ADDRESS=St Paul’s Church 50 Brighton Road Glenelg 5045;X-APPLE-RADIUS=500;X-TITLE=50 Brighton Road\, Glenelg:geo:138.5207807,-34.9807774
END:VEVENT
BEGIN:VEVENT
DTSTART;TZID=Australia/Adelaide:20261220T093000
DTEND;TZID=Australia/Adelaide:20261220T103000
DTSTAMP:20260424T100126
CREATED:20250122T022903Z
LAST-MODIFIED:20250701T023926Z
UID:10012772-1797759000-1797762600@glenelg.lutheran.org.au
SUMMARY:Faith Kids
DESCRIPTION:Faith Kids occurs each Sunday during school terms for children 0–12 years old.
URL:https://glenelg.lutheran.org.au/event/faith-kids-3/2026-12-20/
LOCATION:St Paul’s Church\, 50 Brighton Road\, Glenelg\, 5045
CATEGORIES:Activities,Events,Worship
ATTACH;FMTTYPE=image/jpeg:https://glenelg.lutheran.org.au/wp-content/uploads/2021/10/kids-st-pauls.jpg
GEO:-34.9807774;138.5207807
X-APPLE-STRUCTURED-LOCATION;VALUE=URI;X-ADDRESS=St Paul’s Church 50 Brighton Road Glenelg 5045;X-APPLE-RADIUS=500;X-TITLE=50 Brighton Road\, Glenelg:geo:138.5207807,-34.9807774
END:VEVENT
BEGIN:VEVENT
DTSTART;TZID=Australia/Adelaide:20261227T093000
DTEND;TZID=Australia/Adelaide:20261227T103000
DTSTAMP:20260424T100126
CREATED:20250122T022903Z
LAST-MODIFIED:20250701T023926Z
UID:10012773-1798363800-1798367400@glenelg.lutheran.org.au
SUMMARY:Faith Kids
DESCRIPTION:Faith Kids occurs each Sunday during school terms for children 0–12 years old.
URL:https://glenelg.lutheran.org.au/event/faith-kids-3/2026-12-27/
LOCATION:St Paul’s Church\, 50 Brighton Road\, Glenelg\, 5045
CATEGORIES:Activities,Events,Worship
ATTACH;FMTTYPE=image/jpeg:https://glenelg.lutheran.org.au/wp-content/uploads/2021/10/kids-st-pauls.jpg
GEO:-34.9807774;138.5207807
X-APPLE-STRUCTURED-LOCATION;VALUE=URI;X-ADDRESS=St Paul’s Church 50 Brighton Road Glenelg 5045;X-APPLE-RADIUS=500;X-TITLE=50 Brighton Road\, Glenelg:geo:138.5207807,-34.9807774
END:VEVENT
BEGIN:VEVENT
DTSTART;TZID=Australia/Adelaide:20270103T093000
DTEND;TZID=Australia/Adelaide:20270103T103000
DTSTAMP:20260424T100126
CREATED:20250122T022903Z
LAST-MODIFIED:20250701T023926Z
UID:10012774-1798968600-1798972200@glenelg.lutheran.org.au
SUMMARY:Faith Kids
DESCRIPTION:Faith Kids occurs each Sunday during school terms for children 0–12 years old.
URL:https://glenelg.lutheran.org.au/event/faith-kids-3/2027-01-03/
LOCATION:St Paul’s Church\, 50 Brighton Road\, Glenelg\, 5045
CATEGORIES:Activities,Events,Worship
ATTACH;FMTTYPE=image/jpeg:https://glenelg.lutheran.org.au/wp-content/uploads/2021/10/kids-st-pauls.jpg
GEO:-34.9807774;138.5207807
X-APPLE-STRUCTURED-LOCATION;VALUE=URI;X-ADDRESS=St Paul’s Church 50 Brighton Road Glenelg 5045;X-APPLE-RADIUS=500;X-TITLE=50 Brighton Road\, Glenelg:geo:138.5207807,-34.9807774
END:VEVENT
BEGIN:VEVENT
DTSTART;TZID=Australia/Adelaide:20270110T093000
DTEND;TZID=Australia/Adelaide:20270110T103000
DTSTAMP:20260424T100126
CREATED:20250122T022903Z
LAST-MODIFIED:20250701T023926Z
UID:10012775-1799573400-1799577000@glenelg.lutheran.org.au
SUMMARY:Faith Kids
DESCRIPTION:Faith Kids occurs each Sunday during school terms for children 0–12 years old.
URL:https://glenelg.lutheran.org.au/event/faith-kids-3/2027-01-10/
LOCATION:St Paul’s Church\, 50 Brighton Road\, Glenelg\, 5045
CATEGORIES:Activities,Events,Worship
ATTACH;FMTTYPE=image/jpeg:https://glenelg.lutheran.org.au/wp-content/uploads/2021/10/kids-st-pauls.jpg
GEO:-34.9807774;138.5207807
X-APPLE-STRUCTURED-LOCATION;VALUE=URI;X-ADDRESS=St Paul’s Church 50 Brighton Road Glenelg 5045;X-APPLE-RADIUS=500;X-TITLE=50 Brighton Road\, Glenelg:geo:138.5207807,-34.9807774
END:VEVENT
BEGIN:VEVENT
DTSTART;TZID=Australia/Adelaide:20270117T093000
DTEND;TZID=Australia/Adelaide:20270117T103000
DTSTAMP:20260424T100126
CREATED:20250122T022903Z
LAST-MODIFIED:20250701T023926Z
UID:10012776-1800178200-1800181800@glenelg.lutheran.org.au
SUMMARY:Faith Kids
DESCRIPTION:Faith Kids occurs each Sunday during school terms for children 0–12 years old.
URL:https://glenelg.lutheran.org.au/event/faith-kids-3/2027-01-17/
LOCATION:St Paul’s Church\, 50 Brighton Road\, Glenelg\, 5045
CATEGORIES:Activities,Events,Worship
ATTACH;FMTTYPE=image/jpeg:https://glenelg.lutheran.org.au/wp-content/uploads/2021/10/kids-st-pauls.jpg
GEO:-34.9807774;138.5207807
X-APPLE-STRUCTURED-LOCATION;VALUE=URI;X-ADDRESS=St Paul’s Church 50 Brighton Road Glenelg 5045;X-APPLE-RADIUS=500;X-TITLE=50 Brighton Road\, Glenelg:geo:138.5207807,-34.9807774
END:VEVENT
BEGIN:VEVENT
DTSTART;TZID=Australia/Adelaide:20270124T093000
DTEND;TZID=Australia/Adelaide:20270124T103000
DTSTAMP:20260424T100126
CREATED:20250122T022903Z
LAST-MODIFIED:20250701T023926Z
UID:10012777-1800783000-1800786600@glenelg.lutheran.org.au
SUMMARY:Faith Kids
DESCRIPTION:Faith Kids occurs each Sunday during school terms for children 0–12 years old.
URL:https://glenelg.lutheran.org.au/event/faith-kids-3/2027-01-24/
LOCATION:St Paul’s Church\, 50 Brighton Road\, Glenelg\, 5045
CATEGORIES:Activities,Events,Worship
ATTACH;FMTTYPE=image/jpeg:https://glenelg.lutheran.org.au/wp-content/uploads/2021/10/kids-st-pauls.jpg
GEO:-34.9807774;138.5207807
X-APPLE-STRUCTURED-LOCATION;VALUE=URI;X-ADDRESS=St Paul’s Church 50 Brighton Road Glenelg 5045;X-APPLE-RADIUS=500;X-TITLE=50 Brighton Road\, Glenelg:geo:138.5207807,-34.9807774
END:VEVENT
BEGIN:VEVENT
DTSTART;TZID=Australia/Adelaide:20270131T093000
DTEND;TZID=Australia/Adelaide:20270131T103000
DTSTAMP:20260424T100126
CREATED:20250122T022903Z
LAST-MODIFIED:20250701T023926Z
UID:10012778-1801387800-1801391400@glenelg.lutheran.org.au
SUMMARY:Faith Kids
DESCRIPTION:Faith Kids occurs each Sunday during school terms for children 0–12 years old.
URL:https://glenelg.lutheran.org.au/event/faith-kids-3/2027-01-31/
LOCATION:St Paul’s Church\, 50 Brighton Road\, Glenelg\, 5045
CATEGORIES:Activities,Events,Worship
ATTACH;FMTTYPE=image/jpeg:https://glenelg.lutheran.org.au/wp-content/uploads/2021/10/kids-st-pauls.jpg
GEO:-34.9807774;138.5207807
X-APPLE-STRUCTURED-LOCATION;VALUE=URI;X-ADDRESS=St Paul’s Church 50 Brighton Road Glenelg 5045;X-APPLE-RADIUS=500;X-TITLE=50 Brighton Road\, Glenelg:geo:138.5207807,-34.9807774
END:VEVENT
BEGIN:VEVENT
DTSTART;TZID=Australia/Adelaide:20270207T093000
DTEND;TZID=Australia/Adelaide:20270207T103000
DTSTAMP:20260424T100126
CREATED:20250122T022903Z
LAST-MODIFIED:20250701T023926Z
UID:10012779-1801992600-1801996200@glenelg.lutheran.org.au
SUMMARY:Faith Kids
DESCRIPTION:Faith Kids occurs each Sunday during school terms for children 0–12 years old.
URL:https://glenelg.lutheran.org.au/event/faith-kids-3/2027-02-07/
LOCATION:St Paul’s Church\, 50 Brighton Road\, Glenelg\, 5045
CATEGORIES:Activities,Events,Worship
ATTACH;FMTTYPE=image/jpeg:https://glenelg.lutheran.org.au/wp-content/uploads/2021/10/kids-st-pauls.jpg
GEO:-34.9807774;138.5207807
X-APPLE-STRUCTURED-LOCATION;VALUE=URI;X-ADDRESS=St Paul’s Church 50 Brighton Road Glenelg 5045;X-APPLE-RADIUS=500;X-TITLE=50 Brighton Road\, Glenelg:geo:138.5207807,-34.9807774
END:VEVENT
BEGIN:VEVENT
DTSTART;TZID=Australia/Adelaide:20270214T093000
DTEND;TZID=Australia/Adelaide:20270214T103000
DTSTAMP:20260424T100126
CREATED:20250122T022903Z
LAST-MODIFIED:20250701T023926Z
UID:10012780-1802597400-1802601000@glenelg.lutheran.org.au
SUMMARY:Faith Kids
DESCRIPTION:Faith Kids occurs each Sunday during school terms for children 0–12 years old.
URL:https://glenelg.lutheran.org.au/event/faith-kids-3/2027-02-14/
LOCATION:St Paul’s Church\, 50 Brighton Road\, Glenelg\, 5045
CATEGORIES:Activities,Events,Worship
ATTACH;FMTTYPE=image/jpeg:https://glenelg.lutheran.org.au/wp-content/uploads/2021/10/kids-st-pauls.jpg
GEO:-34.9807774;138.5207807
X-APPLE-STRUCTURED-LOCATION;VALUE=URI;X-ADDRESS=St Paul’s Church 50 Brighton Road Glenelg 5045;X-APPLE-RADIUS=500;X-TITLE=50 Brighton Road\, Glenelg:geo:138.5207807,-34.9807774
END:VEVENT
BEGIN:VEVENT
DTSTART;TZID=Australia/Adelaide:20270221T093000
DTEND;TZID=Australia/Adelaide:20270221T103000
DTSTAMP:20260424T100126
CREATED:20250122T022903Z
LAST-MODIFIED:20250701T023926Z
UID:10012781-1803202200-1803205800@glenelg.lutheran.org.au
SUMMARY:Faith Kids
DESCRIPTION:Faith Kids occurs each Sunday during school terms for children 0–12 years old.
URL:https://glenelg.lutheran.org.au/event/faith-kids-3/2027-02-21/
LOCATION:St Paul’s Church\, 50 Brighton Road\, Glenelg\, 5045
CATEGORIES:Activities,Events,Worship
ATTACH;FMTTYPE=image/jpeg:https://glenelg.lutheran.org.au/wp-content/uploads/2021/10/kids-st-pauls.jpg
GEO:-34.9807774;138.5207807
X-APPLE-STRUCTURED-LOCATION;VALUE=URI;X-ADDRESS=St Paul’s Church 50 Brighton Road Glenelg 5045;X-APPLE-RADIUS=500;X-TITLE=50 Brighton Road\, Glenelg:geo:138.5207807,-34.9807774
END:VEVENT
BEGIN:VEVENT
DTSTART;TZID=Australia/Adelaide:20270228T093000
DTEND;TZID=Australia/Adelaide:20270228T103000
DTSTAMP:20260424T100126
CREATED:20250122T022903Z
LAST-MODIFIED:20250701T023926Z
UID:10012782-1803807000-1803810600@glenelg.lutheran.org.au
SUMMARY:Faith Kids
DESCRIPTION:Faith Kids occurs each Sunday during school terms for children 0–12 years old.
URL:https://glenelg.lutheran.org.au/event/faith-kids-3/2027-02-28/
LOCATION:St Paul’s Church\, 50 Brighton Road\, Glenelg\, 5045
CATEGORIES:Activities,Events,Worship
ATTACH;FMTTYPE=image/jpeg:https://glenelg.lutheran.org.au/wp-content/uploads/2021/10/kids-st-pauls.jpg
GEO:-34.9807774;138.5207807
X-APPLE-STRUCTURED-LOCATION;VALUE=URI;X-ADDRESS=St Paul’s Church 50 Brighton Road Glenelg 5045;X-APPLE-RADIUS=500;X-TITLE=50 Brighton Road\, Glenelg:geo:138.5207807,-34.9807774
END:VEVENT
BEGIN:VEVENT
DTSTART;TZID=Australia/Adelaide:20270307T093000
DTEND;TZID=Australia/Adelaide:20270307T103000
DTSTAMP:20260424T100126
CREATED:20250122T022903Z
LAST-MODIFIED:20250701T023926Z
UID:10012783-1804411800-1804415400@glenelg.lutheran.org.au
SUMMARY:Faith Kids
DESCRIPTION:Faith Kids occurs each Sunday during school terms for children 0–12 years old.
URL:https://glenelg.lutheran.org.au/event/faith-kids-3/2027-03-07/
LOCATION:St Paul’s Church\, 50 Brighton Road\, Glenelg\, 5045
CATEGORIES:Activities,Events,Worship
ATTACH;FMTTYPE=image/jpeg:https://glenelg.lutheran.org.au/wp-content/uploads/2021/10/kids-st-pauls.jpg
GEO:-34.9807774;138.5207807
X-APPLE-STRUCTURED-LOCATION;VALUE=URI;X-ADDRESS=St Paul’s Church 50 Brighton Road Glenelg 5045;X-APPLE-RADIUS=500;X-TITLE=50 Brighton Road\, Glenelg:geo:138.5207807,-34.9807774
END:VEVENT
BEGIN:VEVENT
DTSTART;TZID=Australia/Adelaide:20270314T093000
DTEND;TZID=Australia/Adelaide:20270314T103000
DTSTAMP:20260424T100126
CREATED:20250122T022903Z
LAST-MODIFIED:20250701T023926Z
UID:10012784-1805016600-1805020200@glenelg.lutheran.org.au
SUMMARY:Faith Kids
DESCRIPTION:Faith Kids occurs each Sunday during school terms for children 0–12 years old.
URL:https://glenelg.lutheran.org.au/event/faith-kids-3/2027-03-14/
LOCATION:St Paul’s Church\, 50 Brighton Road\, Glenelg\, 5045
CATEGORIES:Activities,Events,Worship
ATTACH;FMTTYPE=image/jpeg:https://glenelg.lutheran.org.au/wp-content/uploads/2021/10/kids-st-pauls.jpg
GEO:-34.9807774;138.5207807
X-APPLE-STRUCTURED-LOCATION;VALUE=URI;X-ADDRESS=St Paul’s Church 50 Brighton Road Glenelg 5045;X-APPLE-RADIUS=500;X-TITLE=50 Brighton Road\, Glenelg:geo:138.5207807,-34.9807774
END:VEVENT
BEGIN:VEVENT
DTSTART;TZID=Australia/Adelaide:20270321T093000
DTEND;TZID=Australia/Adelaide:20270321T103000
DTSTAMP:20260424T100126
CREATED:20250122T022903Z
LAST-MODIFIED:20250701T023926Z
UID:10012785-1805621400-1805625000@glenelg.lutheran.org.au
SUMMARY:Faith Kids
DESCRIPTION:Faith Kids occurs each Sunday during school terms for children 0–12 years old.
URL:https://glenelg.lutheran.org.au/event/faith-kids-3/2027-03-21/
LOCATION:St Paul’s Church\, 50 Brighton Road\, Glenelg\, 5045
CATEGORIES:Activities,Events,Worship
ATTACH;FMTTYPE=image/jpeg:https://glenelg.lutheran.org.au/wp-content/uploads/2021/10/kids-st-pauls.jpg
GEO:-34.9807774;138.5207807
X-APPLE-STRUCTURED-LOCATION;VALUE=URI;X-ADDRESS=St Paul’s Church 50 Brighton Road Glenelg 5045;X-APPLE-RADIUS=500;X-TITLE=50 Brighton Road\, Glenelg:geo:138.5207807,-34.9807774
END:VEVENT
BEGIN:VEVENT
DTSTART;TZID=Australia/Adelaide:20270328T093000
DTEND;TZID=Australia/Adelaide:20270328T103000
DTSTAMP:20260424T100126
CREATED:20250122T022903Z
LAST-MODIFIED:20250701T023926Z
UID:10012786-1806226200-1806229800@glenelg.lutheran.org.au
SUMMARY:Faith Kids
DESCRIPTION:Faith Kids occurs each Sunday during school terms for children 0–12 years old.
URL:https://glenelg.lutheran.org.au/event/faith-kids-3/2027-03-28/
LOCATION:St Paul’s Church\, 50 Brighton Road\, Glenelg\, 5045
CATEGORIES:Activities,Events,Worship
ATTACH;FMTTYPE=image/jpeg:https://glenelg.lutheran.org.au/wp-content/uploads/2021/10/kids-st-pauls.jpg
GEO:-34.9807774;138.5207807
X-APPLE-STRUCTURED-LOCATION;VALUE=URI;X-ADDRESS=St Paul’s Church 50 Brighton Road Glenelg 5045;X-APPLE-RADIUS=500;X-TITLE=50 Brighton Road\, Glenelg:geo:138.5207807,-34.9807774
END:VEVENT
BEGIN:VEVENT
DTSTART;TZID=Australia/Adelaide:20270404T093000
DTEND;TZID=Australia/Adelaide:20270404T103000
DTSTAMP:20260424T100126
CREATED:20250122T022903Z
LAST-MODIFIED:20250701T023926Z
UID:10012787-1806831000-1806834600@glenelg.lutheran.org.au
SUMMARY:Faith Kids
DESCRIPTION:Faith Kids occurs each Sunday during school terms for children 0–12 years old.
URL:https://glenelg.lutheran.org.au/event/faith-kids-3/2027-04-04/
LOCATION:St Paul’s Church\, 50 Brighton Road\, Glenelg\, 5045
CATEGORIES:Activities,Events,Worship
ATTACH;FMTTYPE=image/jpeg:https://glenelg.lutheran.org.au/wp-content/uploads/2021/10/kids-st-pauls.jpg
GEO:-34.9807774;138.5207807
X-APPLE-STRUCTURED-LOCATION;VALUE=URI;X-ADDRESS=St Paul’s Church 50 Brighton Road Glenelg 5045;X-APPLE-RADIUS=500;X-TITLE=50 Brighton Road\, Glenelg:geo:138.5207807,-34.9807774
END:VEVENT
END:VCALENDAR