BEGIN:VCALENDAR
VERSION:2.0
PRODID:-//Glenelg St Paul Congregation SA - ECPv6.15.14//NONSGML v1.0//EN
CALSCALE:GREGORIAN
METHOD:PUBLISH
X-WR-CALNAME:Glenelg St Paul Congregation SA
X-ORIGINAL-URL:https://glenelg.lutheran.org.au
X-WR-CALDESC:Events for Glenelg St Paul Congregation SA
REFRESH-INTERVAL;VALUE=DURATION:PT1H
X-Robots-Tag:noindex
X-PUBLISHED-TTL:PT1H
BEGIN:VTIMEZONE
TZID:Australia/Adelaide
BEGIN:STANDARD
TZOFFSETFROM:+1030
TZOFFSETTO:+0930
TZNAME:ACST
DTSTART:20200404T163000
END:STANDARD
BEGIN:DAYLIGHT
TZOFFSETFROM:+0930
TZOFFSETTO:+1030
TZNAME:ACDT
DTSTART:20201003T163000
END:DAYLIGHT
BEGIN:STANDARD
TZOFFSETFROM:+1030
TZOFFSETTO:+0930
TZNAME:ACST
DTSTART:20210403T163000
END:STANDARD
BEGIN:DAYLIGHT
TZOFFSETFROM:+0930
TZOFFSETTO:+1030
TZNAME:ACDT
DTSTART:20211002T163000
END:DAYLIGHT
BEGIN:STANDARD
TZOFFSETFROM:+1030
TZOFFSETTO:+0930
TZNAME:ACST
DTSTART:20220402T163000
END:STANDARD
BEGIN:DAYLIGHT
TZOFFSETFROM:+0930
TZOFFSETTO:+1030
TZNAME:ACDT
DTSTART:20221001T163000
END:DAYLIGHT
BEGIN:STANDARD
TZOFFSETFROM:+1030
TZOFFSETTO:+0930
TZNAME:ACST
DTSTART:20230401T163000
END:STANDARD
BEGIN:DAYLIGHT
TZOFFSETFROM:+0930
TZOFFSETTO:+1030
TZNAME:ACDT
DTSTART:20230930T163000
END:DAYLIGHT
BEGIN:STANDARD
TZOFFSETFROM:+1030
TZOFFSETTO:+0930
TZNAME:ACST
DTSTART:20240406T163000
END:STANDARD
BEGIN:DAYLIGHT
TZOFFSETFROM:+0930
TZOFFSETTO:+1030
TZNAME:ACDT
DTSTART:20241005T163000
END:DAYLIGHT
BEGIN:STANDARD
TZOFFSETFROM:+1030
TZOFFSETTO:+0930
TZNAME:ACST
DTSTART:20250405T163000
END:STANDARD
BEGIN:DAYLIGHT
TZOFFSETFROM:+0930
TZOFFSETTO:+1030
TZNAME:ACDT
DTSTART:20251004T163000
END:DAYLIGHT
BEGIN:STANDARD
TZOFFSETFROM:+1030
TZOFFSETTO:+0930
TZNAME:ACST
DTSTART:20260404T163000
END:STANDARD
BEGIN:DAYLIGHT
TZOFFSETFROM:+0930
TZOFFSETTO:+1030
TZNAME:ACDT
DTSTART:20261003T163000
END:DAYLIGHT
END:VTIMEZONE
BEGIN:VEVENT
DTSTART;TZID=Australia/Adelaide:20251001T103000
DTEND;TZID=Australia/Adelaide:20251001T110000
DTSTAMP:20260424T195803
CREATED:20250506T015022Z
LAST-MODIFIED:20250701T023705Z
UID:10014566-1759314600-1759316400@glenelg.lutheran.org.au
SUMMARY:Monthly Mid-week worship with Holy Communion
DESCRIPTION:You’re invited to join us on the first wednesday of each month at 10:30am for mid week worship with Holy Communion.  The service is about 30 minutes in length\, includes a couple of well known hymns\, a simple reflection on the gospel and time of communion.  You are also welcome to join us after for morning tea\, and chat over tea and coffee.  All are welcome!
URL:https://glenelg.lutheran.org.au/event/monthly-mid-week-worship-with-holy-communion-3-2/2025-10-01/
LOCATION:St Paul’s Church\, 50 Brighton Road\, Glenelg\, 5045
CATEGORIES:Activities,Events,Worship
ATTACH;FMTTYPE=image/jpeg:https://glenelg.lutheran.org.au/wp-content/uploads/2025/05/My-project-copy-7.jpeg
GEO:-34.9807774;138.5207807
X-APPLE-STRUCTURED-LOCATION;VALUE=URI;X-ADDRESS=St Paul’s Church 50 Brighton Road Glenelg 5045;X-APPLE-RADIUS=500;X-TITLE=50 Brighton Road\, Glenelg:geo:138.5207807,-34.9807774
END:VEVENT
BEGIN:VEVENT
DTSTART;TZID=Australia/Adelaide:20250903T103000
DTEND;TZID=Australia/Adelaide:20250903T110000
DTSTAMP:20260424T195803
CREATED:20250506T015022Z
LAST-MODIFIED:20250701T023705Z
UID:10014565-1756895400-1756897200@glenelg.lutheran.org.au
SUMMARY:Monthly Mid-week worship with Holy Communion
DESCRIPTION:You’re invited to join us on the first wednesday of each month at 10:30am for mid week worship with Holy Communion.  The service is about 30 minutes in length\, includes a couple of well known hymns\, a simple reflection on the gospel and time of communion.  You are also welcome to join us after for morning tea\, and chat over tea and coffee.  All are welcome!
URL:https://glenelg.lutheran.org.au/event/monthly-mid-week-worship-with-holy-communion-3-2/2025-09-03/
LOCATION:St Paul’s Church\, 50 Brighton Road\, Glenelg\, 5045
CATEGORIES:Activities,Events,Worship
ATTACH;FMTTYPE=image/jpeg:https://glenelg.lutheran.org.au/wp-content/uploads/2025/05/My-project-copy-7.jpeg
GEO:-34.9807774;138.5207807
X-APPLE-STRUCTURED-LOCATION;VALUE=URI;X-ADDRESS=St Paul’s Church 50 Brighton Road Glenelg 5045;X-APPLE-RADIUS=500;X-TITLE=50 Brighton Road\, Glenelg:geo:138.5207807,-34.9807774
END:VEVENT
BEGIN:VEVENT
DTSTART;TZID=Australia/Adelaide:20250806T103000
DTEND;TZID=Australia/Adelaide:20250806T110000
DTSTAMP:20260424T195803
CREATED:20250506T015022Z
LAST-MODIFIED:20250701T023705Z
UID:10014564-1754476200-1754478000@glenelg.lutheran.org.au
SUMMARY:Monthly Mid-week worship with Holy Communion
DESCRIPTION:You’re invited to join us on the first wednesday of each month at 10:30am for mid week worship with Holy Communion.  The service is about 30 minutes in length\, includes a couple of well known hymns\, a simple reflection on the gospel and time of communion.  You are also welcome to join us after for morning tea\, and chat over tea and coffee.  All are welcome!
URL:https://glenelg.lutheran.org.au/event/monthly-mid-week-worship-with-holy-communion-3-2/2025-08-06/
LOCATION:St Paul’s Church\, 50 Brighton Road\, Glenelg\, 5045
CATEGORIES:Activities,Events,Worship
ATTACH;FMTTYPE=image/jpeg:https://glenelg.lutheran.org.au/wp-content/uploads/2025/05/My-project-copy-7.jpeg
GEO:-34.9807774;138.5207807
X-APPLE-STRUCTURED-LOCATION;VALUE=URI;X-ADDRESS=St Paul’s Church 50 Brighton Road Glenelg 5045;X-APPLE-RADIUS=500;X-TITLE=50 Brighton Road\, Glenelg:geo:138.5207807,-34.9807774
END:VEVENT
BEGIN:VEVENT
DTSTART;TZID=Australia/Adelaide:20250702T103000
DTEND;TZID=Australia/Adelaide:20250702T110000
DTSTAMP:20260424T195804
CREATED:20250506T015022Z
LAST-MODIFIED:20250701T023705Z
UID:10014563-1751452200-1751454000@glenelg.lutheran.org.au
SUMMARY:Monthly Mid-week worship with Holy Communion
DESCRIPTION:You’re invited to join us on the first wednesday of each month at 10:30am for mid week worship with Holy Communion.  The service is about 30 minutes in length\, includes a couple of well known hymns\, a simple reflection on the gospel and time of communion.  You are also welcome to join us after for morning tea\, and chat over tea and coffee.  All are welcome!
URL:https://glenelg.lutheran.org.au/event/monthly-mid-week-worship-with-holy-communion-3-2/2025-07-02/
LOCATION:St Paul’s Church\, 50 Brighton Road\, Glenelg\, 5045
CATEGORIES:Activities,Events,Worship
ATTACH;FMTTYPE=image/jpeg:https://glenelg.lutheran.org.au/wp-content/uploads/2025/05/My-project-copy-7.jpeg
GEO:-34.9807774;138.5207807
X-APPLE-STRUCTURED-LOCATION;VALUE=URI;X-ADDRESS=St Paul’s Church 50 Brighton Road Glenelg 5045;X-APPLE-RADIUS=500;X-TITLE=50 Brighton Road\, Glenelg:geo:138.5207807,-34.9807774
END:VEVENT
BEGIN:VEVENT
DTSTART;TZID=Australia/Adelaide:20250604T103000
DTEND;TZID=Australia/Adelaide:20250604T110000
DTSTAMP:20260424T195804
CREATED:20250506T015022Z
LAST-MODIFIED:20250701T023705Z
UID:10014562-1749033000-1749034800@glenelg.lutheran.org.au
SUMMARY:Monthly Mid-week worship with Holy Communion
DESCRIPTION:You’re invited to join us on the first wednesday of each month at 10:30am for mid week worship with Holy Communion.  The service is about 30 minutes in length\, includes a couple of well known hymns\, a simple reflection on the gospel and time of communion.  You are also welcome to join us after for morning tea\, and chat over tea and coffee.  All are welcome!
URL:https://glenelg.lutheran.org.au/event/monthly-mid-week-worship-with-holy-communion-3-2/2025-06-04/
LOCATION:St Paul’s Church\, 50 Brighton Road\, Glenelg\, 5045
CATEGORIES:Activities,Events,Worship
ATTACH;FMTTYPE=image/jpeg:https://glenelg.lutheran.org.au/wp-content/uploads/2025/05/My-project-copy-7.jpeg
GEO:-34.9807774;138.5207807
X-APPLE-STRUCTURED-LOCATION;VALUE=URI;X-ADDRESS=St Paul’s Church 50 Brighton Road Glenelg 5045;X-APPLE-RADIUS=500;X-TITLE=50 Brighton Road\, Glenelg:geo:138.5207807,-34.9807774
END:VEVENT
BEGIN:VEVENT
DTSTART;TZID=Australia/Adelaide:20250507T103000
DTEND;TZID=Australia/Adelaide:20250507T110000
DTSTAMP:20260424T195804
CREATED:20250506T015022Z
LAST-MODIFIED:20250701T023705Z
UID:10009554-1746613800-1746615600@glenelg.lutheran.org.au
SUMMARY:Monthly Mid-week worship with Holy Communion
DESCRIPTION:You’re invited to join us on the first wednesday of each month at 10:30am for mid week worship with Holy Communion.  The service is about 30 minutes in length\, includes a couple of well known hymns\, a simple reflection on the gospel and time of communion.  You are also welcome to join us after for morning tea\, and chat over tea and coffee.  All are welcome!
URL:https://glenelg.lutheran.org.au/event/monthly-mid-week-worship-with-holy-communion-3-2/2025-05-07/
LOCATION:St Paul’s Church\, 50 Brighton Road\, Glenelg\, 5045
CATEGORIES:Activities,Events,Worship
ATTACH;FMTTYPE=image/jpeg:https://glenelg.lutheran.org.au/wp-content/uploads/2025/05/My-project-copy-7.jpeg
GEO:-34.9807774;138.5207807
X-APPLE-STRUCTURED-LOCATION;VALUE=URI;X-ADDRESS=St Paul’s Church 50 Brighton Road Glenelg 5045;X-APPLE-RADIUS=500;X-TITLE=50 Brighton Road\, Glenelg:geo:138.5207807,-34.9807774
END:VEVENT
BEGIN:VEVENT
DTSTART;VALUE=DATE:20211022
DTEND;VALUE=DATE:20211023
DTSTAMP:20260424T195804
CREATED:20211015T045832Z
LAST-MODIFIED:20250122T024039Z
UID:10000467-1634860800-1634947199@glenelg.lutheran.org.au
SUMMARY:Confirmation Class
DESCRIPTION:We offer a weekly confirmation program for students 12 years and above during school terms. \nAdult instruction in the faith classes are also offered by Pastor.
URL:https://glenelg.lutheran.org.au/event/confirmation-class/
LOCATION:Martin Luther House\, 48-50 Jetty Road\, Glenelg\, 5045
CATEGORIES:Activities,Events
ATTACH;FMTTYPE=image/jpeg:https://glenelg.lutheran.org.au/wp-content/uploads/2021/10/confirmation-st-pauls.jpg
GEO:-34.9792101;138.5171763
X-APPLE-STRUCTURED-LOCATION;VALUE=URI;X-ADDRESS=Martin Luther House 48-50 Jetty Road Glenelg 5045;X-APPLE-RADIUS=500;X-TITLE=48-50 Jetty Road\, Glenelg:geo:138.5171763,-34.9792101
END:VEVENT
END:VCALENDAR