BEGIN:VCALENDAR
VERSION:2.0
PRODID:-//Glenelg St Paul Congregation SA - ECPv6.15.14//NONSGML v1.0//EN
CALSCALE:GREGORIAN
METHOD:PUBLISH
X-WR-CALNAME:Glenelg St Paul Congregation SA
X-ORIGINAL-URL:https://glenelg.lutheran.org.au
X-WR-CALDESC:Events for Glenelg St Paul Congregation SA
REFRESH-INTERVAL;VALUE=DURATION:PT1H
X-Robots-Tag:noindex
X-PUBLISHED-TTL:PT1H
BEGIN:VTIMEZONE
TZID:Australia/Adelaide
BEGIN:STANDARD
TZOFFSETFROM:+1030
TZOFFSETTO:+0930
TZNAME:ACST
DTSTART:20240406T163000
END:STANDARD
BEGIN:DAYLIGHT
TZOFFSETFROM:+0930
TZOFFSETTO:+1030
TZNAME:ACDT
DTSTART:20241005T163000
END:DAYLIGHT
BEGIN:STANDARD
TZOFFSETFROM:+1030
TZOFFSETTO:+0930
TZNAME:ACST
DTSTART:20250405T163000
END:STANDARD
BEGIN:DAYLIGHT
TZOFFSETFROM:+0930
TZOFFSETTO:+1030
TZNAME:ACDT
DTSTART:20251004T163000
END:DAYLIGHT
BEGIN:STANDARD
TZOFFSETFROM:+1030
TZOFFSETTO:+0930
TZNAME:ACST
DTSTART:20260404T163000
END:STANDARD
BEGIN:DAYLIGHT
TZOFFSETFROM:+0930
TZOFFSETTO:+1030
TZNAME:ACDT
DTSTART:20261003T163000
END:DAYLIGHT
BEGIN:STANDARD
TZOFFSETFROM:+1030
TZOFFSETTO:+0930
TZNAME:ACST
DTSTART:20270403T163000
END:STANDARD
BEGIN:DAYLIGHT
TZOFFSETFROM:+0930
TZOFFSETTO:+1030
TZNAME:ACDT
DTSTART:20271002T163000
END:DAYLIGHT
END:VTIMEZONE
BEGIN:VEVENT
DTSTART;TZID=Australia/Adelaide:20260410T183000
DTEND;TZID=Australia/Adelaide:20260410T213000
DTSTAMP:20260424T075958
CREATED:20250122T011849Z
LAST-MODIFIED:20250701T023836Z
UID:10012621-1775845800-1775856600@glenelg.lutheran.org.au
SUMMARY:Youth\, Young Adults and Families
DESCRIPTION:St Paul’s Youth\, Young Adults and families meet once a month. The youth enjoy get-togethers on a Friday nights. It’s a great place to grow in faith and meet other Christian young people.
URL:https://glenelg.lutheran.org.au/event/youth-3/2026-04-10/
CATEGORIES:Activities,Events
ATTACH;FMTTYPE=image/jpeg:https://glenelg.lutheran.org.au/wp-content/uploads/2022/06/youth-group-st-pauls-2.jpg
END:VEVENT
BEGIN:VEVENT
DTSTART;TZID=Australia/Adelaide:20260313T183000
DTEND;TZID=Australia/Adelaide:20260313T213000
DTSTAMP:20260424T075958
CREATED:20250122T011849Z
LAST-MODIFIED:20250701T023836Z
UID:10012620-1773426600-1773437400@glenelg.lutheran.org.au
SUMMARY:Youth\, Young Adults and Families
DESCRIPTION:St Paul’s Youth\, Young Adults and families meet once a month. The youth enjoy get-togethers on a Friday nights. It’s a great place to grow in faith and meet other Christian young people.
URL:https://glenelg.lutheran.org.au/event/youth-3/2026-03-13/
CATEGORIES:Activities,Events
ATTACH;FMTTYPE=image/jpeg:https://glenelg.lutheran.org.au/wp-content/uploads/2022/06/youth-group-st-pauls-2.jpg
END:VEVENT
BEGIN:VEVENT
DTSTART;TZID=Australia/Adelaide:20260213T183000
DTEND;TZID=Australia/Adelaide:20260213T213000
DTSTAMP:20260424T075958
CREATED:20250122T011849Z
LAST-MODIFIED:20250701T023836Z
UID:10012619-1771007400-1771018200@glenelg.lutheran.org.au
SUMMARY:Youth\, Young Adults and Families
DESCRIPTION:St Paul’s Youth\, Young Adults and families meet once a month. The youth enjoy get-togethers on a Friday nights. It’s a great place to grow in faith and meet other Christian young people.
URL:https://glenelg.lutheran.org.au/event/youth-3/2026-02-13/
CATEGORIES:Activities,Events
ATTACH;FMTTYPE=image/jpeg:https://glenelg.lutheran.org.au/wp-content/uploads/2022/06/youth-group-st-pauls-2.jpg
END:VEVENT
BEGIN:VEVENT
DTSTART;TZID=Australia/Adelaide:20260109T183000
DTEND;TZID=Australia/Adelaide:20260109T213000
DTSTAMP:20260424T075958
CREATED:20250122T011849Z
LAST-MODIFIED:20250701T023836Z
UID:10012618-1767983400-1767994200@glenelg.lutheran.org.au
SUMMARY:Youth\, Young Adults and Families
DESCRIPTION:St Paul’s Youth\, Young Adults and families meet once a month. The youth enjoy get-togethers on a Friday nights. It’s a great place to grow in faith and meet other Christian young people.
URL:https://glenelg.lutheran.org.au/event/youth-3/2026-01-09/
CATEGORIES:Activities,Events
ATTACH;FMTTYPE=image/jpeg:https://glenelg.lutheran.org.au/wp-content/uploads/2022/06/youth-group-st-pauls-2.jpg
END:VEVENT
BEGIN:VEVENT
DTSTART;TZID=Australia/Adelaide:20251212T183000
DTEND;TZID=Australia/Adelaide:20251212T213000
DTSTAMP:20260424T075958
CREATED:20250122T011849Z
LAST-MODIFIED:20250701T023836Z
UID:10012617-1765564200-1765575000@glenelg.lutheran.org.au
SUMMARY:Youth\, Young Adults and Families
DESCRIPTION:St Paul’s Youth\, Young Adults and families meet once a month. The youth enjoy get-togethers on a Friday nights. It’s a great place to grow in faith and meet other Christian young people.
URL:https://glenelg.lutheran.org.au/event/youth-3/2025-12-12/
CATEGORIES:Activities,Events
ATTACH;FMTTYPE=image/jpeg:https://glenelg.lutheran.org.au/wp-content/uploads/2022/06/youth-group-st-pauls-2.jpg
END:VEVENT
BEGIN:VEVENT
DTSTART;TZID=Australia/Adelaide:20251114T183000
DTEND;TZID=Australia/Adelaide:20251114T213000
DTSTAMP:20260424T075958
CREATED:20250122T011849Z
LAST-MODIFIED:20250701T023836Z
UID:10012616-1763145000-1763155800@glenelg.lutheran.org.au
SUMMARY:Youth\, Young Adults and Families
DESCRIPTION:St Paul’s Youth\, Young Adults and families meet once a month. The youth enjoy get-togethers on a Friday nights. It’s a great place to grow in faith and meet other Christian young people.
URL:https://glenelg.lutheran.org.au/event/youth-3/2025-11-14/
CATEGORIES:Activities,Events
ATTACH;FMTTYPE=image/jpeg:https://glenelg.lutheran.org.au/wp-content/uploads/2022/06/youth-group-st-pauls-2.jpg
END:VEVENT
BEGIN:VEVENT
DTSTART;TZID=Australia/Adelaide:20251010T183000
DTEND;TZID=Australia/Adelaide:20251010T213000
DTSTAMP:20260424T075958
CREATED:20250122T011849Z
LAST-MODIFIED:20250701T023836Z
UID:10012615-1760121000-1760131800@glenelg.lutheran.org.au
SUMMARY:Youth\, Young Adults and Families
DESCRIPTION:St Paul’s Youth\, Young Adults and families meet once a month. The youth enjoy get-togethers on a Friday nights. It’s a great place to grow in faith and meet other Christian young people.
URL:https://glenelg.lutheran.org.au/event/youth-3/2025-10-10/
CATEGORIES:Activities,Events
ATTACH;FMTTYPE=image/jpeg:https://glenelg.lutheran.org.au/wp-content/uploads/2022/06/youth-group-st-pauls-2.jpg
END:VEVENT
BEGIN:VEVENT
DTSTART;TZID=Australia/Adelaide:20250912T183000
DTEND;TZID=Australia/Adelaide:20250912T213000
DTSTAMP:20260424T075958
CREATED:20250122T011849Z
LAST-MODIFIED:20250701T023836Z
UID:10012614-1757701800-1757712600@glenelg.lutheran.org.au
SUMMARY:Youth\, Young Adults and Families
DESCRIPTION:St Paul’s Youth\, Young Adults and families meet once a month. The youth enjoy get-togethers on a Friday nights. It’s a great place to grow in faith and meet other Christian young people.
URL:https://glenelg.lutheran.org.au/event/youth-3/2025-09-12/
CATEGORIES:Activities,Events
ATTACH;FMTTYPE=image/jpeg:https://glenelg.lutheran.org.au/wp-content/uploads/2022/06/youth-group-st-pauls-2.jpg
END:VEVENT
BEGIN:VEVENT
DTSTART;TZID=Australia/Adelaide:20250808T183000
DTEND;TZID=Australia/Adelaide:20250808T213000
DTSTAMP:20260424T075958
CREATED:20250122T011849Z
LAST-MODIFIED:20250701T023836Z
UID:10012613-1754677800-1754688600@glenelg.lutheran.org.au
SUMMARY:Youth\, Young Adults and Families
DESCRIPTION:St Paul’s Youth\, Young Adults and families meet once a month. The youth enjoy get-togethers on a Friday nights. It’s a great place to grow in faith and meet other Christian young people.
URL:https://glenelg.lutheran.org.au/event/youth-3/2025-08-08/
CATEGORIES:Activities,Events
ATTACH;FMTTYPE=image/jpeg:https://glenelg.lutheran.org.au/wp-content/uploads/2022/06/youth-group-st-pauls-2.jpg
END:VEVENT
BEGIN:VEVENT
DTSTART;TZID=Australia/Adelaide:20250711T183000
DTEND;TZID=Australia/Adelaide:20250711T213000
DTSTAMP:20260424T075958
CREATED:20250122T011849Z
LAST-MODIFIED:20250701T023836Z
UID:10012612-1752258600-1752269400@glenelg.lutheran.org.au
SUMMARY:Youth\, Young Adults and Families
DESCRIPTION:St Paul’s Youth\, Young Adults and families meet once a month. The youth enjoy get-togethers on a Friday nights. It’s a great place to grow in faith and meet other Christian young people.
URL:https://glenelg.lutheran.org.au/event/youth-3/2025-07-11/
CATEGORIES:Activities,Events
ATTACH;FMTTYPE=image/jpeg:https://glenelg.lutheran.org.au/wp-content/uploads/2022/06/youth-group-st-pauls-2.jpg
END:VEVENT
BEGIN:VEVENT
DTSTART;TZID=Australia/Adelaide:20250613T183000
DTEND;TZID=Australia/Adelaide:20250613T213000
DTSTAMP:20260424T075958
CREATED:20250122T011849Z
LAST-MODIFIED:20250701T023836Z
UID:10012611-1749839400-1749850200@glenelg.lutheran.org.au
SUMMARY:Youth\, Young Adults and Families
DESCRIPTION:St Paul’s Youth\, Young Adults and families meet once a month. The youth enjoy get-togethers on a Friday nights. It’s a great place to grow in faith and meet other Christian young people.
URL:https://glenelg.lutheran.org.au/event/youth-3/2025-06-13/
CATEGORIES:Activities,Events
ATTACH;FMTTYPE=image/jpeg:https://glenelg.lutheran.org.au/wp-content/uploads/2022/06/youth-group-st-pauls-2.jpg
END:VEVENT
BEGIN:VEVENT
DTSTART;TZID=Australia/Adelaide:20250509T183000
DTEND;TZID=Australia/Adelaide:20250509T213000
DTSTAMP:20260424T075958
CREATED:20250122T011849Z
LAST-MODIFIED:20250701T023836Z
UID:10012610-1746815400-1746826200@glenelg.lutheran.org.au
SUMMARY:Youth\, Young Adults and Families
DESCRIPTION:St Paul’s Youth\, Young Adults and families meet once a month. The youth enjoy get-togethers on a Friday nights. It’s a great place to grow in faith and meet other Christian young people.
URL:https://glenelg.lutheran.org.au/event/youth-3/2025-05-09/
CATEGORIES:Activities,Events
ATTACH;FMTTYPE=image/jpeg:https://glenelg.lutheran.org.au/wp-content/uploads/2022/06/youth-group-st-pauls-2.jpg
END:VEVENT
BEGIN:VEVENT
DTSTART;TZID=Australia/Adelaide:20250411T183000
DTEND;TZID=Australia/Adelaide:20250411T213000
DTSTAMP:20260424T075958
CREATED:20250122T011849Z
LAST-MODIFIED:20250701T023836Z
UID:10012609-1744396200-1744407000@glenelg.lutheran.org.au
SUMMARY:Youth\, Young Adults and Families
DESCRIPTION:St Paul’s Youth\, Young Adults and families meet once a month. The youth enjoy get-togethers on a Friday nights. It’s a great place to grow in faith and meet other Christian young people.
URL:https://glenelg.lutheran.org.au/event/youth-3/2025-04-11/
CATEGORIES:Activities,Events
ATTACH;FMTTYPE=image/jpeg:https://glenelg.lutheran.org.au/wp-content/uploads/2022/06/youth-group-st-pauls-2.jpg
END:VEVENT
BEGIN:VEVENT
DTSTART;TZID=Australia/Adelaide:20250314T183000
DTEND;TZID=Australia/Adelaide:20250314T213000
DTSTAMP:20260424T075958
CREATED:20250122T011849Z
LAST-MODIFIED:20250701T023836Z
UID:10012608-1741977000-1741987800@glenelg.lutheran.org.au
SUMMARY:Youth\, Young Adults and Families
DESCRIPTION:St Paul’s Youth\, Young Adults and families meet once a month. The youth enjoy get-togethers on a Friday nights. It’s a great place to grow in faith and meet other Christian young people.
URL:https://glenelg.lutheran.org.au/event/youth-3/2025-03-14/
CATEGORIES:Activities,Events
ATTACH;FMTTYPE=image/jpeg:https://glenelg.lutheran.org.au/wp-content/uploads/2022/06/youth-group-st-pauls-2.jpg
END:VEVENT
BEGIN:VEVENT
DTSTART;TZID=Australia/Adelaide:20250214T183000
DTEND;TZID=Australia/Adelaide:20250214T213000
DTSTAMP:20260424T075958
CREATED:20250122T011849Z
LAST-MODIFIED:20250701T023836Z
UID:10012607-1739557800-1739568600@glenelg.lutheran.org.au
SUMMARY:Youth\, Young Adults and Families
DESCRIPTION:St Paul’s Youth\, Young Adults and families meet once a month. The youth enjoy get-togethers on a Friday nights. It’s a great place to grow in faith and meet other Christian young people.
URL:https://glenelg.lutheran.org.au/event/youth-3/2025-02-14/
CATEGORIES:Activities,Events
ATTACH;FMTTYPE=image/jpeg:https://glenelg.lutheran.org.au/wp-content/uploads/2022/06/youth-group-st-pauls-2.jpg
END:VEVENT
END:VCALENDAR