BEGIN:VCALENDAR
VERSION:2.0
PRODID:-//Glenelg St Paul Congregation SA - ECPv6.15.14//NONSGML v1.0//EN
CALSCALE:GREGORIAN
METHOD:PUBLISH
X-WR-CALNAME:Glenelg St Paul Congregation SA
X-ORIGINAL-URL:https://glenelg.lutheran.org.au
X-WR-CALDESC:Events for Glenelg St Paul Congregation SA
REFRESH-INTERVAL;VALUE=DURATION:PT1H
X-Robots-Tag:noindex
X-PUBLISHED-TTL:PT1H
BEGIN:VTIMEZONE
TZID:Australia/Adelaide
BEGIN:STANDARD
TZOFFSETFROM:+1030
TZOFFSETTO:+0930
TZNAME:ACST
DTSTART:20260404T163000
END:STANDARD
BEGIN:DAYLIGHT
TZOFFSETFROM:+0930
TZOFFSETTO:+1030
TZNAME:ACDT
DTSTART:20261003T163000
END:DAYLIGHT
BEGIN:STANDARD
TZOFFSETFROM:+1030
TZOFFSETTO:+0930
TZNAME:ACST
DTSTART:20270403T163000
END:STANDARD
BEGIN:DAYLIGHT
TZOFFSETFROM:+0930
TZOFFSETTO:+1030
TZNAME:ACDT
DTSTART:20271002T163000
END:DAYLIGHT
BEGIN:STANDARD
TZOFFSETFROM:+1030
TZOFFSETTO:+0930
TZNAME:ACST
DTSTART:20280401T163000
END:STANDARD
BEGIN:DAYLIGHT
TZOFFSETFROM:+0930
TZOFFSETTO:+1030
TZNAME:ACDT
DTSTART:20280930T163000
END:DAYLIGHT
BEGIN:STANDARD
TZOFFSETFROM:+1030
TZOFFSETTO:+0930
TZNAME:ACST
DTSTART:20290331T163000
END:STANDARD
BEGIN:DAYLIGHT
TZOFFSETFROM:+0930
TZOFFSETTO:+1030
TZNAME:ACDT
DTSTART:20291006T163000
END:DAYLIGHT
BEGIN:STANDARD
TZOFFSETFROM:+1030
TZOFFSETTO:+0930
TZNAME:ACST
DTSTART:20300406T163000
END:STANDARD
BEGIN:DAYLIGHT
TZOFFSETFROM:+0930
TZOFFSETTO:+1030
TZNAME:ACDT
DTSTART:20301005T163000
END:DAYLIGHT
END:VTIMEZONE
BEGIN:VEVENT
DTSTART;TZID=Australia/Adelaide:20270312T183000
DTEND;TZID=Australia/Adelaide:20270312T213000
DTSTAMP:20260424T075941
CREATED:20250122T011849Z
LAST-MODIFIED:20250701T023836Z
UID:10012632-1804876200-1804887000@glenelg.lutheran.org.au
SUMMARY:Youth\, Young Adults and Families
DESCRIPTION:St Paul’s Youth\, Young Adults and families meet once a month. The youth enjoy get-togethers on a Friday nights. It’s a great place to grow in faith and meet other Christian young people.
URL:https://glenelg.lutheran.org.au/event/youth-3/2027-03-12/
CATEGORIES:Activities,Events
ATTACH;FMTTYPE=image/jpeg:https://glenelg.lutheran.org.au/wp-content/uploads/2022/06/youth-group-st-pauls-2.jpg
END:VEVENT
BEGIN:VEVENT
DTSTART;TZID=Australia/Adelaide:20270409T183000
DTEND;TZID=Australia/Adelaide:20270409T213000
DTSTAMP:20260424T075941
CREATED:20250122T011849Z
LAST-MODIFIED:20250701T023836Z
UID:10012633-1807295400-1807306200@glenelg.lutheran.org.au
SUMMARY:Youth\, Young Adults and Families
DESCRIPTION:St Paul’s Youth\, Young Adults and families meet once a month. The youth enjoy get-togethers on a Friday nights. It’s a great place to grow in faith and meet other Christian young people.
URL:https://glenelg.lutheran.org.au/event/youth-3/2027-04-09/
CATEGORIES:Activities,Events
ATTACH;FMTTYPE=image/jpeg:https://glenelg.lutheran.org.au/wp-content/uploads/2022/06/youth-group-st-pauls-2.jpg
END:VEVENT
BEGIN:VEVENT
DTSTART;TZID=Australia/Adelaide:20270514T183000
DTEND;TZID=Australia/Adelaide:20270514T213000
DTSTAMP:20260424T075941
CREATED:20250122T011849Z
LAST-MODIFIED:20250701T023836Z
UID:10012634-1810319400-1810330200@glenelg.lutheran.org.au
SUMMARY:Youth\, Young Adults and Families
DESCRIPTION:St Paul’s Youth\, Young Adults and families meet once a month. The youth enjoy get-togethers on a Friday nights. It’s a great place to grow in faith and meet other Christian young people.
URL:https://glenelg.lutheran.org.au/event/youth-3/2027-05-14/
CATEGORIES:Activities,Events
ATTACH;FMTTYPE=image/jpeg:https://glenelg.lutheran.org.au/wp-content/uploads/2022/06/youth-group-st-pauls-2.jpg
END:VEVENT
BEGIN:VEVENT
DTSTART;TZID=Australia/Adelaide:20270611T183000
DTEND;TZID=Australia/Adelaide:20270611T213000
DTSTAMP:20260424T075941
CREATED:20250122T011849Z
LAST-MODIFIED:20250701T023836Z
UID:10012635-1812738600-1812749400@glenelg.lutheran.org.au
SUMMARY:Youth\, Young Adults and Families
DESCRIPTION:St Paul’s Youth\, Young Adults and families meet once a month. The youth enjoy get-togethers on a Friday nights. It’s a great place to grow in faith and meet other Christian young people.
URL:https://glenelg.lutheran.org.au/event/youth-3/2027-06-11/
CATEGORIES:Activities,Events
ATTACH;FMTTYPE=image/jpeg:https://glenelg.lutheran.org.au/wp-content/uploads/2022/06/youth-group-st-pauls-2.jpg
END:VEVENT
BEGIN:VEVENT
DTSTART;TZID=Australia/Adelaide:20270709T183000
DTEND;TZID=Australia/Adelaide:20270709T213000
DTSTAMP:20260424T075941
CREATED:20250122T011849Z
LAST-MODIFIED:20250701T023836Z
UID:10012636-1815157800-1815168600@glenelg.lutheran.org.au
SUMMARY:Youth\, Young Adults and Families
DESCRIPTION:St Paul’s Youth\, Young Adults and families meet once a month. The youth enjoy get-togethers on a Friday nights. It’s a great place to grow in faith and meet other Christian young people.
URL:https://glenelg.lutheran.org.au/event/youth-3/2027-07-09/
CATEGORIES:Activities,Events
ATTACH;FMTTYPE=image/jpeg:https://glenelg.lutheran.org.au/wp-content/uploads/2022/06/youth-group-st-pauls-2.jpg
END:VEVENT
BEGIN:VEVENT
DTSTART;TZID=Australia/Adelaide:20270813T183000
DTEND;TZID=Australia/Adelaide:20270813T213000
DTSTAMP:20260424T075941
CREATED:20250122T011849Z
LAST-MODIFIED:20250701T023836Z
UID:10012637-1818181800-1818192600@glenelg.lutheran.org.au
SUMMARY:Youth\, Young Adults and Families
DESCRIPTION:St Paul’s Youth\, Young Adults and families meet once a month. The youth enjoy get-togethers on a Friday nights. It’s a great place to grow in faith and meet other Christian young people.
URL:https://glenelg.lutheran.org.au/event/youth-3/2027-08-13/
CATEGORIES:Activities,Events
ATTACH;FMTTYPE=image/jpeg:https://glenelg.lutheran.org.au/wp-content/uploads/2022/06/youth-group-st-pauls-2.jpg
END:VEVENT
BEGIN:VEVENT
DTSTART;TZID=Australia/Adelaide:20270910T183000
DTEND;TZID=Australia/Adelaide:20270910T213000
DTSTAMP:20260424T075941
CREATED:20250122T011849Z
LAST-MODIFIED:20250701T023836Z
UID:10012638-1820601000-1820611800@glenelg.lutheran.org.au
SUMMARY:Youth\, Young Adults and Families
DESCRIPTION:St Paul’s Youth\, Young Adults and families meet once a month. The youth enjoy get-togethers on a Friday nights. It’s a great place to grow in faith and meet other Christian young people.
URL:https://glenelg.lutheran.org.au/event/youth-3/2027-09-10/
CATEGORIES:Activities,Events
ATTACH;FMTTYPE=image/jpeg:https://glenelg.lutheran.org.au/wp-content/uploads/2022/06/youth-group-st-pauls-2.jpg
END:VEVENT
BEGIN:VEVENT
DTSTART;TZID=Australia/Adelaide:20271008T183000
DTEND;TZID=Australia/Adelaide:20271008T213000
DTSTAMP:20260424T075941
CREATED:20250122T011849Z
LAST-MODIFIED:20250701T023836Z
UID:10012639-1823020200-1823031000@glenelg.lutheran.org.au
SUMMARY:Youth\, Young Adults and Families
DESCRIPTION:St Paul’s Youth\, Young Adults and families meet once a month. The youth enjoy get-togethers on a Friday nights. It’s a great place to grow in faith and meet other Christian young people.
URL:https://glenelg.lutheran.org.au/event/youth-3/2027-10-08/
CATEGORIES:Activities,Events
ATTACH;FMTTYPE=image/jpeg:https://glenelg.lutheran.org.au/wp-content/uploads/2022/06/youth-group-st-pauls-2.jpg
END:VEVENT
BEGIN:VEVENT
DTSTART;TZID=Australia/Adelaide:20271112T183000
DTEND;TZID=Australia/Adelaide:20271112T213000
DTSTAMP:20260424T075941
CREATED:20250122T011849Z
LAST-MODIFIED:20250701T023836Z
UID:10012640-1826044200-1826055000@glenelg.lutheran.org.au
SUMMARY:Youth\, Young Adults and Families
DESCRIPTION:St Paul’s Youth\, Young Adults and families meet once a month. The youth enjoy get-togethers on a Friday nights. It’s a great place to grow in faith and meet other Christian young people.
URL:https://glenelg.lutheran.org.au/event/youth-3/2027-11-12/
CATEGORIES:Activities,Events
ATTACH;FMTTYPE=image/jpeg:https://glenelg.lutheran.org.au/wp-content/uploads/2022/06/youth-group-st-pauls-2.jpg
END:VEVENT
BEGIN:VEVENT
DTSTART;TZID=Australia/Adelaide:20271210T183000
DTEND;TZID=Australia/Adelaide:20271210T213000
DTSTAMP:20260424T075941
CREATED:20250122T011849Z
LAST-MODIFIED:20250701T023836Z
UID:10012641-1828463400-1828474200@glenelg.lutheran.org.au
SUMMARY:Youth\, Young Adults and Families
DESCRIPTION:St Paul’s Youth\, Young Adults and families meet once a month. The youth enjoy get-togethers on a Friday nights. It’s a great place to grow in faith and meet other Christian young people.
URL:https://glenelg.lutheran.org.au/event/youth-3/2027-12-10/
CATEGORIES:Activities,Events
ATTACH;FMTTYPE=image/jpeg:https://glenelg.lutheran.org.au/wp-content/uploads/2022/06/youth-group-st-pauls-2.jpg
END:VEVENT
BEGIN:VEVENT
DTSTART;TZID=Australia/Adelaide:20280114T183000
DTEND;TZID=Australia/Adelaide:20280114T213000
DTSTAMP:20260424T075941
CREATED:20250122T011849Z
LAST-MODIFIED:20250701T023836Z
UID:10012642-1831487400-1831498200@glenelg.lutheran.org.au
SUMMARY:Youth\, Young Adults and Families
DESCRIPTION:St Paul’s Youth\, Young Adults and families meet once a month. The youth enjoy get-togethers on a Friday nights. It’s a great place to grow in faith and meet other Christian young people.
URL:https://glenelg.lutheran.org.au/event/youth-3/2028-01-14/
CATEGORIES:Activities,Events
ATTACH;FMTTYPE=image/jpeg:https://glenelg.lutheran.org.au/wp-content/uploads/2022/06/youth-group-st-pauls-2.jpg
END:VEVENT
BEGIN:VEVENT
DTSTART;TZID=Australia/Adelaide:20280211T183000
DTEND;TZID=Australia/Adelaide:20280211T213000
DTSTAMP:20260424T075941
CREATED:20250122T011849Z
LAST-MODIFIED:20250701T023836Z
UID:10012643-1833906600-1833917400@glenelg.lutheran.org.au
SUMMARY:Youth\, Young Adults and Families
DESCRIPTION:St Paul’s Youth\, Young Adults and families meet once a month. The youth enjoy get-togethers on a Friday nights. It’s a great place to grow in faith and meet other Christian young people.
URL:https://glenelg.lutheran.org.au/event/youth-3/2028-02-11/
CATEGORIES:Activities,Events
ATTACH;FMTTYPE=image/jpeg:https://glenelg.lutheran.org.au/wp-content/uploads/2022/06/youth-group-st-pauls-2.jpg
END:VEVENT
BEGIN:VEVENT
DTSTART;TZID=Australia/Adelaide:20280310T183000
DTEND;TZID=Australia/Adelaide:20280310T213000
DTSTAMP:20260424T075941
CREATED:20250122T011849Z
LAST-MODIFIED:20250701T023836Z
UID:10012644-1836325800-1836336600@glenelg.lutheran.org.au
SUMMARY:Youth\, Young Adults and Families
DESCRIPTION:St Paul’s Youth\, Young Adults and families meet once a month. The youth enjoy get-togethers on a Friday nights. It’s a great place to grow in faith and meet other Christian young people.
URL:https://glenelg.lutheran.org.au/event/youth-3/2028-03-10/
CATEGORIES:Activities,Events
ATTACH;FMTTYPE=image/jpeg:https://glenelg.lutheran.org.au/wp-content/uploads/2022/06/youth-group-st-pauls-2.jpg
END:VEVENT
BEGIN:VEVENT
DTSTART;TZID=Australia/Adelaide:20280414T183000
DTEND;TZID=Australia/Adelaide:20280414T213000
DTSTAMP:20260424T075941
CREATED:20250122T011849Z
LAST-MODIFIED:20250701T023836Z
UID:10012645-1839349800-1839360600@glenelg.lutheran.org.au
SUMMARY:Youth\, Young Adults and Families
DESCRIPTION:St Paul’s Youth\, Young Adults and families meet once a month. The youth enjoy get-togethers on a Friday nights. It’s a great place to grow in faith and meet other Christian young people.
URL:https://glenelg.lutheran.org.au/event/youth-3/2028-04-14/
CATEGORIES:Activities,Events
ATTACH;FMTTYPE=image/jpeg:https://glenelg.lutheran.org.au/wp-content/uploads/2022/06/youth-group-st-pauls-2.jpg
END:VEVENT
BEGIN:VEVENT
DTSTART;TZID=Australia/Adelaide:20280512T183000
DTEND;TZID=Australia/Adelaide:20280512T213000
DTSTAMP:20260424T075941
CREATED:20250122T011849Z
LAST-MODIFIED:20250701T023836Z
UID:10012646-1841769000-1841779800@glenelg.lutheran.org.au
SUMMARY:Youth\, Young Adults and Families
DESCRIPTION:St Paul’s Youth\, Young Adults and families meet once a month. The youth enjoy get-togethers on a Friday nights. It’s a great place to grow in faith and meet other Christian young people.
URL:https://glenelg.lutheran.org.au/event/youth-3/2028-05-12/
CATEGORIES:Activities,Events
ATTACH;FMTTYPE=image/jpeg:https://glenelg.lutheran.org.au/wp-content/uploads/2022/06/youth-group-st-pauls-2.jpg
END:VEVENT
BEGIN:VEVENT
DTSTART;TZID=Australia/Adelaide:20280609T183000
DTEND;TZID=Australia/Adelaide:20280609T213000
DTSTAMP:20260424T075941
CREATED:20250122T011849Z
LAST-MODIFIED:20250701T023836Z
UID:10012647-1844188200-1844199000@glenelg.lutheran.org.au
SUMMARY:Youth\, Young Adults and Families
DESCRIPTION:St Paul’s Youth\, Young Adults and families meet once a month. The youth enjoy get-togethers on a Friday nights. It’s a great place to grow in faith and meet other Christian young people.
URL:https://glenelg.lutheran.org.au/event/youth-3/2028-06-09/
CATEGORIES:Activities,Events
ATTACH;FMTTYPE=image/jpeg:https://glenelg.lutheran.org.au/wp-content/uploads/2022/06/youth-group-st-pauls-2.jpg
END:VEVENT
BEGIN:VEVENT
DTSTART;TZID=Australia/Adelaide:20280714T183000
DTEND;TZID=Australia/Adelaide:20280714T213000
DTSTAMP:20260424T075941
CREATED:20250122T011849Z
LAST-MODIFIED:20250701T023836Z
UID:10012648-1847212200-1847223000@glenelg.lutheran.org.au
SUMMARY:Youth\, Young Adults and Families
DESCRIPTION:St Paul’s Youth\, Young Adults and families meet once a month. The youth enjoy get-togethers on a Friday nights. It’s a great place to grow in faith and meet other Christian young people.
URL:https://glenelg.lutheran.org.au/event/youth-3/2028-07-14/
CATEGORIES:Activities,Events
ATTACH;FMTTYPE=image/jpeg:https://glenelg.lutheran.org.au/wp-content/uploads/2022/06/youth-group-st-pauls-2.jpg
END:VEVENT
BEGIN:VEVENT
DTSTART;TZID=Australia/Adelaide:20280811T183000
DTEND;TZID=Australia/Adelaide:20280811T213000
DTSTAMP:20260424T075941
CREATED:20250122T011849Z
LAST-MODIFIED:20250701T023836Z
UID:10012649-1849631400-1849642200@glenelg.lutheran.org.au
SUMMARY:Youth\, Young Adults and Families
DESCRIPTION:St Paul’s Youth\, Young Adults and families meet once a month. The youth enjoy get-togethers on a Friday nights. It’s a great place to grow in faith and meet other Christian young people.
URL:https://glenelg.lutheran.org.au/event/youth-3/2028-08-11/
CATEGORIES:Activities,Events
ATTACH;FMTTYPE=image/jpeg:https://glenelg.lutheran.org.au/wp-content/uploads/2022/06/youth-group-st-pauls-2.jpg
END:VEVENT
BEGIN:VEVENT
DTSTART;TZID=Australia/Adelaide:20280908T183000
DTEND;TZID=Australia/Adelaide:20280908T213000
DTSTAMP:20260424T075941
CREATED:20250122T011849Z
LAST-MODIFIED:20250701T023836Z
UID:10012650-1852050600-1852061400@glenelg.lutheran.org.au
SUMMARY:Youth\, Young Adults and Families
DESCRIPTION:St Paul’s Youth\, Young Adults and families meet once a month. The youth enjoy get-togethers on a Friday nights. It’s a great place to grow in faith and meet other Christian young people.
URL:https://glenelg.lutheran.org.au/event/youth-3/2028-09-08/
CATEGORIES:Activities,Events
ATTACH;FMTTYPE=image/jpeg:https://glenelg.lutheran.org.au/wp-content/uploads/2022/06/youth-group-st-pauls-2.jpg
END:VEVENT
BEGIN:VEVENT
DTSTART;TZID=Australia/Adelaide:20281013T183000
DTEND;TZID=Australia/Adelaide:20281013T213000
DTSTAMP:20260424T075941
CREATED:20250122T011849Z
LAST-MODIFIED:20250701T023836Z
UID:10012651-1855074600-1855085400@glenelg.lutheran.org.au
SUMMARY:Youth\, Young Adults and Families
DESCRIPTION:St Paul’s Youth\, Young Adults and families meet once a month. The youth enjoy get-togethers on a Friday nights. It’s a great place to grow in faith and meet other Christian young people.
URL:https://glenelg.lutheran.org.au/event/youth-3/2028-10-13/
CATEGORIES:Activities,Events
ATTACH;FMTTYPE=image/jpeg:https://glenelg.lutheran.org.au/wp-content/uploads/2022/06/youth-group-st-pauls-2.jpg
END:VEVENT
BEGIN:VEVENT
DTSTART;TZID=Australia/Adelaide:20281110T183000
DTEND;TZID=Australia/Adelaide:20281110T213000
DTSTAMP:20260424T075941
CREATED:20250122T011849Z
LAST-MODIFIED:20250701T023836Z
UID:10012652-1857493800-1857504600@glenelg.lutheran.org.au
SUMMARY:Youth\, Young Adults and Families
DESCRIPTION:St Paul’s Youth\, Young Adults and families meet once a month. The youth enjoy get-togethers on a Friday nights. It’s a great place to grow in faith and meet other Christian young people.
URL:https://glenelg.lutheran.org.au/event/youth-3/2028-11-10/
CATEGORIES:Activities,Events
ATTACH;FMTTYPE=image/jpeg:https://glenelg.lutheran.org.au/wp-content/uploads/2022/06/youth-group-st-pauls-2.jpg
END:VEVENT
BEGIN:VEVENT
DTSTART;TZID=Australia/Adelaide:20281208T183000
DTEND;TZID=Australia/Adelaide:20281208T213000
DTSTAMP:20260424T075941
CREATED:20250122T011849Z
LAST-MODIFIED:20250701T023836Z
UID:10012653-1859913000-1859923800@glenelg.lutheran.org.au
SUMMARY:Youth\, Young Adults and Families
DESCRIPTION:St Paul’s Youth\, Young Adults and families meet once a month. The youth enjoy get-togethers on a Friday nights. It’s a great place to grow in faith and meet other Christian young people.
URL:https://glenelg.lutheran.org.au/event/youth-3/2028-12-08/
CATEGORIES:Activities,Events
ATTACH;FMTTYPE=image/jpeg:https://glenelg.lutheran.org.au/wp-content/uploads/2022/06/youth-group-st-pauls-2.jpg
END:VEVENT
BEGIN:VEVENT
DTSTART;TZID=Australia/Adelaide:20290112T183000
DTEND;TZID=Australia/Adelaide:20290112T213000
DTSTAMP:20260424T075941
CREATED:20250122T011849Z
LAST-MODIFIED:20250701T023836Z
UID:10012654-1862937000-1862947800@glenelg.lutheran.org.au
SUMMARY:Youth\, Young Adults and Families
DESCRIPTION:St Paul’s Youth\, Young Adults and families meet once a month. The youth enjoy get-togethers on a Friday nights. It’s a great place to grow in faith and meet other Christian young people.
URL:https://glenelg.lutheran.org.au/event/youth-3/2029-01-12/
CATEGORIES:Activities,Events
ATTACH;FMTTYPE=image/jpeg:https://glenelg.lutheran.org.au/wp-content/uploads/2022/06/youth-group-st-pauls-2.jpg
END:VEVENT
BEGIN:VEVENT
DTSTART;TZID=Australia/Adelaide:20290209T183000
DTEND;TZID=Australia/Adelaide:20290209T213000
DTSTAMP:20260424T075941
CREATED:20250122T011849Z
LAST-MODIFIED:20250701T023836Z
UID:10012655-1865356200-1865367000@glenelg.lutheran.org.au
SUMMARY:Youth\, Young Adults and Families
DESCRIPTION:St Paul’s Youth\, Young Adults and families meet once a month. The youth enjoy get-togethers on a Friday nights. It’s a great place to grow in faith and meet other Christian young people.
URL:https://glenelg.lutheran.org.au/event/youth-3/2029-02-09/
CATEGORIES:Activities,Events
ATTACH;FMTTYPE=image/jpeg:https://glenelg.lutheran.org.au/wp-content/uploads/2022/06/youth-group-st-pauls-2.jpg
END:VEVENT
BEGIN:VEVENT
DTSTART;TZID=Australia/Adelaide:20290309T183000
DTEND;TZID=Australia/Adelaide:20290309T213000
DTSTAMP:20260424T075941
CREATED:20250122T011849Z
LAST-MODIFIED:20250701T023836Z
UID:10012656-1867775400-1867786200@glenelg.lutheran.org.au
SUMMARY:Youth\, Young Adults and Families
DESCRIPTION:St Paul’s Youth\, Young Adults and families meet once a month. The youth enjoy get-togethers on a Friday nights. It’s a great place to grow in faith and meet other Christian young people.
URL:https://glenelg.lutheran.org.au/event/youth-3/2029-03-09/
CATEGORIES:Activities,Events
ATTACH;FMTTYPE=image/jpeg:https://glenelg.lutheran.org.au/wp-content/uploads/2022/06/youth-group-st-pauls-2.jpg
END:VEVENT
BEGIN:VEVENT
DTSTART;TZID=Australia/Adelaide:20290413T183000
DTEND;TZID=Australia/Adelaide:20290413T213000
DTSTAMP:20260424T075941
CREATED:20250122T011849Z
LAST-MODIFIED:20250701T023836Z
UID:10012657-1870799400-1870810200@glenelg.lutheran.org.au
SUMMARY:Youth\, Young Adults and Families
DESCRIPTION:St Paul’s Youth\, Young Adults and families meet once a month. The youth enjoy get-togethers on a Friday nights. It’s a great place to grow in faith and meet other Christian young people.
URL:https://glenelg.lutheran.org.au/event/youth-3/2029-04-13/
CATEGORIES:Activities,Events
ATTACH;FMTTYPE=image/jpeg:https://glenelg.lutheran.org.au/wp-content/uploads/2022/06/youth-group-st-pauls-2.jpg
END:VEVENT
BEGIN:VEVENT
DTSTART;TZID=Australia/Adelaide:20290511T183000
DTEND;TZID=Australia/Adelaide:20290511T213000
DTSTAMP:20260424T075941
CREATED:20250122T011849Z
LAST-MODIFIED:20250701T023836Z
UID:10012658-1873218600-1873229400@glenelg.lutheran.org.au
SUMMARY:Youth\, Young Adults and Families
DESCRIPTION:St Paul’s Youth\, Young Adults and families meet once a month. The youth enjoy get-togethers on a Friday nights. It’s a great place to grow in faith and meet other Christian young people.
URL:https://glenelg.lutheran.org.au/event/youth-3/2029-05-11/
CATEGORIES:Activities,Events
ATTACH;FMTTYPE=image/jpeg:https://glenelg.lutheran.org.au/wp-content/uploads/2022/06/youth-group-st-pauls-2.jpg
END:VEVENT
BEGIN:VEVENT
DTSTART;TZID=Australia/Adelaide:20290608T183000
DTEND;TZID=Australia/Adelaide:20290608T213000
DTSTAMP:20260424T075941
CREATED:20250122T011849Z
LAST-MODIFIED:20250701T023836Z
UID:10012659-1875637800-1875648600@glenelg.lutheran.org.au
SUMMARY:Youth\, Young Adults and Families
DESCRIPTION:St Paul’s Youth\, Young Adults and families meet once a month. The youth enjoy get-togethers on a Friday nights. It’s a great place to grow in faith and meet other Christian young people.
URL:https://glenelg.lutheran.org.au/event/youth-3/2029-06-08/
CATEGORIES:Activities,Events
ATTACH;FMTTYPE=image/jpeg:https://glenelg.lutheran.org.au/wp-content/uploads/2022/06/youth-group-st-pauls-2.jpg
END:VEVENT
BEGIN:VEVENT
DTSTART;TZID=Australia/Adelaide:20290713T183000
DTEND;TZID=Australia/Adelaide:20290713T213000
DTSTAMP:20260424T075941
CREATED:20250122T011849Z
LAST-MODIFIED:20250701T023836Z
UID:10012660-1878661800-1878672600@glenelg.lutheran.org.au
SUMMARY:Youth\, Young Adults and Families
DESCRIPTION:St Paul’s Youth\, Young Adults and families meet once a month. The youth enjoy get-togethers on a Friday nights. It’s a great place to grow in faith and meet other Christian young people.
URL:https://glenelg.lutheran.org.au/event/youth-3/2029-07-13/
CATEGORIES:Activities,Events
ATTACH;FMTTYPE=image/jpeg:https://glenelg.lutheran.org.au/wp-content/uploads/2022/06/youth-group-st-pauls-2.jpg
END:VEVENT
BEGIN:VEVENT
DTSTART;TZID=Australia/Adelaide:20290810T183000
DTEND;TZID=Australia/Adelaide:20290810T213000
DTSTAMP:20260424T075941
CREATED:20250122T011849Z
LAST-MODIFIED:20250701T023836Z
UID:10012661-1881081000-1881091800@glenelg.lutheran.org.au
SUMMARY:Youth\, Young Adults and Families
DESCRIPTION:St Paul’s Youth\, Young Adults and families meet once a month. The youth enjoy get-togethers on a Friday nights. It’s a great place to grow in faith and meet other Christian young people.
URL:https://glenelg.lutheran.org.au/event/youth-3/2029-08-10/
CATEGORIES:Activities,Events
ATTACH;FMTTYPE=image/jpeg:https://glenelg.lutheran.org.au/wp-content/uploads/2022/06/youth-group-st-pauls-2.jpg
END:VEVENT
END:VCALENDAR