BEGIN:VCALENDAR
VERSION:2.0
PRODID:-//Glenelg St Paul Congregation SA - ECPv6.15.14//NONSGML v1.0//EN
CALSCALE:GREGORIAN
METHOD:PUBLISH
X-ORIGINAL-URL:https://glenelg.lutheran.org.au
X-WR-CALDESC:Events for Glenelg St Paul Congregation SA
REFRESH-INTERVAL;VALUE=DURATION:PT1H
X-Robots-Tag:noindex
X-PUBLISHED-TTL:PT1H
BEGIN:VTIMEZONE
TZID:Australia/Adelaide
BEGIN:STANDARD
TZOFFSETFROM:+1030
TZOFFSETTO:+0930
TZNAME:ACST
DTSTART:20280401T163000
END:STANDARD
BEGIN:DAYLIGHT
TZOFFSETFROM:+0930
TZOFFSETTO:+1030
TZNAME:ACDT
DTSTART:20280930T163000
END:DAYLIGHT
BEGIN:STANDARD
TZOFFSETFROM:+1030
TZOFFSETTO:+0930
TZNAME:ACST
DTSTART:20290331T163000
END:STANDARD
BEGIN:DAYLIGHT
TZOFFSETFROM:+0930
TZOFFSETTO:+1030
TZNAME:ACDT
DTSTART:20291006T163000
END:DAYLIGHT
BEGIN:STANDARD
TZOFFSETFROM:+1030
TZOFFSETTO:+0930
TZNAME:ACST
DTSTART:20300406T163000
END:STANDARD
BEGIN:DAYLIGHT
TZOFFSETFROM:+0930
TZOFFSETTO:+1030
TZNAME:ACDT
DTSTART:20301005T163000
END:DAYLIGHT
BEGIN:STANDARD
TZOFFSETFROM:+1030
TZOFFSETTO:+0930
TZNAME:ACST
DTSTART:20310405T163000
END:STANDARD
BEGIN:DAYLIGHT
TZOFFSETFROM:+0930
TZOFFSETTO:+1030
TZNAME:ACDT
DTSTART:20311004T163000
END:DAYLIGHT
END:VTIMEZONE
BEGIN:VEVENT
DTSTART;TZID=Australia/Adelaide:20290914T183000
DTEND;TZID=Australia/Adelaide:20290914T213000
DTSTAMP:20260424T124758
CREATED:20250122T011849Z
LAST-MODIFIED:20250701T023836Z
UID:10012662-1884105000-1884115800@glenelg.lutheran.org.au
SUMMARY:Youth\, Young Adults and Families
DESCRIPTION:St Paul’s Youth\, Young Adults and families meet once a month. The youth enjoy get-togethers on a Friday nights. It’s a great place to grow in faith and meet other Christian young people.
URL:https://glenelg.lutheran.org.au/event/youth-3/2029-09-14/
CATEGORIES:Activities,Events
ATTACH;FMTTYPE=image/jpeg:https://glenelg.lutheran.org.au/wp-content/uploads/2022/06/youth-group-st-pauls-2.jpg
END:VEVENT
BEGIN:VEVENT
DTSTART;TZID=Australia/Adelaide:20291012T183000
DTEND;TZID=Australia/Adelaide:20291012T213000
DTSTAMP:20260424T124758
CREATED:20250122T011849Z
LAST-MODIFIED:20250701T023836Z
UID:10012663-1886524200-1886535000@glenelg.lutheran.org.au
SUMMARY:Youth\, Young Adults and Families
DESCRIPTION:St Paul’s Youth\, Young Adults and families meet once a month. The youth enjoy get-togethers on a Friday nights. It’s a great place to grow in faith and meet other Christian young people.
URL:https://glenelg.lutheran.org.au/event/youth-3/2029-10-12/
CATEGORIES:Activities,Events
ATTACH;FMTTYPE=image/jpeg:https://glenelg.lutheran.org.au/wp-content/uploads/2022/06/youth-group-st-pauls-2.jpg
END:VEVENT
BEGIN:VEVENT
DTSTART;TZID=Australia/Adelaide:20291109T183000
DTEND;TZID=Australia/Adelaide:20291109T213000
DTSTAMP:20260424T124758
CREATED:20250122T011849Z
LAST-MODIFIED:20250701T023836Z
UID:10012664-1888943400-1888954200@glenelg.lutheran.org.au
SUMMARY:Youth\, Young Adults and Families
DESCRIPTION:St Paul’s Youth\, Young Adults and families meet once a month. The youth enjoy get-togethers on a Friday nights. It’s a great place to grow in faith and meet other Christian young people.
URL:https://glenelg.lutheran.org.au/event/youth-3/2029-11-09/
CATEGORIES:Activities,Events
ATTACH;FMTTYPE=image/jpeg:https://glenelg.lutheran.org.au/wp-content/uploads/2022/06/youth-group-st-pauls-2.jpg
END:VEVENT
BEGIN:VEVENT
DTSTART;TZID=Australia/Adelaide:20291214T183000
DTEND;TZID=Australia/Adelaide:20291214T213000
DTSTAMP:20260424T124758
CREATED:20250122T011849Z
LAST-MODIFIED:20250701T023836Z
UID:10012665-1891967400-1891978200@glenelg.lutheran.org.au
SUMMARY:Youth\, Young Adults and Families
DESCRIPTION:St Paul’s Youth\, Young Adults and families meet once a month. The youth enjoy get-togethers on a Friday nights. It’s a great place to grow in faith and meet other Christian young people.
URL:https://glenelg.lutheran.org.au/event/youth-3/2029-12-14/
CATEGORIES:Activities,Events
ATTACH;FMTTYPE=image/jpeg:https://glenelg.lutheran.org.au/wp-content/uploads/2022/06/youth-group-st-pauls-2.jpg
END:VEVENT
BEGIN:VEVENT
DTSTART;TZID=Australia/Adelaide:20300111T183000
DTEND;TZID=Australia/Adelaide:20300111T213000
DTSTAMP:20260424T124758
CREATED:20250122T011849Z
LAST-MODIFIED:20250701T023836Z
UID:10012666-1894386600-1894397400@glenelg.lutheran.org.au
SUMMARY:Youth\, Young Adults and Families
DESCRIPTION:St Paul’s Youth\, Young Adults and families meet once a month. The youth enjoy get-togethers on a Friday nights. It’s a great place to grow in faith and meet other Christian young people.
URL:https://glenelg.lutheran.org.au/event/youth-3/2030-01-11/
CATEGORIES:Activities,Events
ATTACH;FMTTYPE=image/jpeg:https://glenelg.lutheran.org.au/wp-content/uploads/2022/06/youth-group-st-pauls-2.jpg
END:VEVENT
END:VCALENDAR