BEGIN:VCALENDAR
VERSION:2.0
PRODID:-//Glenelg St Paul Congregation SA - ECPv6.15.14//NONSGML v1.0//EN
CALSCALE:GREGORIAN
METHOD:PUBLISH
X-WR-CALNAME:Glenelg St Paul Congregation SA
X-ORIGINAL-URL:https://glenelg.lutheran.org.au
X-WR-CALDESC:Events for Glenelg St Paul Congregation SA
REFRESH-INTERVAL;VALUE=DURATION:PT1H
X-Robots-Tag:noindex
X-PUBLISHED-TTL:PT1H
BEGIN:VTIMEZONE
TZID:Australia/Adelaide
BEGIN:STANDARD
TZOFFSETFROM:+1030
TZOFFSETTO:+0930
TZNAME:ACST
DTSTART:20250405T163000
END:STANDARD
BEGIN:DAYLIGHT
TZOFFSETFROM:+0930
TZOFFSETTO:+1030
TZNAME:ACDT
DTSTART:20251004T163000
END:DAYLIGHT
BEGIN:STANDARD
TZOFFSETFROM:+1030
TZOFFSETTO:+0930
TZNAME:ACST
DTSTART:20260404T163000
END:STANDARD
BEGIN:DAYLIGHT
TZOFFSETFROM:+0930
TZOFFSETTO:+1030
TZNAME:ACDT
DTSTART:20261003T163000
END:DAYLIGHT
BEGIN:STANDARD
TZOFFSETFROM:+1030
TZOFFSETTO:+0930
TZNAME:ACST
DTSTART:20270403T163000
END:STANDARD
BEGIN:DAYLIGHT
TZOFFSETFROM:+0930
TZOFFSETTO:+1030
TZNAME:ACDT
DTSTART:20271002T163000
END:DAYLIGHT
END:VTIMEZONE
BEGIN:VEVENT
DTSTART;TZID=Australia/Adelaide:20260427T110000
DTEND;TZID=Australia/Adelaide:20260427T140000
DTSTAMP:20260424T064928
CREATED:20211015T051830Z
LAST-MODIFIED:20260204T225045Z
UID:10001882-1777287600-1777298400@glenelg.lutheran.org.au
SUMMARY:Community Care
DESCRIPTION:St Paul’s Community Care ministry is a not-for-profit arm of the congregation that has been reaching out to the local community for decades. \n\n\n\n\n\n\nLocated in our church hall\, our Emergency Food Relief provides emergency food relief and basic toiletries. Hours of operation are Wednesday from 11.00pm to 2.00pm.
URL:https://glenelg.lutheran.org.au/event/community-care-op-shop-and-food-care/2026-04-27/
LOCATION:St Paul’s Hall
CATEGORIES:Activities,Events,Op shop and food relief
ATTACH;FMTTYPE=:
END:VEVENT
BEGIN:VEVENT
DTSTART;TZID=Australia/Adelaide:20260429T110000
DTEND;TZID=Australia/Adelaide:20260429T140000
DTSTAMP:20260424T064928
CREATED:20211015T051830Z
LAST-MODIFIED:20260204T225045Z
UID:10001883-1777460400-1777471200@glenelg.lutheran.org.au
SUMMARY:Community Care
DESCRIPTION:St Paul’s Community Care ministry is a not-for-profit arm of the congregation that has been reaching out to the local community for decades. \n\n\n\n\n\n\nLocated in our church hall\, our Emergency Food Relief provides emergency food relief and basic toiletries. Hours of operation are Wednesday from 11.00pm to 2.00pm.
URL:https://glenelg.lutheran.org.au/event/community-care-op-shop-and-food-care/2026-04-29/
LOCATION:St Paul’s Hall
CATEGORIES:Activities,Events,Op shop and food relief
ATTACH;FMTTYPE=:
END:VEVENT
BEGIN:VEVENT
DTSTART;TZID=Australia/Adelaide:20260504T110000
DTEND;TZID=Australia/Adelaide:20260504T140000
DTSTAMP:20260424T064928
CREATED:20211015T051830Z
LAST-MODIFIED:20260204T225045Z
UID:10001884-1777892400-1777903200@glenelg.lutheran.org.au
SUMMARY:Community Care
DESCRIPTION:St Paul’s Community Care ministry is a not-for-profit arm of the congregation that has been reaching out to the local community for decades. \n\n\n\n\n\n\nLocated in our church hall\, our Emergency Food Relief provides emergency food relief and basic toiletries. Hours of operation are Wednesday from 11.00pm to 2.00pm.
URL:https://glenelg.lutheran.org.au/event/community-care-op-shop-and-food-care/2026-05-04/
LOCATION:St Paul’s Hall
CATEGORIES:Activities,Events,Op shop and food relief
ATTACH;FMTTYPE=:
END:VEVENT
BEGIN:VEVENT
DTSTART;TZID=Australia/Adelaide:20260506T110000
DTEND;TZID=Australia/Adelaide:20260506T140000
DTSTAMP:20260424T064928
CREATED:20211015T051830Z
LAST-MODIFIED:20260204T225045Z
UID:10001885-1778065200-1778076000@glenelg.lutheran.org.au
SUMMARY:Community Care
DESCRIPTION:St Paul’s Community Care ministry is a not-for-profit arm of the congregation that has been reaching out to the local community for decades. \n\n\n\n\n\n\nLocated in our church hall\, our Emergency Food Relief provides emergency food relief and basic toiletries. Hours of operation are Wednesday from 11.00pm to 2.00pm.
URL:https://glenelg.lutheran.org.au/event/community-care-op-shop-and-food-care/2026-05-06/
LOCATION:St Paul’s Hall
CATEGORIES:Activities,Events,Op shop and food relief
ATTACH;FMTTYPE=:
END:VEVENT
BEGIN:VEVENT
DTSTART;TZID=Australia/Adelaide:20260511T110000
DTEND;TZID=Australia/Adelaide:20260511T140000
DTSTAMP:20260424T064928
CREATED:20211015T051830Z
LAST-MODIFIED:20260204T225045Z
UID:10001886-1778497200-1778508000@glenelg.lutheran.org.au
SUMMARY:Community Care
DESCRIPTION:St Paul’s Community Care ministry is a not-for-profit arm of the congregation that has been reaching out to the local community for decades. \n\n\n\n\n\n\nLocated in our church hall\, our Emergency Food Relief provides emergency food relief and basic toiletries. Hours of operation are Wednesday from 11.00pm to 2.00pm.
URL:https://glenelg.lutheran.org.au/event/community-care-op-shop-and-food-care/2026-05-11/
LOCATION:St Paul’s Hall
CATEGORIES:Activities,Events,Op shop and food relief
ATTACH;FMTTYPE=:
END:VEVENT
BEGIN:VEVENT
DTSTART;TZID=Australia/Adelaide:20260513T110000
DTEND;TZID=Australia/Adelaide:20260513T140000
DTSTAMP:20260424T064928
CREATED:20211015T051830Z
LAST-MODIFIED:20260204T225045Z
UID:10001887-1778670000-1778680800@glenelg.lutheran.org.au
SUMMARY:Community Care
DESCRIPTION:St Paul’s Community Care ministry is a not-for-profit arm of the congregation that has been reaching out to the local community for decades. \n\n\n\n\n\n\nLocated in our church hall\, our Emergency Food Relief provides emergency food relief and basic toiletries. Hours of operation are Wednesday from 11.00pm to 2.00pm.
URL:https://glenelg.lutheran.org.au/event/community-care-op-shop-and-food-care/2026-05-13/
LOCATION:St Paul’s Hall
CATEGORIES:Activities,Events,Op shop and food relief
ATTACH;FMTTYPE=:
END:VEVENT
BEGIN:VEVENT
DTSTART;TZID=Australia/Adelaide:20260518T110000
DTEND;TZID=Australia/Adelaide:20260518T140000
DTSTAMP:20260424T064928
CREATED:20211015T051830Z
LAST-MODIFIED:20260204T225045Z
UID:10001888-1779102000-1779112800@glenelg.lutheran.org.au
SUMMARY:Community Care
DESCRIPTION:St Paul’s Community Care ministry is a not-for-profit arm of the congregation that has been reaching out to the local community for decades. \n\n\n\n\n\n\nLocated in our church hall\, our Emergency Food Relief provides emergency food relief and basic toiletries. Hours of operation are Wednesday from 11.00pm to 2.00pm.
URL:https://glenelg.lutheran.org.au/event/community-care-op-shop-and-food-care/2026-05-18/
LOCATION:St Paul’s Hall
CATEGORIES:Activities,Events,Op shop and food relief
ATTACH;FMTTYPE=:
END:VEVENT
BEGIN:VEVENT
DTSTART;TZID=Australia/Adelaide:20260520T110000
DTEND;TZID=Australia/Adelaide:20260520T140000
DTSTAMP:20260424T064928
CREATED:20211015T051830Z
LAST-MODIFIED:20260204T225045Z
UID:10001889-1779274800-1779285600@glenelg.lutheran.org.au
SUMMARY:Community Care
DESCRIPTION:St Paul’s Community Care ministry is a not-for-profit arm of the congregation that has been reaching out to the local community for decades. \n\n\n\n\n\n\nLocated in our church hall\, our Emergency Food Relief provides emergency food relief and basic toiletries. Hours of operation are Wednesday from 11.00pm to 2.00pm.
URL:https://glenelg.lutheran.org.au/event/community-care-op-shop-and-food-care/2026-05-20/
LOCATION:St Paul’s Hall
CATEGORIES:Activities,Events,Op shop and food relief
ATTACH;FMTTYPE=:
END:VEVENT
BEGIN:VEVENT
DTSTART;TZID=Australia/Adelaide:20260525T110000
DTEND;TZID=Australia/Adelaide:20260525T140000
DTSTAMP:20260424T064928
CREATED:20211015T051830Z
LAST-MODIFIED:20260204T225045Z
UID:10001890-1779706800-1779717600@glenelg.lutheran.org.au
SUMMARY:Community Care
DESCRIPTION:St Paul’s Community Care ministry is a not-for-profit arm of the congregation that has been reaching out to the local community for decades. \n\n\n\n\n\n\nLocated in our church hall\, our Emergency Food Relief provides emergency food relief and basic toiletries. Hours of operation are Wednesday from 11.00pm to 2.00pm.
URL:https://glenelg.lutheran.org.au/event/community-care-op-shop-and-food-care/2026-05-25/
LOCATION:St Paul’s Hall
CATEGORIES:Activities,Events,Op shop and food relief
ATTACH;FMTTYPE=:
END:VEVENT
BEGIN:VEVENT
DTSTART;TZID=Australia/Adelaide:20260527T110000
DTEND;TZID=Australia/Adelaide:20260527T140000
DTSTAMP:20260424T064928
CREATED:20211015T051830Z
LAST-MODIFIED:20260204T225045Z
UID:10001891-1779879600-1779890400@glenelg.lutheran.org.au
SUMMARY:Community Care
DESCRIPTION:St Paul’s Community Care ministry is a not-for-profit arm of the congregation that has been reaching out to the local community for decades. \n\n\n\n\n\n\nLocated in our church hall\, our Emergency Food Relief provides emergency food relief and basic toiletries. Hours of operation are Wednesday from 11.00pm to 2.00pm.
URL:https://glenelg.lutheran.org.au/event/community-care-op-shop-and-food-care/2026-05-27/
LOCATION:St Paul’s Hall
CATEGORIES:Activities,Events,Op shop and food relief
ATTACH;FMTTYPE=:
END:VEVENT
BEGIN:VEVENT
DTSTART;TZID=Australia/Adelaide:20260601T110000
DTEND;TZID=Australia/Adelaide:20260601T140000
DTSTAMP:20260424T064928
CREATED:20211015T051830Z
LAST-MODIFIED:20260204T225045Z
UID:10001892-1780311600-1780322400@glenelg.lutheran.org.au
SUMMARY:Community Care
DESCRIPTION:St Paul’s Community Care ministry is a not-for-profit arm of the congregation that has been reaching out to the local community for decades. \n\n\n\n\n\n\nLocated in our church hall\, our Emergency Food Relief provides emergency food relief and basic toiletries. Hours of operation are Wednesday from 11.00pm to 2.00pm.
URL:https://glenelg.lutheran.org.au/event/community-care-op-shop-and-food-care/2026-06-01/
LOCATION:St Paul’s Hall
CATEGORIES:Activities,Events,Op shop and food relief
ATTACH;FMTTYPE=:
END:VEVENT
BEGIN:VEVENT
DTSTART;TZID=Australia/Adelaide:20260603T110000
DTEND;TZID=Australia/Adelaide:20260603T140000
DTSTAMP:20260424T064928
CREATED:20211015T051830Z
LAST-MODIFIED:20260204T225045Z
UID:10001893-1780484400-1780495200@glenelg.lutheran.org.au
SUMMARY:Community Care
DESCRIPTION:St Paul’s Community Care ministry is a not-for-profit arm of the congregation that has been reaching out to the local community for decades. \n\n\n\n\n\n\nLocated in our church hall\, our Emergency Food Relief provides emergency food relief and basic toiletries. Hours of operation are Wednesday from 11.00pm to 2.00pm.
URL:https://glenelg.lutheran.org.au/event/community-care-op-shop-and-food-care/2026-06-03/
LOCATION:St Paul’s Hall
CATEGORIES:Activities,Events,Op shop and food relief
ATTACH;FMTTYPE=:
END:VEVENT
BEGIN:VEVENT
DTSTART;TZID=Australia/Adelaide:20260608T110000
DTEND;TZID=Australia/Adelaide:20260608T140000
DTSTAMP:20260424T064928
CREATED:20211015T051830Z
LAST-MODIFIED:20260204T225045Z
UID:10001894-1780916400-1780927200@glenelg.lutheran.org.au
SUMMARY:Community Care
DESCRIPTION:St Paul’s Community Care ministry is a not-for-profit arm of the congregation that has been reaching out to the local community for decades. \n\n\n\n\n\n\nLocated in our church hall\, our Emergency Food Relief provides emergency food relief and basic toiletries. Hours of operation are Wednesday from 11.00pm to 2.00pm.
URL:https://glenelg.lutheran.org.au/event/community-care-op-shop-and-food-care/2026-06-08/
LOCATION:St Paul’s Hall
CATEGORIES:Activities,Events,Op shop and food relief
ATTACH;FMTTYPE=:
END:VEVENT
BEGIN:VEVENT
DTSTART;TZID=Australia/Adelaide:20260610T110000
DTEND;TZID=Australia/Adelaide:20260610T140000
DTSTAMP:20260424T064928
CREATED:20211015T051830Z
LAST-MODIFIED:20260204T225045Z
UID:10001895-1781089200-1781100000@glenelg.lutheran.org.au
SUMMARY:Community Care
DESCRIPTION:St Paul’s Community Care ministry is a not-for-profit arm of the congregation that has been reaching out to the local community for decades. \n\n\n\n\n\n\nLocated in our church hall\, our Emergency Food Relief provides emergency food relief and basic toiletries. Hours of operation are Wednesday from 11.00pm to 2.00pm.
URL:https://glenelg.lutheran.org.au/event/community-care-op-shop-and-food-care/2026-06-10/
LOCATION:St Paul’s Hall
CATEGORIES:Activities,Events,Op shop and food relief
ATTACH;FMTTYPE=:
END:VEVENT
BEGIN:VEVENT
DTSTART;TZID=Australia/Adelaide:20260615T110000
DTEND;TZID=Australia/Adelaide:20260615T140000
DTSTAMP:20260424T064928
CREATED:20211015T051830Z
LAST-MODIFIED:20260204T225045Z
UID:10001896-1781521200-1781532000@glenelg.lutheran.org.au
SUMMARY:Community Care
DESCRIPTION:St Paul’s Community Care ministry is a not-for-profit arm of the congregation that has been reaching out to the local community for decades. \n\n\n\n\n\n\nLocated in our church hall\, our Emergency Food Relief provides emergency food relief and basic toiletries. Hours of operation are Wednesday from 11.00pm to 2.00pm.
URL:https://glenelg.lutheran.org.au/event/community-care-op-shop-and-food-care/2026-06-15/
LOCATION:St Paul’s Hall
CATEGORIES:Activities,Events,Op shop and food relief
ATTACH;FMTTYPE=:
END:VEVENT
BEGIN:VEVENT
DTSTART;TZID=Australia/Adelaide:20260617T110000
DTEND;TZID=Australia/Adelaide:20260617T140000
DTSTAMP:20260424T064928
CREATED:20211015T051830Z
LAST-MODIFIED:20260204T225045Z
UID:10001897-1781694000-1781704800@glenelg.lutheran.org.au
SUMMARY:Community Care
DESCRIPTION:St Paul’s Community Care ministry is a not-for-profit arm of the congregation that has been reaching out to the local community for decades. \n\n\n\n\n\n\nLocated in our church hall\, our Emergency Food Relief provides emergency food relief and basic toiletries. Hours of operation are Wednesday from 11.00pm to 2.00pm.
URL:https://glenelg.lutheran.org.au/event/community-care-op-shop-and-food-care/2026-06-17/
LOCATION:St Paul’s Hall
CATEGORIES:Activities,Events,Op shop and food relief
ATTACH;FMTTYPE=:
END:VEVENT
BEGIN:VEVENT
DTSTART;TZID=Australia/Adelaide:20260622T110000
DTEND;TZID=Australia/Adelaide:20260622T140000
DTSTAMP:20260424T064928
CREATED:20211015T051830Z
LAST-MODIFIED:20260204T225045Z
UID:10001898-1782126000-1782136800@glenelg.lutheran.org.au
SUMMARY:Community Care
DESCRIPTION:St Paul’s Community Care ministry is a not-for-profit arm of the congregation that has been reaching out to the local community for decades. \n\n\n\n\n\n\nLocated in our church hall\, our Emergency Food Relief provides emergency food relief and basic toiletries. Hours of operation are Wednesday from 11.00pm to 2.00pm.
URL:https://glenelg.lutheran.org.au/event/community-care-op-shop-and-food-care/2026-06-22/
LOCATION:St Paul’s Hall
CATEGORIES:Activities,Events,Op shop and food relief
ATTACH;FMTTYPE=:
END:VEVENT
BEGIN:VEVENT
DTSTART;TZID=Australia/Adelaide:20260624T110000
DTEND;TZID=Australia/Adelaide:20260624T140000
DTSTAMP:20260424T064928
CREATED:20211015T051830Z
LAST-MODIFIED:20260204T225045Z
UID:10001899-1782298800-1782309600@glenelg.lutheran.org.au
SUMMARY:Community Care
DESCRIPTION:St Paul’s Community Care ministry is a not-for-profit arm of the congregation that has been reaching out to the local community for decades. \n\n\n\n\n\n\nLocated in our church hall\, our Emergency Food Relief provides emergency food relief and basic toiletries. Hours of operation are Wednesday from 11.00pm to 2.00pm.
URL:https://glenelg.lutheran.org.au/event/community-care-op-shop-and-food-care/2026-06-24/
LOCATION:St Paul’s Hall
CATEGORIES:Activities,Events,Op shop and food relief
ATTACH;FMTTYPE=:
END:VEVENT
BEGIN:VEVENT
DTSTART;TZID=Australia/Adelaide:20260629T110000
DTEND;TZID=Australia/Adelaide:20260629T140000
DTSTAMP:20260424T064928
CREATED:20211015T051830Z
LAST-MODIFIED:20260204T225045Z
UID:10001900-1782730800-1782741600@glenelg.lutheran.org.au
SUMMARY:Community Care
DESCRIPTION:St Paul’s Community Care ministry is a not-for-profit arm of the congregation that has been reaching out to the local community for decades. \n\n\n\n\n\n\nLocated in our church hall\, our Emergency Food Relief provides emergency food relief and basic toiletries. Hours of operation are Wednesday from 11.00pm to 2.00pm.
URL:https://glenelg.lutheran.org.au/event/community-care-op-shop-and-food-care/2026-06-29/
LOCATION:St Paul’s Hall
CATEGORIES:Activities,Events,Op shop and food relief
ATTACH;FMTTYPE=:
END:VEVENT
BEGIN:VEVENT
DTSTART;TZID=Australia/Adelaide:20260701T110000
DTEND;TZID=Australia/Adelaide:20260701T140000
DTSTAMP:20260424T064928
CREATED:20211015T051830Z
LAST-MODIFIED:20260204T225045Z
UID:10001901-1782903600-1782914400@glenelg.lutheran.org.au
SUMMARY:Community Care
DESCRIPTION:St Paul’s Community Care ministry is a not-for-profit arm of the congregation that has been reaching out to the local community for decades. \n\n\n\n\n\n\nLocated in our church hall\, our Emergency Food Relief provides emergency food relief and basic toiletries. Hours of operation are Wednesday from 11.00pm to 2.00pm.
URL:https://glenelg.lutheran.org.au/event/community-care-op-shop-and-food-care/2026-07-01/
LOCATION:St Paul’s Hall
CATEGORIES:Activities,Events,Op shop and food relief
ATTACH;FMTTYPE=:
END:VEVENT
BEGIN:VEVENT
DTSTART;TZID=Australia/Adelaide:20260706T110000
DTEND;TZID=Australia/Adelaide:20260706T140000
DTSTAMP:20260424T064928
CREATED:20211015T051830Z
LAST-MODIFIED:20260204T225045Z
UID:10001902-1783335600-1783346400@glenelg.lutheran.org.au
SUMMARY:Community Care
DESCRIPTION:St Paul’s Community Care ministry is a not-for-profit arm of the congregation that has been reaching out to the local community for decades. \n\n\n\n\n\n\nLocated in our church hall\, our Emergency Food Relief provides emergency food relief and basic toiletries. Hours of operation are Wednesday from 11.00pm to 2.00pm.
URL:https://glenelg.lutheran.org.au/event/community-care-op-shop-and-food-care/2026-07-06/
LOCATION:St Paul’s Hall
CATEGORIES:Activities,Events,Op shop and food relief
ATTACH;FMTTYPE=:
END:VEVENT
BEGIN:VEVENT
DTSTART;TZID=Australia/Adelaide:20260708T110000
DTEND;TZID=Australia/Adelaide:20260708T140000
DTSTAMP:20260424T064928
CREATED:20211015T051830Z
LAST-MODIFIED:20260204T225045Z
UID:10001903-1783508400-1783519200@glenelg.lutheran.org.au
SUMMARY:Community Care
DESCRIPTION:St Paul’s Community Care ministry is a not-for-profit arm of the congregation that has been reaching out to the local community for decades. \n\n\n\n\n\n\nLocated in our church hall\, our Emergency Food Relief provides emergency food relief and basic toiletries. Hours of operation are Wednesday from 11.00pm to 2.00pm.
URL:https://glenelg.lutheran.org.au/event/community-care-op-shop-and-food-care/2026-07-08/
LOCATION:St Paul’s Hall
CATEGORIES:Activities,Events,Op shop and food relief
ATTACH;FMTTYPE=:
END:VEVENT
BEGIN:VEVENT
DTSTART;TZID=Australia/Adelaide:20260713T110000
DTEND;TZID=Australia/Adelaide:20260713T140000
DTSTAMP:20260424T064928
CREATED:20211015T051830Z
LAST-MODIFIED:20260204T225045Z
UID:10001904-1783940400-1783951200@glenelg.lutheran.org.au
SUMMARY:Community Care
DESCRIPTION:St Paul’s Community Care ministry is a not-for-profit arm of the congregation that has been reaching out to the local community for decades. \n\n\n\n\n\n\nLocated in our church hall\, our Emergency Food Relief provides emergency food relief and basic toiletries. Hours of operation are Wednesday from 11.00pm to 2.00pm.
URL:https://glenelg.lutheran.org.au/event/community-care-op-shop-and-food-care/2026-07-13/
LOCATION:St Paul’s Hall
CATEGORIES:Activities,Events,Op shop and food relief
ATTACH;FMTTYPE=:
END:VEVENT
BEGIN:VEVENT
DTSTART;TZID=Australia/Adelaide:20260715T110000
DTEND;TZID=Australia/Adelaide:20260715T140000
DTSTAMP:20260424T064928
CREATED:20211015T051830Z
LAST-MODIFIED:20260204T225045Z
UID:10001905-1784113200-1784124000@glenelg.lutheran.org.au
SUMMARY:Community Care
DESCRIPTION:St Paul’s Community Care ministry is a not-for-profit arm of the congregation that has been reaching out to the local community for decades. \n\n\n\n\n\n\nLocated in our church hall\, our Emergency Food Relief provides emergency food relief and basic toiletries. Hours of operation are Wednesday from 11.00pm to 2.00pm.
URL:https://glenelg.lutheran.org.au/event/community-care-op-shop-and-food-care/2026-07-15/
LOCATION:St Paul’s Hall
CATEGORIES:Activities,Events,Op shop and food relief
ATTACH;FMTTYPE=:
END:VEVENT
BEGIN:VEVENT
DTSTART;TZID=Australia/Adelaide:20260720T110000
DTEND;TZID=Australia/Adelaide:20260720T140000
DTSTAMP:20260424T064928
CREATED:20211015T051830Z
LAST-MODIFIED:20260204T225045Z
UID:10001906-1784545200-1784556000@glenelg.lutheran.org.au
SUMMARY:Community Care
DESCRIPTION:St Paul’s Community Care ministry is a not-for-profit arm of the congregation that has been reaching out to the local community for decades. \n\n\n\n\n\n\nLocated in our church hall\, our Emergency Food Relief provides emergency food relief and basic toiletries. Hours of operation are Wednesday from 11.00pm to 2.00pm.
URL:https://glenelg.lutheran.org.au/event/community-care-op-shop-and-food-care/2026-07-20/
LOCATION:St Paul’s Hall
CATEGORIES:Activities,Events,Op shop and food relief
ATTACH;FMTTYPE=:
END:VEVENT
BEGIN:VEVENT
DTSTART;TZID=Australia/Adelaide:20260722T110000
DTEND;TZID=Australia/Adelaide:20260722T140000
DTSTAMP:20260424T064928
CREATED:20211015T051830Z
LAST-MODIFIED:20260204T225045Z
UID:10001907-1784718000-1784728800@glenelg.lutheran.org.au
SUMMARY:Community Care
DESCRIPTION:St Paul’s Community Care ministry is a not-for-profit arm of the congregation that has been reaching out to the local community for decades. \n\n\n\n\n\n\nLocated in our church hall\, our Emergency Food Relief provides emergency food relief and basic toiletries. Hours of operation are Wednesday from 11.00pm to 2.00pm.
URL:https://glenelg.lutheran.org.au/event/community-care-op-shop-and-food-care/2026-07-22/
LOCATION:St Paul’s Hall
CATEGORIES:Activities,Events,Op shop and food relief
ATTACH;FMTTYPE=:
END:VEVENT
BEGIN:VEVENT
DTSTART;TZID=Australia/Adelaide:20260727T110000
DTEND;TZID=Australia/Adelaide:20260727T140000
DTSTAMP:20260424T064928
CREATED:20211015T051830Z
LAST-MODIFIED:20260204T225045Z
UID:10001908-1785150000-1785160800@glenelg.lutheran.org.au
SUMMARY:Community Care
DESCRIPTION:St Paul’s Community Care ministry is a not-for-profit arm of the congregation that has been reaching out to the local community for decades. \n\n\n\n\n\n\nLocated in our church hall\, our Emergency Food Relief provides emergency food relief and basic toiletries. Hours of operation are Wednesday from 11.00pm to 2.00pm.
URL:https://glenelg.lutheran.org.au/event/community-care-op-shop-and-food-care/2026-07-27/
LOCATION:St Paul’s Hall
CATEGORIES:Activities,Events,Op shop and food relief
ATTACH;FMTTYPE=:
END:VEVENT
BEGIN:VEVENT
DTSTART;TZID=Australia/Adelaide:20260729T110000
DTEND;TZID=Australia/Adelaide:20260729T140000
DTSTAMP:20260424T064928
CREATED:20211015T051830Z
LAST-MODIFIED:20260204T225045Z
UID:10001909-1785322800-1785333600@glenelg.lutheran.org.au
SUMMARY:Community Care
DESCRIPTION:St Paul’s Community Care ministry is a not-for-profit arm of the congregation that has been reaching out to the local community for decades. \n\n\n\n\n\n\nLocated in our church hall\, our Emergency Food Relief provides emergency food relief and basic toiletries. Hours of operation are Wednesday from 11.00pm to 2.00pm.
URL:https://glenelg.lutheran.org.au/event/community-care-op-shop-and-food-care/2026-07-29/
LOCATION:St Paul’s Hall
CATEGORIES:Activities,Events,Op shop and food relief
ATTACH;FMTTYPE=:
END:VEVENT
BEGIN:VEVENT
DTSTART;TZID=Australia/Adelaide:20260803T110000
DTEND;TZID=Australia/Adelaide:20260803T140000
DTSTAMP:20260424T064928
CREATED:20211015T051830Z
LAST-MODIFIED:20260204T225045Z
UID:10001910-1785754800-1785765600@glenelg.lutheran.org.au
SUMMARY:Community Care
DESCRIPTION:St Paul’s Community Care ministry is a not-for-profit arm of the congregation that has been reaching out to the local community for decades. \n\n\n\n\n\n\nLocated in our church hall\, our Emergency Food Relief provides emergency food relief and basic toiletries. Hours of operation are Wednesday from 11.00pm to 2.00pm.
URL:https://glenelg.lutheran.org.au/event/community-care-op-shop-and-food-care/2026-08-03/
LOCATION:St Paul’s Hall
CATEGORIES:Activities,Events,Op shop and food relief
ATTACH;FMTTYPE=:
END:VEVENT
BEGIN:VEVENT
DTSTART;TZID=Australia/Adelaide:20260805T110000
DTEND;TZID=Australia/Adelaide:20260805T140000
DTSTAMP:20260424T064928
CREATED:20211015T051830Z
LAST-MODIFIED:20260204T225045Z
UID:10001911-1785927600-1785938400@glenelg.lutheran.org.au
SUMMARY:Community Care
DESCRIPTION:St Paul’s Community Care ministry is a not-for-profit arm of the congregation that has been reaching out to the local community for decades. \n\n\n\n\n\n\nLocated in our church hall\, our Emergency Food Relief provides emergency food relief and basic toiletries. Hours of operation are Wednesday from 11.00pm to 2.00pm.
URL:https://glenelg.lutheran.org.au/event/community-care-op-shop-and-food-care/2026-08-05/
LOCATION:St Paul’s Hall
CATEGORIES:Activities,Events,Op shop and food relief
ATTACH;FMTTYPE=:
END:VEVENT
END:VCALENDAR