BEGIN:VCALENDAR
VERSION:2.0
PRODID:-//Glenelg St Paul Congregation SA - ECPv6.15.14//NONSGML v1.0//EN
CALSCALE:GREGORIAN
METHOD:PUBLISH
X-ORIGINAL-URL:https://glenelg.lutheran.org.au
X-WR-CALDESC:Events for Glenelg St Paul Congregation SA
REFRESH-INTERVAL;VALUE=DURATION:PT1H
X-Robots-Tag:noindex
X-PUBLISHED-TTL:PT1H
BEGIN:VTIMEZONE
TZID:Australia/Adelaide
BEGIN:STANDARD
TZOFFSETFROM:+1030
TZOFFSETTO:+0930
TZNAME:ACST
DTSTART:20250405T163000
END:STANDARD
BEGIN:DAYLIGHT
TZOFFSETFROM:+0930
TZOFFSETTO:+1030
TZNAME:ACDT
DTSTART:20251004T163000
END:DAYLIGHT
BEGIN:STANDARD
TZOFFSETFROM:+1030
TZOFFSETTO:+0930
TZNAME:ACST
DTSTART:20260404T163000
END:STANDARD
BEGIN:DAYLIGHT
TZOFFSETFROM:+0930
TZOFFSETTO:+1030
TZNAME:ACDT
DTSTART:20261003T163000
END:DAYLIGHT
BEGIN:STANDARD
TZOFFSETFROM:+1030
TZOFFSETTO:+0930
TZNAME:ACST
DTSTART:20270403T163000
END:STANDARD
BEGIN:DAYLIGHT
TZOFFSETFROM:+0930
TZOFFSETTO:+1030
TZNAME:ACDT
DTSTART:20271002T163000
END:DAYLIGHT
END:VTIMEZONE
BEGIN:VEVENT
DTSTART;TZID=Australia/Adelaide:20260810T110000
DTEND;TZID=Australia/Adelaide:20260810T140000
DTSTAMP:20260424T113024
CREATED:20211015T051830Z
LAST-MODIFIED:20260204T225045Z
UID:10001912-1786359600-1786370400@glenelg.lutheran.org.au
SUMMARY:Community Care
DESCRIPTION:St Paul’s Community Care ministry is a not-for-profit arm of the congregation that has been reaching out to the local community for decades. \n\n\n\n\n\n\nLocated in our church hall\, our Emergency Food Relief provides emergency food relief and basic toiletries. Hours of operation are Wednesday from 11.00pm to 2.00pm.
URL:https://glenelg.lutheran.org.au/event/community-care-op-shop-and-food-care/2026-08-10/
LOCATION:St Paul’s Hall
CATEGORIES:Activities,Events,Op shop and food relief
ATTACH;FMTTYPE=:
END:VEVENT
BEGIN:VEVENT
DTSTART;TZID=Australia/Adelaide:20260812T110000
DTEND;TZID=Australia/Adelaide:20260812T140000
DTSTAMP:20260424T113024
CREATED:20211015T051830Z
LAST-MODIFIED:20260204T225045Z
UID:10001913-1786532400-1786543200@glenelg.lutheran.org.au
SUMMARY:Community Care
DESCRIPTION:St Paul’s Community Care ministry is a not-for-profit arm of the congregation that has been reaching out to the local community for decades. \n\n\n\n\n\n\nLocated in our church hall\, our Emergency Food Relief provides emergency food relief and basic toiletries. Hours of operation are Wednesday from 11.00pm to 2.00pm.
URL:https://glenelg.lutheran.org.au/event/community-care-op-shop-and-food-care/2026-08-12/
LOCATION:St Paul’s Hall
CATEGORIES:Activities,Events,Op shop and food relief
ATTACH;FMTTYPE=:
END:VEVENT
BEGIN:VEVENT
DTSTART;TZID=Australia/Adelaide:20260817T110000
DTEND;TZID=Australia/Adelaide:20260817T140000
DTSTAMP:20260424T113024
CREATED:20211015T051830Z
LAST-MODIFIED:20260204T225045Z
UID:10001914-1786964400-1786975200@glenelg.lutheran.org.au
SUMMARY:Community Care
DESCRIPTION:St Paul’s Community Care ministry is a not-for-profit arm of the congregation that has been reaching out to the local community for decades. \n\n\n\n\n\n\nLocated in our church hall\, our Emergency Food Relief provides emergency food relief and basic toiletries. Hours of operation are Wednesday from 11.00pm to 2.00pm.
URL:https://glenelg.lutheran.org.au/event/community-care-op-shop-and-food-care/2026-08-17/
LOCATION:St Paul’s Hall
CATEGORIES:Activities,Events,Op shop and food relief
ATTACH;FMTTYPE=:
END:VEVENT
BEGIN:VEVENT
DTSTART;TZID=Australia/Adelaide:20260819T110000
DTEND;TZID=Australia/Adelaide:20260819T140000
DTSTAMP:20260424T113024
CREATED:20211015T051830Z
LAST-MODIFIED:20260204T225045Z
UID:10001915-1787137200-1787148000@glenelg.lutheran.org.au
SUMMARY:Community Care
DESCRIPTION:St Paul’s Community Care ministry is a not-for-profit arm of the congregation that has been reaching out to the local community for decades. \n\n\n\n\n\n\nLocated in our church hall\, our Emergency Food Relief provides emergency food relief and basic toiletries. Hours of operation are Wednesday from 11.00pm to 2.00pm.
URL:https://glenelg.lutheran.org.au/event/community-care-op-shop-and-food-care/2026-08-19/
LOCATION:St Paul’s Hall
CATEGORIES:Activities,Events,Op shop and food relief
ATTACH;FMTTYPE=:
END:VEVENT
BEGIN:VEVENT
DTSTART;TZID=Australia/Adelaide:20260824T110000
DTEND;TZID=Australia/Adelaide:20260824T140000
DTSTAMP:20260424T113024
CREATED:20211015T051830Z
LAST-MODIFIED:20260204T225045Z
UID:10001916-1787569200-1787580000@glenelg.lutheran.org.au
SUMMARY:Community Care
DESCRIPTION:St Paul’s Community Care ministry is a not-for-profit arm of the congregation that has been reaching out to the local community for decades. \n\n\n\n\n\n\nLocated in our church hall\, our Emergency Food Relief provides emergency food relief and basic toiletries. Hours of operation are Wednesday from 11.00pm to 2.00pm.
URL:https://glenelg.lutheran.org.au/event/community-care-op-shop-and-food-care/2026-08-24/
LOCATION:St Paul’s Hall
CATEGORIES:Activities,Events,Op shop and food relief
ATTACH;FMTTYPE=:
END:VEVENT
BEGIN:VEVENT
DTSTART;TZID=Australia/Adelaide:20260826T110000
DTEND;TZID=Australia/Adelaide:20260826T140000
DTSTAMP:20260424T113024
CREATED:20211015T051830Z
LAST-MODIFIED:20260204T225045Z
UID:10001917-1787742000-1787752800@glenelg.lutheran.org.au
SUMMARY:Community Care
DESCRIPTION:St Paul’s Community Care ministry is a not-for-profit arm of the congregation that has been reaching out to the local community for decades. \n\n\n\n\n\n\nLocated in our church hall\, our Emergency Food Relief provides emergency food relief and basic toiletries. Hours of operation are Wednesday from 11.00pm to 2.00pm.
URL:https://glenelg.lutheran.org.au/event/community-care-op-shop-and-food-care/2026-08-26/
LOCATION:St Paul’s Hall
CATEGORIES:Activities,Events,Op shop and food relief
ATTACH;FMTTYPE=:
END:VEVENT
BEGIN:VEVENT
DTSTART;TZID=Australia/Adelaide:20260831T110000
DTEND;TZID=Australia/Adelaide:20260831T140000
DTSTAMP:20260424T113024
CREATED:20211015T051830Z
LAST-MODIFIED:20260204T225045Z
UID:10001918-1788174000-1788184800@glenelg.lutheran.org.au
SUMMARY:Community Care
DESCRIPTION:St Paul’s Community Care ministry is a not-for-profit arm of the congregation that has been reaching out to the local community for decades. \n\n\n\n\n\n\nLocated in our church hall\, our Emergency Food Relief provides emergency food relief and basic toiletries. Hours of operation are Wednesday from 11.00pm to 2.00pm.
URL:https://glenelg.lutheran.org.au/event/community-care-op-shop-and-food-care/2026-08-31/
LOCATION:St Paul’s Hall
CATEGORIES:Activities,Events,Op shop and food relief
ATTACH;FMTTYPE=:
END:VEVENT
BEGIN:VEVENT
DTSTART;TZID=Australia/Adelaide:20260902T110000
DTEND;TZID=Australia/Adelaide:20260902T140000
DTSTAMP:20260424T113024
CREATED:20211015T051830Z
LAST-MODIFIED:20260204T225045Z
UID:10001919-1788346800-1788357600@glenelg.lutheran.org.au
SUMMARY:Community Care
DESCRIPTION:St Paul’s Community Care ministry is a not-for-profit arm of the congregation that has been reaching out to the local community for decades. \n\n\n\n\n\n\nLocated in our church hall\, our Emergency Food Relief provides emergency food relief and basic toiletries. Hours of operation are Wednesday from 11.00pm to 2.00pm.
URL:https://glenelg.lutheran.org.au/event/community-care-op-shop-and-food-care/2026-09-02/
LOCATION:St Paul’s Hall
CATEGORIES:Activities,Events,Op shop and food relief
ATTACH;FMTTYPE=:
END:VEVENT
BEGIN:VEVENT
DTSTART;TZID=Australia/Adelaide:20260907T110000
DTEND;TZID=Australia/Adelaide:20260907T140000
DTSTAMP:20260424T113024
CREATED:20211015T051830Z
LAST-MODIFIED:20260204T225045Z
UID:10001920-1788778800-1788789600@glenelg.lutheran.org.au
SUMMARY:Community Care
DESCRIPTION:St Paul’s Community Care ministry is a not-for-profit arm of the congregation that has been reaching out to the local community for decades. \n\n\n\n\n\n\nLocated in our church hall\, our Emergency Food Relief provides emergency food relief and basic toiletries. Hours of operation are Wednesday from 11.00pm to 2.00pm.
URL:https://glenelg.lutheran.org.au/event/community-care-op-shop-and-food-care/2026-09-07/
LOCATION:St Paul’s Hall
CATEGORIES:Activities,Events,Op shop and food relief
ATTACH;FMTTYPE=:
END:VEVENT
BEGIN:VEVENT
DTSTART;TZID=Australia/Adelaide:20260909T110000
DTEND;TZID=Australia/Adelaide:20260909T140000
DTSTAMP:20260424T113024
CREATED:20211015T051830Z
LAST-MODIFIED:20260204T225045Z
UID:10001921-1788951600-1788962400@glenelg.lutheran.org.au
SUMMARY:Community Care
DESCRIPTION:St Paul’s Community Care ministry is a not-for-profit arm of the congregation that has been reaching out to the local community for decades. \n\n\n\n\n\n\nLocated in our church hall\, our Emergency Food Relief provides emergency food relief and basic toiletries. Hours of operation are Wednesday from 11.00pm to 2.00pm.
URL:https://glenelg.lutheran.org.au/event/community-care-op-shop-and-food-care/2026-09-09/
LOCATION:St Paul’s Hall
CATEGORIES:Activities,Events,Op shop and food relief
ATTACH;FMTTYPE=:
END:VEVENT
BEGIN:VEVENT
DTSTART;TZID=Australia/Adelaide:20260914T110000
DTEND;TZID=Australia/Adelaide:20260914T140000
DTSTAMP:20260424T113024
CREATED:20211015T051830Z
LAST-MODIFIED:20260204T225045Z
UID:10001922-1789383600-1789394400@glenelg.lutheran.org.au
SUMMARY:Community Care
DESCRIPTION:St Paul’s Community Care ministry is a not-for-profit arm of the congregation that has been reaching out to the local community for decades. \n\n\n\n\n\n\nLocated in our church hall\, our Emergency Food Relief provides emergency food relief and basic toiletries. Hours of operation are Wednesday from 11.00pm to 2.00pm.
URL:https://glenelg.lutheran.org.au/event/community-care-op-shop-and-food-care/2026-09-14/
LOCATION:St Paul’s Hall
CATEGORIES:Activities,Events,Op shop and food relief
ATTACH;FMTTYPE=:
END:VEVENT
BEGIN:VEVENT
DTSTART;TZID=Australia/Adelaide:20260916T110000
DTEND;TZID=Australia/Adelaide:20260916T140000
DTSTAMP:20260424T113024
CREATED:20211015T051830Z
LAST-MODIFIED:20260204T225045Z
UID:10001923-1789556400-1789567200@glenelg.lutheran.org.au
SUMMARY:Community Care
DESCRIPTION:St Paul’s Community Care ministry is a not-for-profit arm of the congregation that has been reaching out to the local community for decades. \n\n\n\n\n\n\nLocated in our church hall\, our Emergency Food Relief provides emergency food relief and basic toiletries. Hours of operation are Wednesday from 11.00pm to 2.00pm.
URL:https://glenelg.lutheran.org.au/event/community-care-op-shop-and-food-care/2026-09-16/
LOCATION:St Paul’s Hall
CATEGORIES:Activities,Events,Op shop and food relief
ATTACH;FMTTYPE=:
END:VEVENT
BEGIN:VEVENT
DTSTART;TZID=Australia/Adelaide:20260921T110000
DTEND;TZID=Australia/Adelaide:20260921T140000
DTSTAMP:20260424T113024
CREATED:20211015T051830Z
LAST-MODIFIED:20260204T225045Z
UID:10001924-1789988400-1789999200@glenelg.lutheran.org.au
SUMMARY:Community Care
DESCRIPTION:St Paul’s Community Care ministry is a not-for-profit arm of the congregation that has been reaching out to the local community for decades. \n\n\n\n\n\n\nLocated in our church hall\, our Emergency Food Relief provides emergency food relief and basic toiletries. Hours of operation are Wednesday from 11.00pm to 2.00pm.
URL:https://glenelg.lutheran.org.au/event/community-care-op-shop-and-food-care/2026-09-21/
LOCATION:St Paul’s Hall
CATEGORIES:Activities,Events,Op shop and food relief
ATTACH;FMTTYPE=:
END:VEVENT
BEGIN:VEVENT
DTSTART;TZID=Australia/Adelaide:20260923T110000
DTEND;TZID=Australia/Adelaide:20260923T140000
DTSTAMP:20260424T113024
CREATED:20211015T051830Z
LAST-MODIFIED:20260204T225045Z
UID:10001925-1790161200-1790172000@glenelg.lutheran.org.au
SUMMARY:Community Care
DESCRIPTION:St Paul’s Community Care ministry is a not-for-profit arm of the congregation that has been reaching out to the local community for decades. \n\n\n\n\n\n\nLocated in our church hall\, our Emergency Food Relief provides emergency food relief and basic toiletries. Hours of operation are Wednesday from 11.00pm to 2.00pm.
URL:https://glenelg.lutheran.org.au/event/community-care-op-shop-and-food-care/2026-09-23/
LOCATION:St Paul’s Hall
CATEGORIES:Activities,Events,Op shop and food relief
ATTACH;FMTTYPE=:
END:VEVENT
BEGIN:VEVENT
DTSTART;TZID=Australia/Adelaide:20260928T110000
DTEND;TZID=Australia/Adelaide:20260928T140000
DTSTAMP:20260424T113025
CREATED:20211015T051830Z
LAST-MODIFIED:20260204T225045Z
UID:10001926-1790593200-1790604000@glenelg.lutheran.org.au
SUMMARY:Community Care
DESCRIPTION:St Paul’s Community Care ministry is a not-for-profit arm of the congregation that has been reaching out to the local community for decades. \n\n\n\n\n\n\nLocated in our church hall\, our Emergency Food Relief provides emergency food relief and basic toiletries. Hours of operation are Wednesday from 11.00pm to 2.00pm.
URL:https://glenelg.lutheran.org.au/event/community-care-op-shop-and-food-care/2026-09-28/
LOCATION:St Paul’s Hall
CATEGORIES:Activities,Events,Op shop and food relief
ATTACH;FMTTYPE=:
END:VEVENT
BEGIN:VEVENT
DTSTART;TZID=Australia/Adelaide:20260930T110000
DTEND;TZID=Australia/Adelaide:20260930T140000
DTSTAMP:20260424T113025
CREATED:20211015T051830Z
LAST-MODIFIED:20260204T225045Z
UID:10001927-1790766000-1790776800@glenelg.lutheran.org.au
SUMMARY:Community Care
DESCRIPTION:St Paul’s Community Care ministry is a not-for-profit arm of the congregation that has been reaching out to the local community for decades. \n\n\n\n\n\n\nLocated in our church hall\, our Emergency Food Relief provides emergency food relief and basic toiletries. Hours of operation are Wednesday from 11.00pm to 2.00pm.
URL:https://glenelg.lutheran.org.au/event/community-care-op-shop-and-food-care/2026-09-30/
LOCATION:St Paul’s Hall
CATEGORIES:Activities,Events,Op shop and food relief
ATTACH;FMTTYPE=:
END:VEVENT
BEGIN:VEVENT
DTSTART;TZID=Australia/Adelaide:20261005T110000
DTEND;TZID=Australia/Adelaide:20261005T140000
DTSTAMP:20260424T113025
CREATED:20211015T051830Z
LAST-MODIFIED:20260204T225045Z
UID:10001928-1791198000-1791208800@glenelg.lutheran.org.au
SUMMARY:Community Care
DESCRIPTION:St Paul’s Community Care ministry is a not-for-profit arm of the congregation that has been reaching out to the local community for decades. \n\n\n\n\n\n\nLocated in our church hall\, our Emergency Food Relief provides emergency food relief and basic toiletries. Hours of operation are Wednesday from 11.00pm to 2.00pm.
URL:https://glenelg.lutheran.org.au/event/community-care-op-shop-and-food-care/2026-10-05/
LOCATION:St Paul’s Hall
CATEGORIES:Activities,Events,Op shop and food relief
ATTACH;FMTTYPE=:
END:VEVENT
BEGIN:VEVENT
DTSTART;TZID=Australia/Adelaide:20261007T110000
DTEND;TZID=Australia/Adelaide:20261007T140000
DTSTAMP:20260424T113025
CREATED:20211015T051830Z
LAST-MODIFIED:20260204T225045Z
UID:10001929-1791370800-1791381600@glenelg.lutheran.org.au
SUMMARY:Community Care
DESCRIPTION:St Paul’s Community Care ministry is a not-for-profit arm of the congregation that has been reaching out to the local community for decades. \n\n\n\n\n\n\nLocated in our church hall\, our Emergency Food Relief provides emergency food relief and basic toiletries. Hours of operation are Wednesday from 11.00pm to 2.00pm.
URL:https://glenelg.lutheran.org.au/event/community-care-op-shop-and-food-care/2026-10-07/
LOCATION:St Paul’s Hall
CATEGORIES:Activities,Events,Op shop and food relief
ATTACH;FMTTYPE=:
END:VEVENT
BEGIN:VEVENT
DTSTART;TZID=Australia/Adelaide:20261012T110000
DTEND;TZID=Australia/Adelaide:20261012T140000
DTSTAMP:20260424T113025
CREATED:20211015T051830Z
LAST-MODIFIED:20260204T225045Z
UID:10001930-1791802800-1791813600@glenelg.lutheran.org.au
SUMMARY:Community Care
DESCRIPTION:St Paul’s Community Care ministry is a not-for-profit arm of the congregation that has been reaching out to the local community for decades. \n\n\n\n\n\n\nLocated in our church hall\, our Emergency Food Relief provides emergency food relief and basic toiletries. Hours of operation are Wednesday from 11.00pm to 2.00pm.
URL:https://glenelg.lutheran.org.au/event/community-care-op-shop-and-food-care/2026-10-12/
LOCATION:St Paul’s Hall
CATEGORIES:Activities,Events,Op shop and food relief
ATTACH;FMTTYPE=:
END:VEVENT
BEGIN:VEVENT
DTSTART;TZID=Australia/Adelaide:20261014T110000
DTEND;TZID=Australia/Adelaide:20261014T140000
DTSTAMP:20260424T113025
CREATED:20211015T051830Z
LAST-MODIFIED:20260204T225045Z
UID:10001931-1791975600-1791986400@glenelg.lutheran.org.au
SUMMARY:Community Care
DESCRIPTION:St Paul’s Community Care ministry is a not-for-profit arm of the congregation that has been reaching out to the local community for decades. \n\n\n\n\n\n\nLocated in our church hall\, our Emergency Food Relief provides emergency food relief and basic toiletries. Hours of operation are Wednesday from 11.00pm to 2.00pm.
URL:https://glenelg.lutheran.org.au/event/community-care-op-shop-and-food-care/2026-10-14/
LOCATION:St Paul’s Hall
CATEGORIES:Activities,Events,Op shop and food relief
ATTACH;FMTTYPE=:
END:VEVENT
BEGIN:VEVENT
DTSTART;TZID=Australia/Adelaide:20261019T110000
DTEND;TZID=Australia/Adelaide:20261019T140000
DTSTAMP:20260424T113025
CREATED:20211015T051830Z
LAST-MODIFIED:20260204T225045Z
UID:10001932-1792407600-1792418400@glenelg.lutheran.org.au
SUMMARY:Community Care
DESCRIPTION:St Paul’s Community Care ministry is a not-for-profit arm of the congregation that has been reaching out to the local community for decades. \n\n\n\n\n\n\nLocated in our church hall\, our Emergency Food Relief provides emergency food relief and basic toiletries. Hours of operation are Wednesday from 11.00pm to 2.00pm.
URL:https://glenelg.lutheran.org.au/event/community-care-op-shop-and-food-care/2026-10-19/
LOCATION:St Paul’s Hall
CATEGORIES:Activities,Events,Op shop and food relief
ATTACH;FMTTYPE=:
END:VEVENT
BEGIN:VEVENT
DTSTART;TZID=Australia/Adelaide:20261021T110000
DTEND;TZID=Australia/Adelaide:20261021T140000
DTSTAMP:20260424T113025
CREATED:20211015T051830Z
LAST-MODIFIED:20260204T225045Z
UID:10001933-1792580400-1792591200@glenelg.lutheran.org.au
SUMMARY:Community Care
DESCRIPTION:St Paul’s Community Care ministry is a not-for-profit arm of the congregation that has been reaching out to the local community for decades. \n\n\n\n\n\n\nLocated in our church hall\, our Emergency Food Relief provides emergency food relief and basic toiletries. Hours of operation are Wednesday from 11.00pm to 2.00pm.
URL:https://glenelg.lutheran.org.au/event/community-care-op-shop-and-food-care/2026-10-21/
LOCATION:St Paul’s Hall
CATEGORIES:Activities,Events,Op shop and food relief
ATTACH;FMTTYPE=:
END:VEVENT
BEGIN:VEVENT
DTSTART;TZID=Australia/Adelaide:20261026T110000
DTEND;TZID=Australia/Adelaide:20261026T140000
DTSTAMP:20260424T113025
CREATED:20211015T051830Z
LAST-MODIFIED:20260204T225045Z
UID:10001934-1793012400-1793023200@glenelg.lutheran.org.au
SUMMARY:Community Care
DESCRIPTION:St Paul’s Community Care ministry is a not-for-profit arm of the congregation that has been reaching out to the local community for decades. \n\n\n\n\n\n\nLocated in our church hall\, our Emergency Food Relief provides emergency food relief and basic toiletries. Hours of operation are Wednesday from 11.00pm to 2.00pm.
URL:https://glenelg.lutheran.org.au/event/community-care-op-shop-and-food-care/2026-10-26/
LOCATION:St Paul’s Hall
CATEGORIES:Activities,Events,Op shop and food relief
ATTACH;FMTTYPE=:
END:VEVENT
BEGIN:VEVENT
DTSTART;TZID=Australia/Adelaide:20261028T110000
DTEND;TZID=Australia/Adelaide:20261028T140000
DTSTAMP:20260424T113025
CREATED:20211015T051830Z
LAST-MODIFIED:20260204T225045Z
UID:10001935-1793185200-1793196000@glenelg.lutheran.org.au
SUMMARY:Community Care
DESCRIPTION:St Paul’s Community Care ministry is a not-for-profit arm of the congregation that has been reaching out to the local community for decades. \n\n\n\n\n\n\nLocated in our church hall\, our Emergency Food Relief provides emergency food relief and basic toiletries. Hours of operation are Wednesday from 11.00pm to 2.00pm.
URL:https://glenelg.lutheran.org.au/event/community-care-op-shop-and-food-care/2026-10-28/
LOCATION:St Paul’s Hall
CATEGORIES:Activities,Events,Op shop and food relief
ATTACH;FMTTYPE=:
END:VEVENT
BEGIN:VEVENT
DTSTART;TZID=Australia/Adelaide:20261102T110000
DTEND;TZID=Australia/Adelaide:20261102T140000
DTSTAMP:20260424T113025
CREATED:20211015T051830Z
LAST-MODIFIED:20260204T225045Z
UID:10001936-1793617200-1793628000@glenelg.lutheran.org.au
SUMMARY:Community Care
DESCRIPTION:St Paul’s Community Care ministry is a not-for-profit arm of the congregation that has been reaching out to the local community for decades. \n\n\n\n\n\n\nLocated in our church hall\, our Emergency Food Relief provides emergency food relief and basic toiletries. Hours of operation are Wednesday from 11.00pm to 2.00pm.
URL:https://glenelg.lutheran.org.au/event/community-care-op-shop-and-food-care/2026-11-02/
LOCATION:St Paul’s Hall
CATEGORIES:Activities,Events,Op shop and food relief
ATTACH;FMTTYPE=:
END:VEVENT
BEGIN:VEVENT
DTSTART;TZID=Australia/Adelaide:20261104T110000
DTEND;TZID=Australia/Adelaide:20261104T140000
DTSTAMP:20260424T113025
CREATED:20211015T051830Z
LAST-MODIFIED:20260204T225045Z
UID:10001937-1793790000-1793800800@glenelg.lutheran.org.au
SUMMARY:Community Care
DESCRIPTION:St Paul’s Community Care ministry is a not-for-profit arm of the congregation that has been reaching out to the local community for decades. \n\n\n\n\n\n\nLocated in our church hall\, our Emergency Food Relief provides emergency food relief and basic toiletries. Hours of operation are Wednesday from 11.00pm to 2.00pm.
URL:https://glenelg.lutheran.org.au/event/community-care-op-shop-and-food-care/2026-11-04/
LOCATION:St Paul’s Hall
CATEGORIES:Activities,Events,Op shop and food relief
ATTACH;FMTTYPE=:
END:VEVENT
BEGIN:VEVENT
DTSTART;TZID=Australia/Adelaide:20261109T110000
DTEND;TZID=Australia/Adelaide:20261109T140000
DTSTAMP:20260424T113025
CREATED:20211015T051830Z
LAST-MODIFIED:20260204T225045Z
UID:10001938-1794222000-1794232800@glenelg.lutheran.org.au
SUMMARY:Community Care
DESCRIPTION:St Paul’s Community Care ministry is a not-for-profit arm of the congregation that has been reaching out to the local community for decades. \n\n\n\n\n\n\nLocated in our church hall\, our Emergency Food Relief provides emergency food relief and basic toiletries. Hours of operation are Wednesday from 11.00pm to 2.00pm.
URL:https://glenelg.lutheran.org.au/event/community-care-op-shop-and-food-care/2026-11-09/
LOCATION:St Paul’s Hall
CATEGORIES:Activities,Events,Op shop and food relief
ATTACH;FMTTYPE=:
END:VEVENT
BEGIN:VEVENT
DTSTART;TZID=Australia/Adelaide:20261111T110000
DTEND;TZID=Australia/Adelaide:20261111T140000
DTSTAMP:20260424T113025
CREATED:20211015T051830Z
LAST-MODIFIED:20260204T225045Z
UID:10001939-1794394800-1794405600@glenelg.lutheran.org.au
SUMMARY:Community Care
DESCRIPTION:St Paul’s Community Care ministry is a not-for-profit arm of the congregation that has been reaching out to the local community for decades. \n\n\n\n\n\n\nLocated in our church hall\, our Emergency Food Relief provides emergency food relief and basic toiletries. Hours of operation are Wednesday from 11.00pm to 2.00pm.
URL:https://glenelg.lutheran.org.au/event/community-care-op-shop-and-food-care/2026-11-11/
LOCATION:St Paul’s Hall
CATEGORIES:Activities,Events,Op shop and food relief
ATTACH;FMTTYPE=:
END:VEVENT
BEGIN:VEVENT
DTSTART;TZID=Australia/Adelaide:20261116T110000
DTEND;TZID=Australia/Adelaide:20261116T140000
DTSTAMP:20260424T113025
CREATED:20211015T051830Z
LAST-MODIFIED:20260204T225045Z
UID:10001940-1794826800-1794837600@glenelg.lutheran.org.au
SUMMARY:Community Care
DESCRIPTION:St Paul’s Community Care ministry is a not-for-profit arm of the congregation that has been reaching out to the local community for decades. \n\n\n\n\n\n\nLocated in our church hall\, our Emergency Food Relief provides emergency food relief and basic toiletries. Hours of operation are Wednesday from 11.00pm to 2.00pm.
URL:https://glenelg.lutheran.org.au/event/community-care-op-shop-and-food-care/2026-11-16/
LOCATION:St Paul’s Hall
CATEGORIES:Activities,Events,Op shop and food relief
ATTACH;FMTTYPE=:
END:VEVENT
BEGIN:VEVENT
DTSTART;TZID=Australia/Adelaide:20261118T110000
DTEND;TZID=Australia/Adelaide:20261118T140000
DTSTAMP:20260424T113025
CREATED:20211015T051830Z
LAST-MODIFIED:20260204T225045Z
UID:10001941-1794999600-1795010400@glenelg.lutheran.org.au
SUMMARY:Community Care
DESCRIPTION:St Paul’s Community Care ministry is a not-for-profit arm of the congregation that has been reaching out to the local community for decades. \n\n\n\n\n\n\nLocated in our church hall\, our Emergency Food Relief provides emergency food relief and basic toiletries. Hours of operation are Wednesday from 11.00pm to 2.00pm.
URL:https://glenelg.lutheran.org.au/event/community-care-op-shop-and-food-care/2026-11-18/
LOCATION:St Paul’s Hall
CATEGORIES:Activities,Events,Op shop and food relief
ATTACH;FMTTYPE=:
END:VEVENT
END:VCALENDAR